Workbook

Sheet PP001-Niño
A1: MENSUAL | G1: 1.1.1. SUB PRODUCTO 3325110: FAMILIAS CON NIÑOS(AS) MENORES DE 36 MESES Y GESTANTES RECIBEN SESIONES DEMOSTRATIVAS EN PREPARACION DE ALIMENTOS | BG1: 1.1.2. SUB PRODUCTO 3325107: FAMILIAS CON NIÑOS (AS) MENORES DE 24 MESES QUE RECIBEN CONSEJERIA A TRAVES DE LA VISITA DOMICILIARIA | CW1: 1.1.3.SUB PRODUCTO 3325112: FAMILIAS CON NIÑOS (AS) MENORES DE 12 MESES Y GESTANTES QUE RECIBEN ACOMPAÑAMIENTO A TRAVES DE LAS SESIONES DE GRUPOS DE APOYO COMUNAL | EM1: 1.2.1. COMITES MULTISECTORIALES CAPACITADOS PARA LA PROMOCIÓN DEL CUIDADO INFANTIL, LACTANCIA MATERNA EXCLUSIVA Y LA ADECUADA ALIMENTACIÓN Y PROTECCIÓN DEL MENOR DE 36 MESES EN SU DISTRITO | FM1: 1.2.2 ACTORES SOCIALES CAPACITADOS PARA LA PROMOCIÓN DEL CUIDADO INFANTIL, LACTANCIA MATERNA EXCLUSIVA Y LA ADECUADA ALIMENTACIÓN Y PROTECCIÓN DEL MENOR DE 36 MESES DEL DISTRITO. | HQ1: 1.2.3. SUB PRODUCTO 3325108: PROMOTORES EDUCATIVOS CAPACITADOS PARA LA PROMOCIÓN DEL CUIDADO INFANTIL, LACTANCIA MATERNA EXCLUSIVA Y LA ADECUADA ALIMENTACIÓN Y PROTECCIÓN DEL MENOR DE 36 MESES DEL DISTRITO
A2: AÑO | B2: MES | C2: DISTRITO | D2: MICRORED | E2: Código RENAES | F2: Departamento, Red, Provincia, Distrito y Establecimiento | G2: 1.1 En familias con niñas y niños menores de 36 meses | S2: 1.2 Sesiones Demostrativas a Gestantes. seguido de la fecha de ultima regla | AA2: 1.3 Cuando la Sesion Demostrativa se recalice en Centros de Promocion y Vigilancia Comunal | AQ2: 1.4 Cuando la Sesion Demostrativa sea Promovida Por El Gobierno Local | BG2: 2.1.Familias con niños (as) menores de 12 meses | CW2: 3.1. REUNION DE COORDINACION - IMPLEMENTACION REGISTRO Nº 16 | DA2: TALLER DE CAPACITACIÓN REGISTRO Nº 17 Y 18 | DO2: ASISTENCIA TECNICA REGISTRO Nº 19 | DS2: FUNCIONAMIENTO DE LOS GRUPOS DE APOYO REGISTRO Nº 20 | EI2: MONITOREO REGISTRO Nº 21 | EM2: REUNIONES REGISTRO Nº 22, 23, 24 Y 25 | EU2: AISTENCIA TECNICA REGISTRO Nº 26 | FI2: EVALUACION Y MONITOREO REGISTRO Nº 27 Y 28 | FM2: REUNIONES REGISTRO Nº 29 | FQ2: TALLER DE CAPACITACION A LOS AGENTES COMUNTARIOS REGISTRO Nº 30 Y 31 | FU2: Taller de capacitación a los actores sociales en protocolo de visitas domiciliarias en la promoción de prácticas saludables para el cuidado materno infantil, prevención y control de la anemia. REGISTRO Nº 32 | HC2: Revisión y validación de formatos de visitas X ACTOR SOCIAL REGISTRO Nº 33 | HF2: verificaciones con resultado Positivo y/o no se pudo verificar. REGISTRO Nº 34 | HI2: Registro de verificaciones con resultado Negativo: | HK2: Rechazo de las visitas domiciliarias realizadas por los actores sociales | HM2: Monitoreo y acompañamiento por parte del personal de salud al actor social durante el desarrollo de la V.D. REGISTRO Nº 35 | HQ2: REUNIONES REGISTRO Nº 36 Y 37. | HU2: SESIONES EDUCATIVAS REGISTRO Nº 38
BG3: Recien Nacido REGISTRO Nº 08 | BW3: LACTANCIA MATERNO REGISTRO Nº 10 | CA3: Entre 4 a 5 meses SIN AMENIA REGISTRO Nº 11 | CE3: Entre 6 a 12 meses SIN AMENIA REGISTRO Nº 12 Y 13 | CK3: Entre 6 a 12 meses CON AMENIA REGISTRO Nº 14 Y 15
G4: Familias participantes según edades de los niños y niñas | M4: Familias participantes según edades de los niños y niñas, REGISTRO Nº 01 | S4: GESTANTE (NORMA/RIESGO) | W4: GESTANTE (NORMA/RIESGO) REGISTRO Nº 02 | AA4: Familias participantes según edades de los niños y niñas | AF4: GESTANTE (NORMA/RIESGO) | AI4: Familias participantes según edades de los niños y niñas REGISTRO Nº 03 | AN4: GESTANTE (NORMA/RIESGO) REGISTRO Nº 04 | AQ4: Familias participantes según edades de los niños y niñas | AV4: GESTANTE (NORMA/RIESGO) | AY4: Familias participantes según edades de los niños y niñas REGISTRO Nº 05 | BD4: GESTANTE (NORMA/RIESGO) REGISTRO Nº 6 | BG4: Consejeria en lactancia Materna exclusiva | BK4: Consejeria en Corte y cuidado del cordon umbilical | BO4: Consejeria en Higiene del recien nacido y cuidado en el hogar | BS4: Consejeria en Identificacion de signos de alarma | BW4: 2 y 3 meses LACTANCIA MATERNA | CA4: Consejeria en Suplementacion con Hierro | CE4: Consejeria en Suplementacion con Hierro | CK4: Consejeria en Tratamiento de la Anemia | CW4: 1: Implementación de grupos de apoyo | CY4: 2: Reactivación o continuidad de grupos de apoyo | DA4: Sesión 1 | DC4: Sesión 2 | DE4: Sesión 3 | DG4: Sesión 4 | DI4: Sesión 5 | DK4: Sesión 6 | DM4: Sesión 7 | DO4: 1º Asistencia Tecnica | DS4: Sesión 1 | DW4: Ssesion 2 | EA4: Sesion 3 | EE4: Sesion 4 | EI4: Reunion 1 | EK4: Reunion 2 | EM4: Reunion de coordinacion con la Municipalidad | EO4: Reunion tecnica con la Municipalidad para la conformacion del comité Multisectorila | EQ4: Reunion de socializacion de la informacion para el analisis de anemia y DCI | ES4: Taller de planificacion para la elaboracion del plan de trabajo Multisectorial para contribuir en la reducion de la anemia y DCI en el distrito | EU4: Sala situacion Municipal | EW4: Implementacion de politicas publicas (Ordenanzas municipales) | EY4: Implementacion de visitas domiciliarias por actores sociales para la prevención, reducción y control de anemia y desnutrición infantil. | FA4: Programacion multianual y formulacion anual del presupuesto en PAN | FC4: Actualización y homologación del padrón nominal del menor de 6 años. | FE4: Implementación y funcionamiento de los CPVC | FG4: Implementación y funcionamiento de los EPSJ | FI4: Reunion de monitoreo 1 | FJ4: Reunion de monitoreo 2 | FK4: Reunion de evaluacion | FM4: Reunion de coordinacion con la comunidad | FO4: Reunion de coordinacion con la municipalidad | FQ4: Vigilancia Comunitaria | FS4: Sesiones demostrativas de preparacion de alimentos | FU4: * SIEMPRE APP138 para Agentes Comunitarios de Salud 1º casillero Sesión educativa (C0009) En el casillero Lab 1: registrar el número de actores sociales participantes En el casillero Lab 2 y Lab 3: registrar la temática del taller de capacitación, según corresponda En el 2º casillero Taller para Municipios (C0004) | HC4: APP138 CON EL CODIGO (C7004) + Lab 1: registre el número de fichas revisadas + Lab 2: registre el número de fichas validadas + Lab 3: registrar el número la sigla “GL” | HF4: APP138 con DX (C7002) Lab 1: número de niños y gestantes a ser verificados según aplicativo de visitas domiciliarias. Lab 2: registrar el número de niños y gestantes verificados con resultado Positivo y/o no se pudo verificar. Lab 3: registrar el número la sigla “GL” | HI4: DNI del niño(o) o gestante con codigo (C7002) Lab 1: registrar siempre la sigla “GL” Lab 2: registre la letra “N” de verificación negativa | HK4: DNI del niño(o) o gestante con codigo (C7001) + Lab 1: registrar siempre la sigla “GL” + Lab 2: registre la letra “REC” de rechazo de la VD por AS | HM4: APP138 con el DX. (C7001) + Lab 1: registrar el número de actores de sociales con acompañamiento en el mes, Lab 2: registrar el número de visita con acompañamiento 1 ó 2 según corresponda, Lab 3: registrar el número la sigla “GL” | HQ4: Reunion de coordinacion con la Red Educativa/Coordinacion Educativa (COE) de la UGEL | HS4: Reunion de concertacion con Red Educativa/COE (UGEL), para socializar la situacion de anemia y DCI y establecer la capacitacion | HU4: Importancia de los servicios basicos de la salud | HW4: Alimentacion complementaria con enfasis en el consumo de AOA | HY4: Alimentacion responsiva
G5: Lactancia Materna Exclusiva | M5: Preparación de alimentos | S5: Lactancia Materna Exclusiva | W5: Preparación de alimentos | AA5: Lactancia Materna Exclusiva | AI5: Preparación de alimentos | AQ5: Lactancia Materna Exclusiva | AY5: Preparación de alimentos | BG5: VISITA DOMICILIARIA MENORES DE 28 | BI5: TELESALUD MENORES DE 28 DIAS | BK5: VISITA DOMICILIARIA MENORES DE 28 | BM5: TELESALUD MENORES DE 28 DIAS | BO5: VISITA DOMICILIARIA MENORES DE 28 | BQ5: TELESALUD MENORES DE 28 DIAS | BS5: VISITA DOMICILIARIA MENORES DE 28 | BU5: TELESALUD MENORES DE 28 DIAS | BW5: VISITA DOMICILIARIA 1ER MOMENTO | BY5: TELESALUD | CA5: VISITA DOMICILIARIA 2DO MOMENTO | CC5: TELESALUD | CE5: VISITA DOMICILIARIA | CH5: TELESALUD | CK5: VISITA DOMICILIARIA | CQ5: TELESALUD | DA5: LME | DC5: LME | DE5: LME | DG5: LME | DI5: ALI | DK5: ALI | DM5: ALI | DO5: LME | DQ5: ALI | DS5: LME | DU5: ALI | DW5: LME | DY5: ALI | EA5: LME | EC5: ALI | EE5: LME | EG5: ALI | FM5: APP108 (ACTIVIDADES CON COMUNIDAD), CODIGO C0003 (REUNION CON COMUNIDAD), Lab.1 (NUMERO DE PARTICIPANTES) + lab.2(COO) + lab.3(001)"PROGRAMA DE ARTICULADO NUTRICIONAL"/ tipo de diagnostico es la D (DEFINITIVO) REGISTRO N°30 | FO5: APP104 (ACTIVIDADES CON MUNICIPIOS), CODIGO C0003 (REUNION CON COMUNIDAD), Lab.1 (NUMERO DE PARTICIPANTES) + lab.2(COO) + lab.3(001)"PROGRAMA DE ARTICULADO NUTRICIONAL"/ tipo de diagnostico es la D (DEFINITIVO) REGISTRO N°30 | FQ5: APP138 (ACTIVIDADES AGENTES COMUNITARIOS DE SALUD), CODIGO C0009 (SESION EDUCATIVA), Lab.1 (NUMERO DE PARTICIPANTES) + lab.2(VCO) + lab.3(001)"PROGRAMA DE ARTICULADO NUTRICIONAL"/ tipo de diagnostico es la D (DEFINITIVO) REGISTRO N°31 | FS5: APP138 (ACTIVIDADES AGENTES COMUNITARIOS DE SALUD), CODIGO C0010 (SESION DEMOSTRATIVA), Lab.1 (NUMERO DE PARTICIPANTES) + lab.2(ALI) + lab.3(001)"PROGRAMA DE ARTICULADO NUTRICIONAL"/ tipo de diagnostico es la D (DEFINITIVO) REGISTRO N°32 | FU5: Diagnóstico, prevención y tratamiento de anemia | FY5: Lactancia Materna Exclusiva o Prolongada | GC5: Alimentación, nutrición y cuidado infantil | GG5: Importancia de los servicios básicos de salud | GK5: El juego y la atención temprana | GM5: Cuidado de la gestante | HQ5: APP93 (ACTIVIDAD CON INSTITUCIONES EDUCATIVAS), CODIGO C0002 (REUNION EN INSTITUCIONES EDUCATIVAS), Lab.1 (NUMERO DE PARTICIPANTES) + lab.2(COO) + lab.3(001)"PROGRAMA DE ARTICULADO NUTRICIONAL"/ tipo de diagnostico es la D (DEFINITIVO) | HS5: APP93 (ACTIVIDAD CON INSTITUCIONES EDUCATIVAS), CODIGO C0002 (REUNION EN INSTITUCIONES EDUCATIVAS), Lab.1 (NUMERO DE PARTICIPANTES) + lab.2(FCO) + lab.3(001)"PROGRAMA DE ARTICULADO NUTRICIONAL"/ tipo de diagnostico es la D (DEFINITIVO) | HU5: APP144 (ACTIVIDAD CON DOCENTES), CODIGO C0009 SESION EDUCATIVA), Lab.1 (NUMERO DE PARTICIPANTES) + lab.2(SBS) + lab.3(001)"PROGRAMA DE ARTICULADO NUTRICIONAL"/ tipo de diagnostico es la D (DEFINITIVO) | HW5: APP144 (ACTIVIDAD CON DOCENTES), CODIGO C0009 SESION EDUCATIVA), Lab.1 (NUMERO DE PARTICIPANTES) + lab.2(ALI) + lab.3(001)"PROGRAMA DE ARTICULADO NUTRICIONAL"/ tipo de diagnostico es la D (DEFINITIVO) | HY5: APP144 (ACTIVIDAD CON DOCENTES), CODIGO C0009 SESION EDUCATIVA), Lab.1 (NUMERO DE PARTICIPANTES) + lab.2(AA) + lab.3(001)"PROGRAMA DE ARTICULADO NUTRICIONAL"/ tipo de diagnostico es la D (DEFINITIVO)
G6: Total de Participantes | H6: RN | I6: 1 - 5 meses | J6: 6 - 8 meses | K6: 9 - 11 meses | L6: S/D | M6: Total de Participantes | N6: RN | O6: 1 - 5 meses | P6: 6 - 8 meses | Q6: 9 - 11 meses | R6: S/D | S6: Total de Participantes | T6: I TRIMESTRE | U6: II TRIMESTRE | V6: III TRIMESTRE | W6: Total de Participantes | X6: I TRIMESTRE | Y6: II TRIMESTRE | Z6: III TRIMESTRE | AA6: RN | AB6: 1 - 5 meses | AC6: 6 - 8 meses | AD6: 9 - 11 meses | AE6: S/D | AF6: I TRIMESTRE | AG6: II TRIMESTRE | AH6: III TRIMESTRE | AI6: RN | AJ6: 1 - 5 meses | AK6: 6 - 8 meses | AL6: 9 - 11 meses | AM6: S/D | AN6: I TRIMESTRE | AO6: II TRIMESTRE | AP6: III TRIMESTRE | AQ6: RN | AR6: 1 - 5 meses | AS6: 6 - 8 meses | AT6: 9 - 11 meses | AU6: S/D | AV6: I TRIMESTRE | AW6: II TRIMESTRE | AX6: III TRIMESTRE | AY6: RN | AZ6: 1 - 5 meses | BA6: 6 - 8 meses | BB6: 9 - 11 meses | BC6: S/D | BD6: I TRIMESTRE | BE6: II TRIMESTRE | BF6: III TRIMESTRE | BG6: DX1=99401.03 "CONSEJERIA DE LACTANCIA MATERNA EXLUSIVA" DX2=C0011 "VISITA FAMILIAR INTEGRAL" | BI6: DX1=99401.03 "CONSEJERIA DE LACTANCIA MATERNA EXLUSIVA" DX2=99499.08 "TELEORIENTACION" | BK6: DX1=99401.04 "CONSEJERIA CORTE Y CUIDADO DEL CORDON UMBILICAL" DX2=C0011 "VISITA FAMILIAR INTEGRAL" | BM6: DX1=99401.04 "CONSEJERIA DE LACTANCIA MATERNA EXLUSIVA" DX2=99499.08 "TELEORIENTACION" | BO6: DX1=99401.10 "CONSEJERIA EN HIGIENE DEL RECIEN NACIDO Y CUIDADO EN EL HOGAR" DX2=C0011 "VISITA FAMILIAR INTEGRAL" | BQ6: DX1=99401.10 "CONSEJERIA DE LACTANCIA MATERNA EXLUSIVA" DX2=99499.08 "TELEORIENTACION" | BS6: DX1=99401.08 "CONSEJERIA DE IDENTIFICACIÓN DE SIGNOS DE ALARMA" DX2=C0011 "VISITA FAMILIAR INTEGRAL" | BU6: DX1=99401.08 "CONSEJERIA DE LACTANCIA MATERNA EXLUSIVA" DX2=99499.08 "TELEORIENTACION" | BW6: DX1=99401 "CONSEJERIA INTEGRAL " DIAG="D" LAB="EN BLANCO" DX2=C0011 "VISITA FAMILIAR INTEGRAL" DIAG="D" LAB="EN BLANCO" | BY6: DX1=99401 "CONSEJERIA INTEGRAL " DIAG="D" LAB="EN BLANCO" | CA6: En la 1° Fila: 99199.17 (suplementación preventiva) En la 2° Fila: 99401 (Consejería Integral)En la 3° Fila: C0011: (Visita familiar integral) | CC6: DX1=99401 "CONSEJERIA INTEGRAL " DIAG="D" LAB="EN BLANCO" DX2=99499.08 "TELEORIENTACION" DIAG="D" LAB="EN BLANCO" | CE6: DX1=99401 "CONSEJERIA INTEGRAL " DIAG="D" LAB="EN BLANCO" DX2=C0011 "VISITA FAMILIAR INTEGRAL" DIAG="D" LAB="EN BLANCO" | CH6: DX1=99401 "CONSEJERIA INTEGRAL " DIAG="D" LAB="EN BLANCO" DX2=99499.08 "VISITA FAMILIAR INTEGRAL" DIAG="D" LAB="EN BLANCO" | CK6: PRIMER CODIGO ES D509 "ANEMIA" DIAGNOSTICO="R" LAB="LEV,SEV,MOD(SEGÚN CORRESPONDA)" SEGUNDO CODIGO ES 99401 "CONSEJERIA INTEGRAL " DIAG="D" LAB="EN BLANCO" TERCER CODIGO ES C0011 "VISITA FAMILIAR INTEGRAL" DIAG= "D"LAB="EN BLANCO" | CQ6: PRIMER CODIGO ES D509 "ANEMIA" DIAGNOSTICO="R" LAB="LEV,SEV,MOD(SEGÚN CORRESPONDA)" SEGUNDO CODIGO ES 99401 "CONSEJERIA INTEGRAL " DIAG="D" LAB="EN BLANCO" TERCER CODIGO ES 99499.08 "TELEORIENTACION" DIAG= "D"LAB="EN BLANCO" | CW6: APP108 (ACTIVIDAD CON LA COMUNIDAD), CODIGO C0003 (REUNION EN COMUNIDAD), Lab.1 ( NÚMERO DE PARTICIPANTES), Lab.2 (1)"Implementación de grupos de apoyo"+lab.3(001)"PROGRAMA DE ARTICULADO NUTRICIONAL"/ tipoo de diagnostico es la D (DEFINITIVO) REGISTRO N°17 | CY6: APP108 (ACTIVIDAD CON LA COMUNIDAD), CODIGO C0003 (REUNION EN COMUNIDAD), Lab.1 ( NÚMERO DE PARTICIPANTES), Lab.2 (2)"Reactivación o continuidad de grupos de apoyo"+lab.3(001)"PROGRAMA DE ARTICULADO NUTRICIONAL"/ tipoo de diagnostico es la D (DEFINITIVO) REGISTRO N°17 | DA6: APP151 (ACTIVIDADES CON MUJERES), CODIGO C0009 (SESION EDUCATIVA), Lab.1 ( NÚMERO DE PARTICIPANTES), Lab.2 (NÚMERO DE SESIÓN "1,2,3 O 4")+lab.3(001)"PROGRAMA DE ARTICULADO NUTRICIONAL"/ tipoo de diagnostico es la D (DEFINITIVO) REGISTRO N°18 | DI6: APP151 (ACTIVIDADES CON MUJERES), CODIGO C0009 (SESION EDUCATIVA), Lab.1 ( NÚMERO DE PARTICIPANTES), Lab.2 (NÚMERO DE SESIÓN "5,6 O 7")+lab.3(001)"PROGRAMA DE ARTICULADO NUTRICIONAL"/ tipoo de diagnostico es la D (DEFINITIVO) | DO6: APP151 (ACTIVIDADES CON MUJERES), CODIGO C7004 (ASISTENCIA TECNICA), Lab.1 ( NÚMERO DE PARTICIPANTES), Lab.2 (LME ó ALI )+lab.3(001)"PROGRAMA DE ARTICULADO NUTRICIONAL"/ tipo de diagnostico es la D (DEFINITIVO) SE CONSIDERAN 2 ASISTENCIAS TECNICAS REGISTRO N°20 | DS6: APP151 (ACTIVIDADES CON MUJERES), CODIGO C0012 (SESIÓN DE GRUPOS DE AYUDA MUTUA), Lab.1 ( NÚMERO DE PARTICIPANTES), Lab.2 (LME ó ALI )+lab.3(001)"PROGRAMA DE ARTICULADO NUTRICIONAL"/ tipo de diagnostico es la D (DEFINITIVO) SE CONSIDERAN 4 SESIONES | EI6: APP151 (ACTIVIDADES CON MUJERES), CODIGO C7001 (REUNION DE MONITOREO), Lab.1 ( NÚMERO DE PARTICIPANTES), Lab.2 ("1 ó 2"NUMERO DE VISITA O MONITOREO)+lab.3(001)"PROGRAMA DE ARTICULADO NUTRICIONAL"/ tipo de diagnostico es la D REGISTRO N°22 | EM6: APP104 (ACTIVIDADES CON MUNICIPIOS), CODIGO C0001 (REUNION EN MUNICIPIOS), Lab.1 ( NÚMERO DE PARTICIPANTES), Lab.2 (COO) "REUNION EN COORDINACIÓN" +lab.3(001)"PROGRAMA DE ARTICULADO NUTRICIONAL"/ tipo de diagnostico es la D (DEFINITIVO) REGISTRO N°23 | EO6: APP104 (ACTIVIDADES CON MUNICIPIOS), CODIGO C0001 (REUNION EN MUNICIPIOS), Lab.1 ( NÚMERO DE PARTICIPANTES), Lab.2 (FO) "REUNION DE ORGANIZACIÓN" +lab.3(001)"PROGRAMA DE ARTICULADO NUTRICIONAL"/ tipo de diagnostico es la D (DEFINITIVO) REGISTRO N°24 | EQ6: APP96 (ACTIVIDADES CON COMITÉ MULTISECTORIAL), CODIGO C0001 (REUNION EN MUNICIPIOS), Lab.1 ( NÚMERO DE PARTICIPANTES), Lab.2 (FSE) "FASE DE SENSIBILIZACIÓN" +lab.3(001)"PROGRAMA DE ARTICULADO NUTRICIONAL"/ tipo de diagnostico es la D (DEFINITIVO) REGISTRO N°25 | ES6: APP96 (ACTIVIDADES CON COMITÉ MULTISECTORIAL), CODIGO C0004 (TALLER PARA MUNICIPIOS), Lab.1 ( NÚMERO DE PARTICIPANTES), Lab.2 (PP) "TALLER DE PLANIFICACIÓN" +lab.3(001)"PROGRAMA DE ARTICULADO NUTRICIONAL"/ tipo de diagnostico es la D (DEFINITIVO) REGISTRO N°26 | EU6: APP96 (ACTIVIDADES CON COMITÉ MULTISECTORIAL), CODIGO C7004 (ASISTENCIA TECNICA), Lab.1 ( NÚMERO DE PARTICIPANTES), Lab.2 (1) + lab.3(001)"PROGRAMA DE ARTICULADO NUTRICIONAL"/ tipo de diagnostico es la D (DEFINITIVO) | EW6: APP96 (ACTIVIDADES CON COMITÉ MULTISECTORIAL), CODIGO C7004 (ASISTENCIA TECNICA), Lab.1 ( NÚMERO DE PARTICIPANTES), Lab.2 (2) + lab.3(001)"PROGRAMA DE ARTICULADO NUTRICIONAL"/ tipo de diagnostico es la D (DEFINITIVO) | EY6: APP96 (ACTIVIDADES CON COMITÉ MULTISECTORIAL), CODIGO C7004 (ASISTENCIA TECNICA), Lab.1 ( NÚMERO DE PARTICIPANTES), Lab.2 (3) + lab.3(001)"PROGRAMA DE ARTICULADO NUTRICIONAL"/ tipo de diagnostico es la D (DEFINITIVO) | FA6: APP96 (ACTIVIDADES CON COMITÉ MULTISECTORIAL), CODIGO C7004 (ASISTENCIA TECNICA), Lab.1 ( NÚMERO DE PARTICIPANTES), Lab.2 (4) + lab.3(001)"PROGRAMA DE ARTICULADO NUTRICIONAL"/ tipo de diagnostico es la D (DEFINITIVO) | FC6: APP96 (ACTIVIDADES CON COMITÉ MULTISECTORIAL), CODIGO C7004 (ASISTENCIA TECNICA), Lab.1 ( NÚMERO DE PARTICIPANTES), Lab.2 (5) + lab.3(001)"PROGRAMA DE ARTICULADO NUTRICIONAL"/ tipo de diagnostico es la D (DEFINITIVO) | FE6: APP96 (ACTIVIDADES CON COMITÉ MULTISECTORIAL), CODIGO C7004 (ASISTENCIA TECNICA), Lab.1 ( NÚMERO DE PARTICIPANTES), Lab.2 (6) + lab.3(001)"PROGRAMA DE ARTICULADO NUTRICIONAL"/ tipo de diagnostico es la D (DEFINITIVO) | FG6: APP96 (ACTIVIDADES CON COMITÉ MULTISECTORIAL), CODIGO C7004 (ASISTENCIA TECNICA), Lab.1 ( NÚMERO DE PARTICIPANTES), Lab.2 (7) + lab.3(001)"PROGRAMA DE ARTICULADO NUTRICIONAL"/ tipo de diagnostico es la D (DEFINITIVO) | FI6: APP96 (ACTIVIDADES CON COMITÉ MULTISECTORIAL), CODIGO C7001 (REUNION DE MONITOREO), Lab.1 (1) + lab.2(001)"PROGRAMA DE ARTICULADO NUTRICIONAL"/ tipo de diagnostico es la D (DEFINITIVO) | FJ6: APP96 (ACTIVIDADES CON COMITÉ MULTISECTORIAL), CODIGO C7001 (REUNION DE MONITOREO), Lab.1 (2) + lab.2(001)"PROGRAMA DE ARTICULADO NUTRICIONAL"/ tipo de diagnostico es la D (DEFINITIVO) | FK6: APP96 (ACTIVIDADES CON COMITÉ MULTISECTORIAL), CODIGO C7003 (REUNION DE MONITOREO), Lab.1 (NUMERO DE PARTICIPANTES) + lab.2(001)"PROGRAMA DE ARTICULADO NUTRICIONAL"/ tipo de diagnostico es la D (DEFINITIVO) | FU6: DXA 1 | FW6: DXA 2 | FY6: LME 1 | GA6: LME 2 | GC6: ALI 1 | GE6: ALI 2 | GG6: SBS 1 | GI6: SBS 2 | GK6: *A* El juego y la atención temprana | GM6: G 1 | GO6: G 2 | GQ6: G 3 | GS6: G4 | GU6: G5 | GW6: G6 | GY6: G7 | HA6: G8 | HM6: PRIMER ACOMPAÑAMIENTO | HO6: SEGUNDO ACOMPAÑAMIENTO
G7: CÓDIGO HIS: C0010, Lab 1: LME | M7: CÓDIGO HIS: C0010, Lab 1 = ALI | S7: CÓDIGO HIS: C0010, LAB 1 = LME | W7: CÓDIGO HIS: C0010, LAB 1 = ALI | AA7: CÓDIGO HIS: C0010 ,LAB 1 = LME, LAB2 : AE | AI7: CÓDIGO HIS: C0010 ,LAB 1 = ALI, LAB2 : AE | AQ7: CÓDIGO HIS: C0010 ,LAB 1 = LME, LAB2=GL | AY7: CÓDIGO HIS: C0010 ,LAB 1 = ALI, LAB2 : GL | BG7: Oportuno de 1 a 7 dias | BH7: Inoportuno >= 8 dias | BI7: Oportuno de 1 a 7 dias | BJ7: Inoportuno >= 8 dias | BK7: Oportuno de 1 a 7 dias | BL7: Inoportuno >= 8 dias | BM7: Oportuno de 1 a 7 dias | BN7: Inoportuno >= 8 dias | BO7: Oportuno de 1 a 7 dias | BP7: Inoportuno >= 8 dias | BQ7: Oportuno de 1 a 7 dias | BR7: Inoportuno >= 8 dias | BS7: Oportuno de 1 a 7 dias | BT7: Inoportuno >= 8 dias | BU7: Oportuno de 1 a 7 dias | BV7: Inoportuno >= 8 dias | BW7: 2 meses | BX7: 3 meses | BY7: 2 meses | BZ7: 3 meses | CA7: 4 meses | CB7: 5 meses | CC7: 4 meses | CD7: 5 meses | CE7: 6-7 meses | CF7: 8-9 meses | CG7: 10-11 meses | CH7: 6-7 meses | CI7: 8-9 meses | CJ7: 10-12 meses | CK7: 6 meses | CL7: 7 meses | CM7: 8 meses | CN7: 9 meses | CO7: 10 meses | CP7: 11 meses | CQ7: 6 meses | CR7: 7 meses | CS7: 8 meses | CT7: 9 meses | CU7: 10 meses | CV7: 11 meses | CW7: Nº | CX7: PART. | CY7: Nº | CZ7: PART. | DA7: Nº DE ASISTENCIA TECNICA | DB7: Nº PARTICIPANTES | DC7: Nº DE ASISTENCIA TECNICA | DD7: Nº PARTICIPANTES | DE7: Nº DE ASISTENCIA TECNICA | DF7: Nº PARTICIPANTES | DG7: Nº DE ASISTENCIA TECNICA | DH7: Nº PARTICIPANTES | DI7: Nº DE ASISTENCIA TECNICA | DJ7: Nº PARTICIPANTES | DK7: Nº DE ASISTENCIA TECNICA | DL7: Nº PARTICIPANTES | DM7: Nº DE ASISTENCIA TECNICA | DN7: Nº PARTICIPANTES | DO7: Nº DE ASISTENCIA TECNICA | DP7: Nº PARTICIPANTES | DQ7: Nº DE ASISTENCIA TECNICA | DR7: Nº PARTICIPANTES | DS7: Nº DE SESION | DT7: Nº PARTICIPANTES | DU7: Nº DE SESION | DV7: Nº PARTICIPANTES | DW7: Nº DE SESION | DX7: Nº PARTICIPANTES | DY7: Nº DE SESION | DZ7: Nº PARTICIPANTES | EA7: Nº DE SESION | EB7: Nº PARTICIPANTES | EC7: Nº DE SESION | ED7: Nº PARTICIPANTES | EE7: Nº DE SESION | EF7: Nº PARTICIPANTES | EG7: Nº DE ASISTENCIA TECNICA | EH7: Nº PARTICIPANTES | EI7: Nº DE SESION | EJ7: PARTICIPANTES | EK7: Nº DE SESION | EL7: PARTICIPANTES | EM7: REUNIONES | EN7: PARTICIPANTES | EO7: REUNIONES | EP7: PARTICIPANTES | EQ7: REUNIONES | ER7: PARTICIPANTES | ES7: REUNIONES | ET7: PARTICIPANTES | EU7: ASISTENCIA TECNICA | EV7: PARTICIPANTES | EW7: ASISTENCIA TECNICA | EX7: PARTICIPANTES | EY7: ASISTENCIA TECNICA | EZ7: PARTICIPANTES | FA7: ASISTENCIA TECNICA | FB7: PARTICIPANTES | FC7: ASISTENCIA TECNICA | FD7: PARTICIPANTES | FE7: ASISTENCIA TECNICA | FF7: PARTICIPANTES | FG7: ASISTENCIA TECNICA | FH7: PARTICIPANTES | FI7: ASISTENCIA TECNICA | FJ7: ASISTENCIA TECNICA | FK7: ASISTENCIA TECNICA | FL7: PARTICIPANTES | FM7: REUNIONES | FN7: PARTICIPANTES | FO7: REUNIONES | FP7: PARTICIPANTES | FQ7: TALLER DE CAPACITACION | FR7: PARTICIPANTES | FS7: TALLER DE CAPACITACION | FT7: PARTICIPANTES | FU7: TALLER DE CAPACITACION | FV7: PARTICIPANTES | FW7: TALLER DE CAPACITACION | FX7: PARTICIPANTES | FY7: TALLER DE CAPACITACION | FZ7: PARTICIPANTES | GA7: TALLER DE CAPACITACION | GB7: PARTICIPANTES | GC7: TALLER DE CAPACITACION | GD7: PARTICIPANTES | GE7: TALLER DE CAPACITACION | GF7: PARTICIPANTES | GG7: TALLER DE CAPACITACION | GH7: PARTICIPANTES | GI7: TALLER DE CAPACITACION | GJ7: PARTICIPANTES | GK7: TALLER DE CAPACITACION | GL7: PARTICIPANTES | GM7: TALLER DE CAPACITACION | GN7: PARTICIPANTES | GO7: TALLER DE CAPACITACION | GP7: PARTICIPANTES | GQ7: TALLER DE CAPACITACION | GR7: PARTICIPANTES | GS7: TALLER DE CAPACITACION | GT7: PARTICIPANTES | GU7: TALLER DE CAPACITACION | GV7: PARTICIPANTES | GW7: TALLER DE CAPACITACION | GX7: PARTICIPANTES | GY7: TALLER DE CAPACITACION | GZ7: PARTICIPANTES | HA7: TALLER DE CAPACITACION | HB7: PARTICIPANTES | HC7: ASISTENCIAS TECNICAS | HD7: FICHAS REVISADAS | HE7: FICHAS VALIDADAS | HF7: SUPERVISIONES | HG7: A SER VERIFICADOS | HH7: VERIFICADOS | HI7: NIÑOS 0 a 11 años | HJ7: GESTANTES | HK7: NIÑOS 0 a 11 años | HL7: GESTANTES | HM7: Nº ACOMPAÑAMIENTO | HN7: Nº AGENTES COMUNITARIOS | HO7: Nº ACOMPAÑAMIENTO | HP7: Nº AGENTES COMUNITARIOS | HQ7: N° | HR7: PART. | HS7: N° | HT7: PART. | HU7: N° | HV7: PART. | HW7: N° | HX7: PART. | HY7: N° | HZ7: PART.
G8: =G9 -> 17 | H8: =H9 -> 17 | I8: =I9 -> 0 | J8: =J9 -> 0 | K8: =K9 -> 0 | L8: =L9 -> 0 | M8: =M9 -> 0 | N8: =N9 -> 0 | ... HZ8: =HZ9 -> 20
A9: AÑO | B9: MES | C9: DISTRITO | D9: MICRORED | E9: RENAES | F9: MICRORED MAZAMARI | G9: =SUM(G10:G24) -> 17 | H9: =SUM(H10:H24) -> 17 | I9: =SUM(I10:I24) -> 0 | J9: =SUM(J10:J24) -> 0 | K9: =SUM(K10:K24) -> 0 | L9: =SUM(L10:L24) -> 0 | M9: =SUM(M10:M24) -> 0 | N9: =SUM(N10:N24) -> 0 | ... HZ9: =SUM(HZ10:HZ24) -> 20
A10: 2026 | B10: 9 | C10: LLAYLLA | D10: MAZAMARI | E10: 433 | F10: BELEN | G10: 0 | H10: 0 | I10: 0 | J10: 0 | K10: 0 | L10: 0 | M10: 0 | N10: 0 | O10: 0 | P10: 0 | Q10: 0 | R10: 0 | S10: 0 | T10: 0 | U10: 0 | V10: 0 | W10: 0 | X10: 0 | Y10: 0 | Z10: 0 | AA10: 0 | AB10: 0 | AC10: 0 | AD10: 0 | AE10: 0 | AF10: 0 | AG10: 0 | AH10: 0 | AI10: 0 | AJ10: 0 | AK10: 0 | AL10: 0 | AM10: 0 | AN10: 0 | AO10: 0 | AP10: 0 | AQ10: 0 | AR10: 0 | AS10: 0 | AT10: 0 | AU10: 0 | AV10: 0 | AW10: 0 | AX10: 0 | AY10: 0 | AZ10: 0 | BA10: 2 | BB10: 4 | BC10: 0 | BD10: 0 | BE10: 0 | BF10: 0 | BG10: 2 | BH10: 0 | BI10: 0 | BJ10: 0 | BK10: 2 | BL10: 0 | BM10: 0 | BN10: 0 | BO10: 1 | BP10: 0 | BQ10: 0 | BR10: 0 | BS10: 0 | BT10: 0 | BU10: 0 | BV10: 0 | BW10: 0 | BX10: 0 | BY10: 0 | BZ10: 0 | CA10: 0 | CB10: 0 | CC10: 0 | CD10: 0 | CE10: 0 | CF10: 0 | CG10: 0 | CH10: 0 | CI10: 0 | CJ10: 0 | CK10: 0 | CL10: 0 | CM10: 0 | CN10: 0 | CO10: 0 | CP10: 0 | CQ10: 0 | CR10: 0 | CS10: 0 | CT10: 0 | CU10: 0 | CV10: 0 | CW10: 1 | CX10: 7 | CY10: 0 | CZ10: 0 | DA10: 1 | DB10: 7 | DC10: 1 | DD10: 7 | DE10: 0 | DF10: 0 | DG10: 1 | DH10: 7 | DI10: 0 | DJ10: 0 | DK10: 0 | DL10: 0 | DM10: 0 | DN10: 0 | DO10: 0 | DP10: 0 | DQ10: 0 | DR10: 0 | DS10: 0 | DT10: 0 | DU10: 0 | DV10: 0 | DW10: 0 | DX10: 0 | DY10: 0 | DZ10: 0 | EA10: 0 | EB10: 0 | EC10: 0 | ED10: 0 | EE10: 0 | EF10: 0 | EG10: 0 | EH10: 0 | EI10: 0 | EJ10: 0 | EK10: 0 | EL10: 0 | EM10: 0 | EN10: 0 | EO10: 0 | EP10: 0 | EQ10: 0 | ER10: 0 | ES10: 0 | ET10: 0 | EU10: 0 | EV10: 0 | EW10: 0 | EX10: 0 | EY10: 0 | EZ10: 0 | FA10: 0 | FB10: 0 | FC10: 0 | FD10: 0 | FE10: 0 | FF10: 0 | FG10: 0 | FH10: 0 | FI10: 0 | FJ10: 0 | FK10: 0 | FL10: 0 | FM10: 0 | FN10: 0 | FO10: 0 | FP10: 0 | FQ10: 0 | FR10: 0 | FS10: 0 | FT10: 0 | FU10: 0 | FV10: 0 | FW10: 0 | FX10: 0 | FY10: 0 | FZ10: 0 | GA10: 0 | GB10: 0 | GC10: 0 | GD10: 0 | GE10: 0 | GF10: 0 | GG10: 0 | GH10: 0 | GI10: 0 | GJ10: 0 | GK10: 0 | GL10: 0 | GM10: 0 | GN10: 0 | GO10: 0 | GP10: 0 | GQ10: 0 | GR10: 0 | GS10: 0 | GT10: 0 | GU10: 0 | GV10: 0 | GW10: 0 | GX10: 0 | GY10: 0 | GZ10: 0 | HA10: 0 | HB10: 0 | HC10: 1 | HD10: 9 | HE10: 8 | HF10: 1 | HG10: 9 | HH10: 9 | HI10: 0 | HJ10: 0 | HK10: 0 | HL10: 0 | HM10: 0 | HN10: 0 | HO10: 0 | HP10: 0 | HQ10: 1 | HR10: 5 | HS10: 1 | HT10: 5 | HU10: 2 | HV10: 10 | HW10: 1 | HX10: 5 | HY10: 1 | HZ10: 5
A11: 2026 | B11: 9 | C11: LLAYLLA | D11: MAZAMARI | E11: 491 | F11: HERMOSA PAMPA | G11: 0 | H11: 0 | I11: 0 | J11: 0 | K11: 0 | L11: 0 | M11: 0 | N11: 0 | O11: 0 | P11: 0 | Q11: 0 | R11: 0 | S11: 0 | T11: 0 | U11: 0 | V11: 0 | W11: 0 | X11: 0 | Y11: 0 | Z11: 0 | AA11: 0 | AB11: 0 | AC11: 0 | AD11: 0 | AE11: 0 | AF11: 0 | AG11: 0 | AH11: 0 | AI11: 0 | AJ11: 0 | AK11: 0 | AL11: 0 | AM11: 0 | AN11: 0 | AO11: 0 | AP11: 0 | AQ11: 0 | AR11: 0 | AS11: 0 | AT11: 0 | AU11: 0 | AV11: 0 | AW11: 0 | AX11: 0 | AY11: 0 | AZ11: 0 | BA11: 4 | BB11: 1 | BC11: 0 | BD11: 1 | BE11: 2 | BF11: 2 | BG11: 1 | BH11: 0 | BI11: 0 | BJ11: 0 | BK11: 1 | BL11: 0 | BM11: 0 | BN11: 0 | BO11: 0 | BP11: 0 | BQ11: 0 | BR11: 0 | BS11: 0 | BT11: 0 | BU11: 0 | BV11: 0 | BW11: 0 | BX11: 0 | BY11: 0 | BZ11: 0 | CA11: 1 | CB11: 0 | CC11: 0 | CD11: 0 | CE11: 1 | CF11: 1 | CG11: 0 | CH11: 0 | CI11: 0 | CJ11: 0 | CK11: 0 | CL11: 0 | CM11: 0 | CN11: 0 | CO11: 0 | CP11: 0 | CQ11: 0 | CR11: 0 | CS11: 0 | CT11: 0 | CU11: 0 | CV11: 0 | CW11: 0 | CX11: 0 | CY11: 0 | CZ11: 0 | DA11: 0 | DB11: 0 | DC11: 0 | DD11: 0 | DE11: 0 | DF11: 0 | DG11: 0 | DH11: 0 | DI11: 0 | DJ11: 0 | DK11: 0 | DL11: 0 | DM11: 0 | DN11: 0 | DO11: 0 | DP11: 0 | DQ11: 0 | DR11: 0 | DS11: 0 | DT11: 0 | DU11: 0 | DV11: 0 | DW11: 0 | DX11: 0 | DY11: 0 | DZ11: 0 | EA11: 0 | EB11: 0 | EC11: 0 | ED11: 0 | EE11: 0 | EF11: 0 | EG11: 0 | EH11: 0 | EI11: 0 | EJ11: 0 | EK11: 0 | EL11: 0 | EM11: 0 | EN11: 0 | EO11: 0 | EP11: 0 | EQ11: 0 | ER11: 0 | ES11: 0 | ET11: 0 | EU11: 0 | EV11: 0 | EW11: 0 | EX11: 0 | EY11: 0 | EZ11: 0 | FA11: 0 | FB11: 0 | FC11: 0 | FD11: 0 | FE11: 0 | FF11: 0 | FG11: 0 | FH11: 0 | FI11: 0 | FJ11: 0 | FK11: 0 | FL11: 0 | FM11: 0 | FN11: 0 | FO11: 0 | FP11: 0 | FQ11: 0 | FR11: 0 | FS11: 0 | FT11: 0 | FU11: 0 | FV11: 0 | FW11: 0 | FX11: 0 | FY11: 0 | FZ11: 0 | GA11: 0 | GB11: 0 | GC11: 0 | GD11: 0 | GE11: 0 | GF11: 0 | GG11: 0 | GH11: 0 | GI11: 0 | GJ11: 0 | GK11: 0 | GL11: 0 | GM11: 0 | GN11: 0 | GO11: 0 | GP11: 0 | GQ11: 0 | GR11: 0 | GS11: 0 | GT11: 0 | GU11: 0 | GV11: 0 | GW11: 0 | GX11: 0 | GY11: 0 | GZ11: 0 | HA11: 0 | HB11: 0 | HC11: 1 | HD11: 10 | HE11: 10 | HF11: 1 | HG11: 3 | HH11: 3 | HI11: 0 | HJ11: 0 | HK11: 0 | HL11: 0 | HM11: 0 | HN11: 0 | HO11: 0 | HP11: 0 | HQ11: 0 | HR11: 0 | HS11: 0 | HT11: 0 | HU11: 0 | HV11: 0 | HW11: 0 | HX11: 0 | HY11: 0 | HZ11: 0
A12: 2026 | B12: 9 | C12: LLAYLLA | D12: MAZAMARI | E12: 490 | F12: LLAYLLA | G12: 0 | H12: 0 | I12: 0 | J12: 0 | K12: 0 | L12: 0 | M12: 0 | N12: 0 | O12: 0 | P12: 0 | Q12: 0 | R12: 0 | S12: 0 | T12: 0 | U12: 0 | V12: 0 | W12: 0 | X12: 0 | Y12: 0 | Z12: 0 | AA12: 0 | AB12: 0 | AC12: 0 | AD12: 0 | AE12: 0 | AF12: 0 | AG12: 0 | AH12: 0 | AI12: 0 | AJ12: 0 | AK12: 0 | AL12: 0 | AM12: 0 | AN12: 0 | AO12: 0 | AP12: 0 | AQ12: 0 | AR12: 0 | AS12: 0 | AT12: 0 | AU12: 0 | AV12: 0 | AW12: 0 | AX12: 0 | AY12: 0 | AZ12: 0 | BA12: 1 | BB12: 0 | BC12: 0 | BD12: 0 | BE12: 0 | BF12: 0 | BG12: 1 | BH12: 0 | BI12: 0 | BJ12: 0 | BK12: 1 | BL12: 0 | BM12: 0 | BN12: 0 | BO12: 1 | BP12: 0 | BQ12: 0 | BR12: 0 | BS12: 1 | BT12: 0 | BU12: 0 | BV12: 0 | BW12: 0 | BX12: 0 | BY12: 0 | BZ12: 0 | CA12: 4 | CB12: 0 | CC12: 0 | CD12: 0 | CE12: 1 | CF12: 2 | CG12: 0 | CH12: 0 | CI12: 0 | CJ12: 0 | CK12: 0 | CL12: 0 | CM12: 0 | CN12: 0 | CO12: 0 | CP12: 0 | CQ12: 0 | CR12: 0 | CS12: 0 | CT12: 0 | CU12: 0 | CV12: 0 | CW12: 0 | CX12: 0 | CY12: 0 | CZ12: 0 | DA12: 0 | DB12: 0 | DC12: 0 | DD12: 0 | DE12: 0 | DF12: 0 | DG12: 0 | DH12: 0 | DI12: 0 | DJ12: 0 | DK12: 0 | DL12: 0 | DM12: 0 | DN12: 0 | DO12: 0 | DP12: 0 | DQ12: 0 | DR12: 0 | DS12: 0 | DT12: 0 | DU12: 0 | DV12: 0 | DW12: 0 | DX12: 0 | DY12: 0 | DZ12: 0 | EA12: 0 | EB12: 0 | EC12: 0 | ED12: 0 | EE12: 0 | EF12: 0 | EG12: 0 | EH12: 0 | EI12: 0 | EJ12: 0 | EK12: 0 | EL12: 0 | EM12: 0 | EN12: 0 | EO12: 0 | EP12: 0 | EQ12: 0 | ER12: 0 | ES12: 0 | ET12: 0 | EU12: 0 | EV12: 0 | EW12: 0 | EX12: 0 | EY12: 0 | EZ12: 0 | FA12: 0 | FB12: 0 | FC12: 0 | FD12: 0 | FE12: 0 | FF12: 0 | FG12: 0 | FH12: 0 | FI12: 0 | FJ12: 0 | FK12: 0 | FL12: 0 | FM12: 0 | FN12: 0 | FO12: 0 | FP12: 0 | FQ12: 0 | FR12: 0 | FS12: 0 | FT12: 0 | FU12: 0 | FV12: 0 | FW12: 0 | FX12: 0 | FY12: 0 | FZ12: 0 | GA12: 0 | GB12: 0 | GC12: 0 | GD12: 0 | GE12: 0 | GF12: 0 | GG12: 0 | GH12: 0 | GI12: 0 | GJ12: 0 | GK12: 0 | GL12: 0 | GM12: 0 | GN12: 0 | GO12: 0 | GP12: 0 | GQ12: 0 | GR12: 0 | GS12: 0 | GT12: 0 | GU12: 0 | GV12: 0 | GW12: 0 | GX12: 0 | GY12: 0 | GZ12: 0 | HA12: 0 | HB12: 0 | HC12: 1 | HD12: 26 | HE12: 26 | HF12: 1 | HG12: 5 | HH12: 5 | HI12: 0 | HJ12: 0 | HK12: 0 | HL12: 0 | HM12: 0 | HN12: 0 | HO12: 0 | HP12: 0 | HQ12: 0 | HR12: 0 | HS12: 0 | HT12: 0 | HU12: 0 | HV12: 0 | HW12: 0 | HX12: 0 | HY12: 0 | HZ12: 0
A13: 2026 | B13: 9 | C13: MAZAMARI | D13: MAZAMARI | E13: 16911 | F13: BUENOS AIRES -TZIRIARI | G13: 0 | H13: 0 | I13: 0 | J13: 0 | K13: 0 | L13: 0 | M13: 0 | N13: 0 | O13: 0 | P13: 0 | Q13: 0 | R13: 0 | S13: 0 | T13: 0 | U13: 0 | V13: 0 | W13: 0 | X13: 0 | Y13: 0 | Z13: 0 | AA13: 0 | AB13: 0 | AC13: 0 | AD13: 0 | AE13: 0 | AF13: 0 | AG13: 0 | AH13: 0 | AI13: 0 | AJ13: 0 | AK13: 0 | AL13: 0 | AM13: 0 | AN13: 0 | AO13: 0 | AP13: 0 | AQ13: 0 | AR13: 0 | AS13: 0 | AT13: 0 | AU13: 0 | AV13: 0 | AW13: 0 | AX13: 0 | AY13: 0 | AZ13: 0 | BA13: 0 | BB13: 2 | BC13: 0 | BD13: 0 | BE13: 4 | BF13: 0 | BG13: 0 | BH13: 0 | BI13: 0 | BJ13: 0 | BK13: 0 | BL13: 0 | BM13: 0 | BN13: 0 | BO13: 0 | BP13: 0 | BQ13: 0 | BR13: 0 | BS13: 0 | BT13: 0 | BU13: 0 | BV13: 0 | BW13: 0 | BX13: 0 | BY13: 0 | BZ13: 0 | CA13: 0 | CB13: 0 | CC13: 0 | CD13: 0 | CE13: 0 | CF13: 1 | CG13: 0 | CH13: 0 | CI13: 0 | CJ13: 0 | CK13: 0 | CL13: 0 | CM13: 0 | CN13: 0 | CO13: 0 | CP13: 0 | CQ13: 0 | CR13: 0 | CS13: 0 | CT13: 0 | CU13: 0 | CV13: 0 | CW13: 0 | CX13: 0 | CY13: 0 | CZ13: 0 | DA13: 0 | DB13: 0 | DC13: 0 | DD13: 0 | DE13: 0 | DF13: 0 | DG13: 0 | DH13: 0 | DI13: 0 | DJ13: 0 | DK13: 0 | DL13: 0 | DM13: 0 | DN13: 0 | DO13: 1 | DP13: 3 | DQ13: 0 | DR13: 0 | DS13: 1 | DT13: 3 | DU13: 0 | DV13: 0 | DW13: 1 | DX13: 3 | DY13: 0 | DZ13: 0 | EA13: 1 | EB13: 3 | EC13: 0 | ED13: 0 | EE13: 1 | EF13: 3 | EG13: 0 | EH13: 0 | EI13: 0 | EJ13: 0 | EK13: 0 | EL13: 0 | EM13: 0 | EN13: 0 | EO13: 0 | EP13: 0 | EQ13: 0 | ER13: 0 | ES13: 0 | ET13: 0 | EU13: 0 | EV13: 0 | EW13: 0 | EX13: 0 | EY13: 0 | EZ13: 0 | FA13: 0 | FB13: 0 | FC13: 0 | FD13: 0 | FE13: 0 | FF13: 0 | FG13: 0 | FH13: 0 | FI13: 0 | FJ13: 0 | FK13: 0 | FL13: 0 | FM13: 0 | FN13: 0 | FO13: 0 | FP13: 0 | FQ13: 0 | FR13: 0 | FS13: 0 | FT13: 0 | FU13: 0 | FV13: 0 | FW13: 0 | FX13: 0 | FY13: 0 | FZ13: 0 | GA13: 0 | GB13: 0 | GC13: 0 | GD13: 0 | GE13: 0 | GF13: 0 | GG13: 0 | GH13: 0 | GI13: 0 | GJ13: 0 | GK13: 0 | GL13: 0 | GM13: 0 | GN13: 0 | GO13: 0 | GP13: 0 | GQ13: 0 | GR13: 0 | GS13: 0 | GT13: 0 | GU13: 0 | GV13: 0 | GW13: 0 | GX13: 0 | GY13: 0 | GZ13: 0 | HA13: 0 | HB13: 0 | HC13: 1 | HD13: 7 | HE13: 7 | HF13: 1 | HG13: 1 | HH13: 1 | HI13: 0 | HJ13: 0 | HK13: 0 | HL13: 0 | HM13: 0 | HN13: 0 | HO13: 0 | HP13: 0 | HQ13: 0 | HR13: 0 | HS13: 0 | HT13: 0 | HU13: 0 | HV13: 0 | HW13: 0 | HX13: 0 | HY13: 0 | HZ13: 0
A14: 2026 | B14: 9 | C14: MAZAMARI | D14: MAZAMARI | E14: 435 | F14: CAPIRUSHARI | G14: 0 | H14: 0 | I14: 0 | J14: 0 | K14: 0 | L14: 0 | M14: 0 | N14: 0 | O14: 0 | P14: 0 | Q14: 0 | R14: 0 | S14: 0 | T14: 0 | U14: 0 | V14: 0 | W14: 0 | X14: 0 | Y14: 0 | Z14: 0 | AA14: 0 | AB14: 0 | AC14: 0 | AD14: 0 | AE14: 0 | AF14: 0 | AG14: 0 | AH14: 0 | AI14: 0 | AJ14: 0 | AK14: 0 | AL14: 0 | AM14: 0 | AN14: 0 | AO14: 0 | AP14: 0 | AQ14: 0 | AR14: 0 | AS14: 0 | AT14: 0 | AU14: 0 | AV14: 0 | AW14: 0 | AX14: 0 | AY14: 0 | AZ14: 0 | BA14: 5 | BB14: 3 | BC14: 0 | BD14: 2 | BE14: 3 | BF14: 0 | BG14: 0 | BH14: 0 | BI14: 0 | BJ14: 0 | BK14: 3 | BL14: 0 | BM14: 0 | BN14: 0 | BO14: 3 | BP14: 0 | BQ14: 0 | BR14: 0 | BS14: 0 | BT14: 0 | BU14: 0 | BV14: 0 | BW14: 0 | BX14: 0 | BY14: 0 | BZ14: 0 | CA14: 1 | CB14: 0 | CC14: 0 | CD14: 0 | CE14: 4 | CF14: 2 | CG14: 3 | CH14: 0 | CI14: 0 | CJ14: 0 | CK14: 0 | CL14: 0 | CM14: 0 | CN14: 0 | CO14: 0 | CP14: 0 | CQ14: 0 | CR14: 0 | CS14: 0 | CT14: 0 | CU14: 0 | CV14: 0 | CW14: 0 | CX14: 0 | CY14: 0 | CZ14: 0 | DA14: 0 | DB14: 0 | DC14: 0 | DD14: 0 | DE14: 0 | DF14: 0 | DG14: 0 | DH14: 0 | DI14: 0 | DJ14: 0 | DK14: 0 | DL14: 0 | DM14: 0 | DN14: 0 | DO14: 0 | DP14: 0 | DQ14: 0 | DR14: 0 | DS14: 0 | DT14: 0 | DU14: 0 | DV14: 0 | DW14: 0 | DX14: 0 | DY14: 0 | DZ14: 0 | EA14: 0 | EB14: 0 | EC14: 0 | ED14: 0 | EE14: 0 | EF14: 0 | EG14: 0 | EH14: 0 | EI14: 0 | EJ14: 0 | EK14: 0 | EL14: 0 | EM14: 0 | EN14: 0 | EO14: 0 | EP14: 0 | EQ14: 0 | ER14: 0 | ES14: 0 | ET14: 0 | EU14: 0 | EV14: 0 | EW14: 0 | EX14: 0 | EY14: 0 | EZ14: 0 | FA14: 0 | FB14: 0 | FC14: 0 | FD14: 0 | FE14: 0 | FF14: 0 | FG14: 0 | FH14: 0 | FI14: 0 | FJ14: 0 | FK14: 0 | FL14: 0 | FM14: 0 | FN14: 0 | FO14: 0 | FP14: 0 | FQ14: 0 | FR14: 0 | FS14: 0 | FT14: 0 | FU14: 0 | FV14: 0 | FW14: 0 | FX14: 0 | FY14: 0 | FZ14: 0 | GA14: 0 | GB14: 0 | GC14: 0 | GD14: 0 | GE14: 0 | GF14: 0 | GG14: 0 | GH14: 0 | GI14: 0 | GJ14: 0 | GK14: 0 | GL14: 0 | GM14: 0 | GN14: 0 | GO14: 0 | GP14: 0 | GQ14: 0 | GR14: 0 | GS14: 0 | GT14: 0 | GU14: 0 | GV14: 0 | GW14: 0 | GX14: 0 | GY14: 0 | GZ14: 0 | HA14: 0 | HB14: 0 | HC14: 2 | HD14: 43 | HE14: 43 | HF14: 1 | HG14: 3 | HH14: 3 | HI14: 0 | HJ14: 0 | HK14: 0 | HL14: 0 | HM14: 0 | HN14: 0 | HO14: 0 | HP14: 0 | HQ14: 0 | HR14: 0 | HS14: 0 | HT14: 0 | HU14: 0 | HV14: 0 | HW14: 0 | HX14: 0 | HY14: 0 | HZ14: 0
A15: 2026 | B15: 9 | C15: MAZAMARI | D15: MAZAMARI | E15: 437 | F15: COMUNIDAD NATIVA DE PANGA | G15: 0 | H15: 0 | I15: 0 | J15: 0 | K15: 0 | L15: 0 | M15: 0 | N15: 0 | O15: 0 | P15: 0 | Q15: 0 | R15: 0 | S15: 0 | T15: 0 | U15: 0 | V15: 0 | W15: 0 | X15: 0 | Y15: 0 | Z15: 0 | AA15: 0 | AB15: 0 | AC15: 0 | AD15: 0 | AE15: 0 | AF15: 0 | AG15: 0 | AH15: 0 | AI15: 0 | AJ15: 0 | AK15: 0 | AL15: 0 | AM15: 0 | AN15: 0 | AO15: 0 | AP15: 0 | AQ15: 0 | AR15: 0 | AS15: 0 | AT15: 0 | AU15: 0 | AV15: 0 | AW15: 0 | AX15: 0 | AY15: 0 | AZ15: 0 | BA15: 6 | BB15: 6 | BC15: 0 | BD15: 0 | BE15: 0 | BF15: 0 | BG15: 0 | BH15: 0 | BI15: 0 | BJ15: 0 | BK15: 1 | BL15: 0 | BM15: 0 | BN15: 0 | BO15: 1 | BP15: 0 | BQ15: 0 | BR15: 0 | BS15: 0 | BT15: 0 | BU15: 0 | BV15: 0 | BW15: 0 | BX15: 0 | BY15: 0 | BZ15: 0 | CA15: 0 | CB15: 0 | CC15: 0 | CD15: 0 | CE15: 1 | CF15: 6 | CG15: 4 | CH15: 0 | CI15: 0 | CJ15: 0 | CK15: 0 | CL15: 0 | CM15: 0 | CN15: 0 | CO15: 0 | CP15: 0 | CQ15: 0 | CR15: 0 | CS15: 0 | CT15: 0 | CU15: 0 | CV15: 0 | CW15: 0 | CX15: 0 | CY15: 0 | CZ15: 0 | DA15: 1 | DB15: 5 | DC15: 1 | DD15: 5 | DE15: 0 | DF15: 0 | DG15: 0 | DH15: 0 | DI15: 0 | DJ15: 0 | DK15: 0 | DL15: 0 | DM15: 0 | DN15: 0 | DO15: 0 | DP15: 0 | DQ15: 0 | DR15: 0 | DS15: 0 | DT15: 0 | DU15: 0 | DV15: 0 | DW15: 0 | DX15: 0 | DY15: 0 | DZ15: 0 | EA15: 0 | EB15: 0 | EC15: 0 | ED15: 0 | EE15: 0 | EF15: 0 | EG15: 0 | EH15: 0 | EI15: 0 | EJ15: 0 | EK15: 0 | EL15: 0 | EM15: 0 | EN15: 0 | EO15: 0 | EP15: 0 | EQ15: 0 | ER15: 0 | ES15: 0 | ET15: 0 | EU15: 0 | EV15: 0 | EW15: 0 | EX15: 0 | EY15: 0 | EZ15: 0 | FA15: 0 | FB15: 0 | FC15: 0 | FD15: 0 | FE15: 0 | FF15: 0 | FG15: 0 | FH15: 0 | FI15: 0 | FJ15: 0 | FK15: 0 | FL15: 0 | FM15: 0 | FN15: 0 | FO15: 0 | FP15: 0 | FQ15: 0 | FR15: 0 | FS15: 0 | FT15: 0 | FU15: 0 | FV15: 0 | FW15: 0 | FX15: 0 | FY15: 0 | FZ15: 0 | GA15: 0 | GB15: 0 | GC15: 0 | GD15: 0 | GE15: 0 | GF15: 0 | GG15: 0 | GH15: 0 | GI15: 0 | GJ15: 0 | GK15: 0 | GL15: 0 | GM15: 0 | GN15: 0 | GO15: 0 | GP15: 0 | GQ15: 0 | GR15: 0 | GS15: 0 | GT15: 0 | GU15: 0 | GV15: 0 | GW15: 0 | GX15: 0 | GY15: 0 | GZ15: 0 | HA15: 0 | HB15: 0 | HC15: 1 | HD15: 24 | HE15: 24 | HF15: 1 | HG15: 3 | HH15: 3 | HI15: 0 | HJ15: 0 | HK15: 0 | HL15: 0 | HM15: 0 | HN15: 0 | HO15: 0 | HP15: 0 | HQ15: 0 | HR15: 0 | HS15: 0 | HT15: 0 | HU15: 0 | HV15: 0 | HW15: 0 | HX15: 0 | HY15: 0 | HZ15: 0
A16: 2026 | B16: 9 | C16: MAZAMARI | D16: MAZAMARI | E16: 16908 | F16: GLORIABAMBA | G16: 0 | H16: 0 | I16: 0 | J16: 0 | K16: 0 | L16: 0 | M16: 0 | N16: 0 | O16: 0 | P16: 0 | Q16: 0 | R16: 0 | S16: 0 | T16: 0 | U16: 0 | V16: 0 | W16: 0 | X16: 0 | Y16: 0 | Z16: 0 | AA16: 0 | AB16: 0 | AC16: 0 | AD16: 0 | AE16: 0 | AF16: 0 | AG16: 0 | AH16: 0 | AI16: 0 | AJ16: 0 | AK16: 0 | AL16: 0 | AM16: 0 | AN16: 0 | AO16: 0 | AP16: 0 | AQ16: 0 | AR16: 0 | AS16: 0 | AT16: 0 | AU16: 0 | AV16: 0 | AW16: 0 | AX16: 0 | AY16: 0 | AZ16: 0 | BA16: 4 | BB16: 2 | BC16: 0 | BD16: 1 | BE16: 1 | BF16: 1 | BG16: 3 | BH16: 0 | BI16: 0 | BJ16: 0 | BK16: 3 | BL16: 1 | BM16: 0 | BN16: 0 | BO16: 0 | BP16: 4 | BQ16: 0 | BR16: 0 | BS16: 0 | BT16: 0 | BU16: 0 | BV16: 0 | BW16: 1 | BX16: 0 | BY16: 0 | BZ16: 0 | CA16: 1 | CB16: 2 | CC16: 0 | CD16: 0 | CE16: 2 | CF16: 1 | CG16: 1 | CH16: 0 | CI16: 0 | CJ16: 0 | CK16: 0 | CL16: 0 | CM16: 0 | CN16: 0 | CO16: 1 | CP16: 0 | CQ16: 0 | CR16: 0 | CS16: 0 | CT16: 0 | CU16: 0 | CV16: 0 | CW16: 0 | CX16: 0 | CY16: 0 | CZ16: 0 | DA16: 0 | DB16: 0 | DC16: 0 | DD16: 0 | DE16: 0 | DF16: 0 | DG16: 0 | DH16: 0 | DI16: 0 | DJ16: 0 | DK16: 0 | DL16: 0 | DM16: 0 | DN16: 0 | DO16: 0 | DP16: 0 | DQ16: 0 | DR16: 0 | DS16: 0 | DT16: 0 | DU16: 0 | DV16: 0 | DW16: 0 | DX16: 0 | DY16: 0 | DZ16: 0 | EA16: 0 | EB16: 0 | EC16: 0 | ED16: 0 | EE16: 0 | EF16: 0 | EG16: 0 | EH16: 0 | EI16: 0 | EJ16: 0 | EK16: 0 | EL16: 0 | EM16: 0 | EN16: 0 | EO16: 0 | EP16: 0 | EQ16: 0 | ER16: 0 | ES16: 0 | ET16: 0 | EU16: 0 | EV16: 0 | EW16: 0 | EX16: 0 | EY16: 0 | EZ16: 0 | FA16: 0 | FB16: 0 | FC16: 0 | FD16: 0 | FE16: 0 | FF16: 0 | FG16: 0 | FH16: 0 | FI16: 0 | FJ16: 0 | FK16: 0 | FL16: 0 | FM16: 0 | FN16: 0 | FO16: 0 | FP16: 0 | FQ16: 0 | FR16: 0 | FS16: 0 | FT16: 0 | FU16: 0 | FV16: 0 | FW16: 0 | FX16: 0 | FY16: 0 | FZ16: 0 | GA16: 0 | GB16: 0 | GC16: 0 | GD16: 0 | GE16: 0 | GF16: 0 | GG16: 0 | GH16: 0 | GI16: 0 | GJ16: 0 | GK16: 0 | GL16: 0 | GM16: 0 | GN16: 0 | GO16: 0 | GP16: 0 | GQ16: 0 | GR16: 0 | GS16: 0 | GT16: 0 | GU16: 0 | GV16: 0 | GW16: 0 | GX16: 0 | GY16: 0 | GZ16: 0 | HA16: 0 | HB16: 0 | HC16: 2 | HD16: 18 | HE16: 18 | HF16: 1 | HG16: 2 | HH16: 2 | HI16: 0 | HJ16: 0 | HK16: 0 | HL16: 0 | HM16: 0 | HN16: 0 | HO16: 0 | HP16: 0 | HQ16: 0 | HR16: 0 | HS16: 0 | HT16: 0 | HU16: 0 | HV16: 0 | HW16: 0 | HX16: 0 | HY16: 0 | HZ16: 0
A17: 2026 | B17: 9 | C17: MAZAMARI | D17: MAZAMARI | E17: 34721 | F17: LURINCHINCHA | G17: 0 | H17: 0 | I17: 0 | J17: 0 | K17: 0 | L17: 0 | M17: 0 | N17: 0 | O17: 0 | P17: 0 | Q17: 0 | R17: 0 | S17: 0 | T17: 0 | U17: 0 | V17: 0 | W17: 0 | X17: 0 | Y17: 0 | Z17: 0 | AA17: 0 | AB17: 0 | AC17: 0 | AD17: 0 | AE17: 0 | AF17: 0 | AG17: 0 | AH17: 0 | AI17: 0 | AJ17: 0 | AK17: 0 | AL17: 0 | AM17: 0 | AN17: 0 | AO17: 0 | AP17: 0 | AQ17: 0 | AR17: 0 | AS17: 0 | AT17: 0 | AU17: 0 | AV17: 0 | AW17: 0 | AX17: 0 | AY17: 0 | AZ17: 0 | BA17: 0 | BB17: 0 | BC17: 0 | BD17: 0 | BE17: 0 | BF17: 0 | BG17: 0 | BH17: 0 | BI17: 0 | BJ17: 0 | BK17: 0 | BL17: 0 | BM17: 0 | BN17: 0 | BO17: 0 | BP17: 0 | BQ17: 0 | BR17: 0 | BS17: 0 | BT17: 0 | BU17: 0 | BV17: 0 | BW17: 0 | BX17: 0 | BY17: 0 | BZ17: 0 | CA17: 4 | CB17: 0 | CC17: 0 | CD17: 0 | CE17: 0 | CF17: 0 | CG17: 0 | CH17: 0 | CI17: 0 | CJ17: 0 | CK17: 1 | CL17: 0 | CM17: 0 | CN17: 0 | CO17: 0 | CP17: 0 | CQ17: 0 | CR17: 0 | CS17: 0 | CT17: 0 | CU17: 0 | CV17: 0 | CW17: 0 | CX17: 0 | CY17: 0 | CZ17: 0 | DA17: 0 | DB17: 0 | DC17: 0 | DD17: 0 | DE17: 0 | DF17: 0 | DG17: 0 | DH17: 0 | DI17: 0 | DJ17: 0 | DK17: 0 | DL17: 0 | DM17: 0 | DN17: 0 | DO17: 0 | DP17: 0 | DQ17: 0 | DR17: 0 | DS17: 0 | DT17: 0 | DU17: 0 | DV17: 0 | DW17: 0 | DX17: 0 | DY17: 0 | DZ17: 0 | EA17: 0 | EB17: 0 | EC17: 0 | ED17: 0 | EE17: 0 | EF17: 0 | EG17: 0 | EH17: 0 | EI17: 0 | EJ17: 0 | EK17: 0 | EL17: 0 | EM17: 0 | EN17: 0 | EO17: 0 | EP17: 0 | EQ17: 0 | ER17: 0 | ES17: 0 | ET17: 0 | EU17: 0 | EV17: 0 | EW17: 0 | EX17: 0 | EY17: 0 | EZ17: 0 | FA17: 0 | FB17: 0 | FC17: 0 | FD17: 0 | FE17: 0 | FF17: 0 | FG17: 0 | FH17: 0 | FI17: 0 | FJ17: 0 | FK17: 0 | FL17: 0 | FM17: 0 | FN17: 0 | FO17: 0 | FP17: 0 | FQ17: 0 | FR17: 0 | FS17: 0 | FT17: 0 | FU17: 0 | FV17: 0 | FW17: 0 | FX17: 0 | FY17: 0 | FZ17: 0 | GA17: 0 | GB17: 0 | GC17: 0 | GD17: 0 | GE17: 0 | GF17: 0 | GG17: 0 | GH17: 0 | GI17: 0 | GJ17: 0 | GK17: 0 | GL17: 0 | GM17: 0 | GN17: 0 | GO17: 0 | GP17: 0 | GQ17: 0 | GR17: 0 | GS17: 0 | GT17: 0 | GU17: 0 | GV17: 0 | GW17: 0 | GX17: 0 | GY17: 0 | GZ17: 0 | HA17: 0 | HB17: 0 | HC17: 2 | HD17: 14 | HE17: 14 | HF17: 0 | HG17: 0 | HH17: 0 | HI17: 0 | HJ17: 0 | HK17: 0 | HL17: 0 | HM17: 0 | HN17: 0 | HO17: 0 | HP17: 0 | HQ17: 1 | HR17: 1 | HS17: 0 | HT17: 0 | HU17: 1 | HV17: 5 | HW17: 1 | HX17: 5 | HY17: 1 | HZ17: 5
A18: 2026 | B18: 9 | C18: MAZAMARI | D18: MAZAMARI | E18: 434 | F18: MAZAMARI | G18: 17 | H18: 17 | I18: 0 | J18: 0 | K18: 0 | L18: 0 | M18: 0 | N18: 0 | O18: 0 | P18: 0 | Q18: 0 | R18: 0 | S18: 0 | T18: 0 | U18: 0 | V18: 0 | W18: 0 | X18: 0 | Y18: 0 | Z18: 0 | AA18: 0 | AB18: 0 | AC18: 0 | AD18: 0 | AE18: 0 | AF18: 0 | AG18: 0 | AH18: 0 | AI18: 0 | AJ18: 0 | AK18: 0 | AL18: 0 | AM18: 0 | AN18: 0 | AO18: 0 | AP18: 0 | AQ18: 0 | AR18: 0 | AS18: 0 | AT18: 0 | AU18: 0 | AV18: 0 | AW18: 0 | AX18: 0 | AY18: 0 | AZ18: 0 | BA18: 12 | BB18: 8 | BC18: 0 | BD18: 0 | BE18: 0 | BF18: 0 | BG18: 14 | BH18: 3 | BI18: 0 | BJ18: 0 | BK18: 14 | BL18: 3 | BM18: 0 | BN18: 0 | BO18: 0 | BP18: 0 | BQ18: 0 | BR18: 0 | BS18: 0 | BT18: 0 | BU18: 0 | BV18: 0 | BW18: 0 | BX18: 0 | BY18: 0 | BZ18: 0 | CA18: 10 | CB18: 8 | CC18: 0 | CD18: 0 | CE18: 2 | CF18: 3 | CG18: 0 | CH18: 0 | CI18: 0 | CJ18: 0 | CK18: 0 | CL18: 0 | CM18: 0 | CN18: 4 | CO18: 0 | CP18: 0 | CQ18: 0 | CR18: 0 | CS18: 0 | CT18: 0 | CU18: 0 | CV18: 0 | CW18: 0 | CX18: 0 | CY18: 0 | CZ18: 0 | DA18: 0 | DB18: 0 | DC18: 0 | DD18: 0 | DE18: 0 | DF18: 0 | DG18: 0 | DH18: 0 | DI18: 0 | DJ18: 0 | DK18: 0 | DL18: 0 | DM18: 0 | DN18: 0 | DO18: 0 | DP18: 0 | DQ18: 0 | DR18: 0 | DS18: 0 | DT18: 0 | DU18: 0 | DV18: 0 | DW18: 0 | DX18: 0 | DY18: 0 | DZ18: 0 | EA18: 0 | EB18: 0 | EC18: 0 | ED18: 0 | EE18: 0 | EF18: 0 | EG18: 0 | EH18: 0 | EI18: 0 | EJ18: 0 | EK18: 0 | EL18: 0 | EM18: 0 | EN18: 0 | EO18: 0 | EP18: 0 | EQ18: 0 | ER18: 0 | ES18: 0 | ET18: 0 | EU18: 0 | EV18: 0 | EW18: 0 | EX18: 0 | EY18: 0 | EZ18: 0 | FA18: 0 | FB18: 0 | FC18: 0 | FD18: 0 | FE18: 0 | FF18: 0 | FG18: 0 | FH18: 0 | FI18: 0 | FJ18: 0 | FK18: 0 | FL18: 0 | FM18: 0 | FN18: 0 | FO18: 0 | FP18: 0 | FQ18: 0 | FR18: 0 | FS18: 0 | FT18: 0 | FU18: 0 | FV18: 0 | FW18: 0 | FX18: 0 | FY18: 0 | FZ18: 0 | GA18: 0 | GB18: 0 | GC18: 0 | GD18: 0 | GE18: 0 | GF18: 0 | GG18: 0 | GH18: 0 | GI18: 0 | GJ18: 0 | GK18: 0 | GL18: 0 | GM18: 0 | GN18: 0 | GO18: 0 | GP18: 0 | GQ18: 0 | GR18: 0 | GS18: 0 | GT18: 0 | GU18: 0 | GV18: 0 | GW18: 0 | GX18: 0 | GY18: 0 | GZ18: 0 | HA18: 0 | HB18: 0 | HC18: 0 | HD18: 0 | HE18: 0 | HF18: 2 | HG18: 10 | HH18: 10 | HI18: 0 | HJ18: 0 | HK18: 0 | HL18: 0 | HM18: 0 | HN18: 0 | HO18: 0 | HP18: 0 | HQ18: 0 | HR18: 0 | HS18: 0 | HT18: 0 | HU18: 0 | HV18: 0 | HW18: 0 | HX18: 0 | HY18: 0 | HZ18: 0
A19: 2026 | B19: 9 | C19: MAZAMARI | D19: MAZAMARI | E19: 436 | F19: PUEBLO LIBRE DE PAURIALI | G19: 0 | H19: 0 | I19: 0 | J19: 0 | K19: 0 | L19: 0 | M19: 0 | N19: 0 | O19: 0 | P19: 0 | Q19: 0 | R19: 0 | S19: 0 | T19: 0 | U19: 0 | V19: 0 | W19: 0 | X19: 0 | Y19: 0 | Z19: 0 | AA19: 0 | AB19: 0 | AC19: 0 | AD19: 0 | AE19: 0 | AF19: 0 | AG19: 0 | AH19: 0 | AI19: 0 | AJ19: 0 | AK19: 0 | AL19: 0 | AM19: 0 | AN19: 0 | AO19: 0 | AP19: 0 | AQ19: 0 | AR19: 0 | AS19: 0 | AT19: 0 | AU19: 0 | AV19: 0 | AW19: 0 | AX19: 0 | AY19: 0 | AZ19: 0 | BA19: 8 | BB19: 1 | BC19: 0 | BD19: 2 | BE19: 0 | BF19: 0 | BG19: 3 | BH19: 0 | BI19: 0 | BJ19: 0 | BK19: 3 | BL19: 0 | BM19: 0 | BN19: 0 | BO19: 3 | BP19: 0 | BQ19: 0 | BR19: 0 | BS19: 0 | BT19: 0 | BU19: 0 | BV19: 0 | BW19: 0 | BX19: 0 | BY19: 0 | BZ19: 0 | CA19: 0 | CB19: 0 | CC19: 0 | CD19: 0 | CE19: 2 | CF19: 2 | CG19: 0 | CH19: 0 | CI19: 0 | CJ19: 0 | CK19: 0 | CL19: 0 | CM19: 0 | CN19: 0 | CO19: 0 | CP19: 0 | CQ19: 0 | CR19: 0 | CS19: 0 | CT19: 0 | CU19: 0 | CV19: 0 | CW19: 0 | CX19: 0 | CY19: 0 | CZ19: 0 | DA19: 0 | DB19: 0 | DC19: 0 | DD19: 0 | DE19: 0 | DF19: 0 | DG19: 0 | DH19: 0 | DI19: 0 | DJ19: 0 | DK19: 0 | DL19: 0 | DM19: 0 | DN19: 0 | DO19: 0 | DP19: 0 | DQ19: 0 | DR19: 0 | DS19: 0 | DT19: 0 | DU19: 0 | DV19: 0 | DW19: 0 | DX19: 0 | DY19: 0 | DZ19: 0 | EA19: 0 | EB19: 0 | EC19: 0 | ED19: 0 | EE19: 0 | EF19: 0 | EG19: 0 | EH19: 0 | EI19: 0 | EJ19: 0 | EK19: 0 | EL19: 0 | EM19: 0 | EN19: 0 | EO19: 0 | EP19: 0 | EQ19: 0 | ER19: 0 | ES19: 0 | ET19: 0 | EU19: 0 | EV19: 0 | EW19: 0 | EX19: 0 | EY19: 0 | EZ19: 0 | FA19: 0 | FB19: 0 | FC19: 0 | FD19: 0 | FE19: 0 | FF19: 0 | FG19: 0 | FH19: 0 | FI19: 0 | FJ19: 0 | FK19: 0 | FL19: 0 | FM19: 0 | FN19: 0 | FO19: 0 | FP19: 0 | FQ19: 0 | FR19: 0 | FS19: 0 | FT19: 0 | FU19: 0 | FV19: 0 | FW19: 0 | FX19: 0 | FY19: 0 | FZ19: 0 | GA19: 0 | GB19: 0 | GC19: 0 | GD19: 0 | GE19: 0 | GF19: 0 | GG19: 0 | GH19: 0 | GI19: 0 | GJ19: 0 | GK19: 0 | GL19: 0 | GM19: 0 | GN19: 0 | GO19: 0 | GP19: 0 | GQ19: 0 | GR19: 0 | GS19: 0 | GT19: 0 | GU19: 0 | GV19: 0 | GW19: 0 | GX19: 0 | GY19: 0 | GZ19: 0 | HA19: 0 | HB19: 0 | HC19: 2 | HD19: 29 | HE19: 29 | HF19: 2 | HG19: 3 | HH19: 3 | HI19: 0 | HJ19: 0 | HK19: 0 | HL19: 0 | HM19: 0 | HN19: 0 | HO19: 0 | HP19: 0 | HQ19: 0 | HR19: 0 | HS19: 0 | HT19: 0 | HU19: 0 | HV19: 0 | HW19: 0 | HX19: 0 | HY19: 0 | HZ19: 0
A20: 2026 | B20: 9 | C20: MAZAMARI | D20: MAZAMARI | E20: 34003 | F20: SAN FRANCISCO DE CUBARO | G20: 0 | H20: 0 | I20: 0 | J20: 0 | K20: 0 | L20: 0 | M20: 0 | N20: 0 | O20: 0 | P20: 0 | Q20: 0 | R20: 0 | S20: 0 | T20: 0 | U20: 0 | V20: 0 | W20: 0 | X20: 0 | Y20: 0 | Z20: 0 | AA20: 0 | AB20: 0 | AC20: 0 | AD20: 0 | AE20: 0 | AF20: 0 | AG20: 0 | AH20: 0 | AI20: 0 | AJ20: 0 | AK20: 0 | AL20: 0 | AM20: 0 | AN20: 0 | AO20: 0 | AP20: 0 | AQ20: 0 | AR20: 0 | AS20: 0 | AT20: 0 | AU20: 0 | AV20: 0 | AW20: 0 | AX20: 0 | AY20: 0 | AZ20: 0 | BA20: 3 | BB20: 0 | BC20: 0 | BD20: 0 | BE20: 3 | BF20: 1 | BG20: 2 | BH20: 0 | BI20: 0 | BJ20: 0 | BK20: 2 | BL20: 0 | BM20: 0 | BN20: 0 | BO20: 0 | BP20: 0 | BQ20: 0 | BR20: 0 | BS20: 0 | BT20: 0 | BU20: 0 | BV20: 0 | BW20: 0 | BX20: 0 | BY20: 0 | BZ20: 0 | CA20: 1 | CB20: 0 | CC20: 0 | CD20: 0 | CE20: 0 | CF20: 1 | CG20: 0 | CH20: 0 | CI20: 0 | CJ20: 0 | CK20: 0 | CL20: 0 | CM20: 0 | CN20: 0 | CO20: 0 | CP20: 0 | CQ20: 0 | CR20: 0 | CS20: 0 | CT20: 0 | CU20: 0 | CV20: 0 | CW20: 0 | CX20: 0 | CY20: 0 | CZ20: 0 | DA20: 0 | DB20: 0 | DC20: 0 | DD20: 0 | DE20: 0 | DF20: 0 | DG20: 0 | DH20: 0 | DI20: 0 | DJ20: 0 | DK20: 0 | DL20: 0 | DM20: 0 | DN20: 0 | DO20: 0 | DP20: 0 | DQ20: 0 | DR20: 0 | DS20: 0 | DT20: 0 | DU20: 0 | DV20: 0 | DW20: 0 | DX20: 0 | DY20: 0 | DZ20: 0 | EA20: 0 | EB20: 0 | EC20: 0 | ED20: 0 | EE20: 0 | EF20: 0 | EG20: 0 | EH20: 0 | EI20: 0 | EJ20: 0 | EK20: 0 | EL20: 0 | EM20: 0 | EN20: 0 | EO20: 0 | EP20: 0 | EQ20: 0 | ER20: 0 | ES20: 0 | ET20: 0 | EU20: 0 | EV20: 0 | EW20: 0 | EX20: 0 | EY20: 0 | EZ20: 0 | FA20: 0 | FB20: 0 | FC20: 0 | FD20: 0 | FE20: 0 | FF20: 0 | FG20: 0 | FH20: 0 | FI20: 0 | FJ20: 0 | FK20: 0 | FL20: 0 | FM20: 0 | FN20: 0 | FO20: 0 | FP20: 0 | FQ20: 0 | FR20: 0 | FS20: 0 | FT20: 0 | FU20: 0 | FV20: 0 | FW20: 0 | FX20: 0 | FY20: 0 | FZ20: 0 | GA20: 0 | GB20: 0 | GC20: 0 | GD20: 0 | GE20: 0 | GF20: 0 | GG20: 0 | GH20: 0 | GI20: 0 | GJ20: 0 | GK20: 0 | GL20: 0 | GM20: 0 | GN20: 0 | GO20: 0 | GP20: 0 | GQ20: 0 | GR20: 0 | GS20: 0 | GT20: 0 | GU20: 0 | GV20: 0 | GW20: 0 | GX20: 0 | GY20: 0 | GZ20: 0 | HA20: 0 | HB20: 0 | HC20: 1 | HD20: 6 | HE20: 6 | HF20: 0 | HG20: 0 | HH20: 0 | HI20: 0 | HJ20: 0 | HK20: 0 | HL20: 0 | HM20: 0 | HN20: 0 | HO20: 0 | HP20: 0 | HQ20: 0 | HR20: 0 | HS20: 0 | HT20: 0 | HU20: 0 | HV20: 0 | HW20: 0 | HX20: 0 | HY20: 0 | HZ20: 0
A21: 2026 | B21: 9 | C21: MAZAMARI | D21: MAZAMARI | E21: 16909 | F21: TEORIA | G21: 0 | H21: 0 | I21: 0 | J21: 0 | K21: 0 | L21: 0 | M21: 0 | N21: 0 | O21: 0 | P21: 0 | Q21: 0 | R21: 0 | S21: 0 | T21: 0 | U21: 0 | V21: 0 | W21: 0 | X21: 0 | Y21: 0 | Z21: 0 | AA21: 0 | AB21: 0 | AC21: 0 | AD21: 0 | AE21: 0 | AF21: 0 | AG21: 0 | AH21: 0 | AI21: 0 | AJ21: 0 | AK21: 0 | AL21: 0 | AM21: 0 | AN21: 0 | AO21: 0 | AP21: 0 | AQ21: 0 | AR21: 0 | AS21: 0 | AT21: 0 | AU21: 0 | AV21: 0 | AW21: 0 | AX21: 0 | AY21: 0 | AZ21: 0 | BA21: 4 | BB21: 2 | BC21: 0 | BD21: 0 | BE21: 4 | BF21: 2 | BG21: 0 | BH21: 0 | BI21: 0 | BJ21: 0 | BK21: 2 | BL21: 0 | BM21: 0 | BN21: 0 | BO21: 2 | BP21: 0 | BQ21: 0 | BR21: 0 | BS21: 0 | BT21: 0 | BU21: 0 | BV21: 0 | BW21: 0 | BX21: 0 | BY21: 0 | BZ21: 0 | CA21: 0 | CB21: 0 | CC21: 0 | CD21: 0 | CE21: 3 | CF21: 1 | CG21: 0 | CH21: 0 | CI21: 0 | CJ21: 0 | CK21: 0 | CL21: 0 | CM21: 0 | CN21: 0 | CO21: 0 | CP21: 0 | CQ21: 0 | CR21: 0 | CS21: 0 | CT21: 0 | CU21: 0 | CV21: 0 | CW21: 0 | CX21: 0 | CY21: 0 | CZ21: 0 | DA21: 0 | DB21: 0 | DC21: 0 | DD21: 0 | DE21: 0 | DF21: 0 | DG21: 0 | DH21: 0 | DI21: 0 | DJ21: 0 | DK21: 0 | DL21: 0 | DM21: 0 | DN21: 0 | DO21: 0 | DP21: 0 | DQ21: 0 | DR21: 0 | DS21: 0 | DT21: 0 | DU21: 0 | DV21: 0 | DW21: 0 | DX21: 0 | DY21: 0 | DZ21: 0 | EA21: 0 | EB21: 0 | EC21: 0 | ED21: 0 | EE21: 0 | EF21: 0 | EG21: 0 | EH21: 0 | EI21: 0 | EJ21: 0 | EK21: 0 | EL21: 0 | EM21: 0 | EN21: 0 | EO21: 0 | EP21: 0 | EQ21: 0 | ER21: 0 | ES21: 0 | ET21: 0 | EU21: 0 | EV21: 0 | EW21: 0 | EX21: 0 | EY21: 0 | EZ21: 0 | FA21: 0 | FB21: 0 | FC21: 0 | FD21: 0 | FE21: 0 | FF21: 0 | FG21: 0 | FH21: 0 | FI21: 0 | FJ21: 0 | FK21: 0 | FL21: 0 | FM21: 0 | FN21: 0 | FO21: 0 | FP21: 0 | FQ21: 0 | FR21: 0 | FS21: 0 | FT21: 0 | FU21: 0 | FV21: 0 | FW21: 0 | FX21: 0 | FY21: 0 | FZ21: 0 | GA21: 0 | GB21: 0 | GC21: 0 | GD21: 0 | GE21: 0 | GF21: 0 | GG21: 0 | GH21: 0 | GI21: 0 | GJ21: 0 | GK21: 0 | GL21: 0 | GM21: 0 | GN21: 0 | GO21: 0 | GP21: 0 | GQ21: 0 | GR21: 0 | GS21: 0 | GT21: 0 | GU21: 0 | GV21: 0 | GW21: 0 | GX21: 0 | GY21: 0 | GZ21: 0 | HA21: 0 | HB21: 0 | HC21: 2 | HD21: 13 | HE21: 13 | HF21: 1 | HG21: 2 | HH21: 2 | HI21: 0 | HJ21: 0 | HK21: 0 | HL21: 0 | HM21: 2 | HN21: 2 | HO21: 2 | HP21: 4 | HQ21: 0 | HR21: 0 | HS21: 0 | HT21: 0 | HU21: 0 | HV21: 0 | HW21: 0 | HX21: 0 | HY21: 0 | HZ21: 0
... A24: 2026 | B24: 9 | C24: PANGOA | D24: MAZAMARI | E24: 438 | F24: TZIRIARI | G24: 0 | H24: 0 | I24: 0 | J24: 0 | K24: 0 | L24: 0 | M24: 0 | N24: 0 | O24: 0 | P24: 0 | Q24: 0 | R24: 0 | S24: 0 | T24: 0 | U24: 0 | V24: 0 | W24: 0 | X24: 0 | Y24: 0 | Z24: 0 | AA24: 0 | AB24: 0 | AC24: 0 | AD24: 0 | AE24: 0 | AF24: 0 | AG24: 0 | AH24: 0 | AI24: 0 | AJ24: 0 | AK24: 0 | AL24: 0 | AM24: 0 | AN24: 0 | AO24: 0 | AP24: 0 | AQ24: 0 | AR24: 0 | AS24: 0 | AT24: 0 | AU24: 0 | AV24: 0 | AW24: 0 | AX24: 0 | AY24: 0 | AZ24: 0 | BA24: 4 | BB24: 1 | BC24: 0 | BD24: 0 | BE24: 6 | BF24: 7 | BG24: 0 | BH24: 0 | BI24: 0 | BJ24: 0 | BK24: 1 | BL24: 1 | BM24: 0 | BN24: 0 | BO24: 1 | BP24: 1 | BQ24: 0 | BR24: 0 | BS24: 0 | BT24: 0 | BU24: 0 | BV24: 0 | BW24: 0 | BX24: 0 | BY24: 0 | BZ24: 0 | CA24: 3 | CB24: 0 | CC24: 0 | CD24: 0 | CE24: 1 | CF24: 1 | CG24: 0 | CH24: 0 | CI24: 0 | CJ24: 0 | CK24: 0 | CL24: 0 | CM24: 0 | CN24: 0 | CO24: 0 | CP24: 0 | CQ24: 0 | CR24: 0 | CS24: 0 | CT24: 0 | CU24: 0 | CV24: 0 | CW24: 0 | CX24: 0 | CY24: 0 | CZ24: 0 | DA24: 0 | DB24: 0 | DC24: 0 | DD24: 0 | DE24: 0 | DF24: 0 | DG24: 0 | DH24: 0 | DI24: 0 | DJ24: 0 | DK24: 0 | DL24: 0 | DM24: 0 | DN24: 0 | DO24: 0 | DP24: 0 | DQ24: 0 | DR24: 0 | DS24: 0 | DT24: 0 | DU24: 0 | DV24: 0 | DW24: 0 | DX24: 0 | DY24: 0 | DZ24: 0 | EA24: 0 | EB24: 0 | EC24: 0 | ED24: 0 | EE24: 0 | EF24: 0 | EG24: 0 | EH24: 0 | EI24: 0 | EJ24: 0 | EK24: 0 | EL24: 0 | EM24: 0 | EN24: 0 | EO24: 0 | EP24: 0 | EQ24: 0 | ER24: 0 | ES24: 0 | ET24: 0 | EU24: 0 | EV24: 0 | EW24: 0 | EX24: 0 | EY24: 0 | EZ24: 0 | FA24: 0 | FB24: 0 | FC24: 0 | FD24: 0 | FE24: 0 | FF24: 0 | FG24: 0 | FH24: 0 | FI24: 0 | FJ24: 0 | FK24: 0 | FL24: 0 | FM24: 0 | FN24: 0 | FO24: 0 | FP24: 0 | FQ24: 0 | FR24: 0 | FS24: 0 | FT24: 0 | FU24: 0 | FV24: 0 | FW24: 0 | FX24: 0 | FY24: 0 | FZ24: 0 | GA24: 0 | GB24: 0 | GC24: 0 | GD24: 0 | GE24: 0 | GF24: 0 | GG24: 0 | GH24: 0 | GI24: 0 | GJ24: 0 | GK24: 0 | GL24: 0 | GM24: 0 | GN24: 0 | GO24: 0 | GP24: 0 | GQ24: 0 | GR24: 0 | GS24: 0 | GT24: 0 | GU24: 0 | GV24: 0 | GW24: 0 | GX24: 0 | GY24: 0 | GZ24: 0 | HA24: 0 | HB24: 0 | HC24: 2 | HD24: 46 | HE24: 46 | HF24: 0 | HG24: 0 | HH24: 0 | HI24: 0 | HJ24: 0 | HK24: 0 | HL24: 0 | HM24: 1 | HN24: 2 | HO24: 2 | HP24: 5 | HQ24: 1 | HR24: 2 | HS24: 0 | HT24: 0 | HU24: 1 | HV24: 10 | HW24: 1 | HX24: 10 | HY24: 1 | HZ24: 10

Sheet PP002-Materno
A1: MENSUAL | G1: 2.1.1 SUB PRODUCTO 3341201: FAMILIAS DE LA GESTANTE Y PUERPERA QUE RECIBEN CONSEJERÍA EN EL HOGAR A TRAVES DE LA VISITA DOMICILIARIA PARA PROMOVER PRÁCTICAS SALUDABLES EN SALUD SEXUAL Y REPRODUCTIVA DURANTE LA VISITA DOMICILIARIA | S1: 2.1.2 SUB PRODUCTO 3341202: AGENTES COMUNITARIOS DE SALUD CAPACITADOS REALIZAN ORIENTACION A FAMILIAS DE GESTANTES Y PUERPERAS EN PRÁCTICAS SALUDABLES EN SALUD SEXUAL Y REPRODUCTIVA | AE1: 2.1.3 SUB PRODUCTO 3341203: FAMILIA DE ADOLESCENTES QUE RECIBEN SESIONES EDUCATIVAS Y DEMOSTRATIVAS PARA PROMOVER PRÁCTICAS SALUDABLES EN SALUD SEXUAL INTEGRAL | AS1: 2.2.1 SUB PRODUCTO 3341204: DOCENTES CAPACITADOS REALIZAN EDUCACION SEXUAL INTEGRAL DESDE LA INSTITUCIÓN EDUCATIVA | CM1: 2.2.2 SUB PRODUCTO 3341205: FUNCIONARIOS MUNICIPALES CAPACITADOS GESTIONAN ESPACIOS EDUCATIVOS PARA PROMOVER LA SALUD SEXUAL Y REPRODUCTIVA
A2: AÑO | B2: MES | C2: DISTRITO | D2: MICRORED | E2: Código RENAES | F2: Departamento, Red, Provincia, Distrito y Establecimiento | G2: 1.1. Consejería durante el Periodo Gestacional REGISTRO Nº 39 Y 40 | M2: 1.2. Consejería durante el periodo post natal REGISTRO Nº 41 Y 42 | S2: GESTANTE 2.1. 1° Orientación: Entre la 28 y 40 semana (tercer trimestre) de gestación REGISTRO Nº 43 | U2: PUERPERA 2.2. 2° Orientación: En los 7 primeros días de producido el parto REGISTRO Nº 44 | W2: 2.3. Capacitación a agentes comunitarios de Salud en Salud Sexual y Reproductiva REGISTRO Nº 45 | AC2: 2.4. Referencia comunitaria realizadas por Agente Comunitario de Salud: REGISTRO Nº 46 | AE2: 3.1. Sesiones educativas y demostrativas a familias de adolescentes REGISTRO Nº 47 | AS2: 4.1. Incidencia ante la Unidad de Gestión Educativa Local–UGEL REGISTRO Nº 48 | AU2: 4.2. Incidencia con directivos y docentes de instituciones educativas REGISTRO Nº 49 | AW2: 4.3. Capacitación a docentes y directivos de instituciones educativas REGISTROS Nº 49 | BY2: 4.4. Docentes capacitados que realizan sesiones de aprendizaje de salud sexual a los adolescentes. REGISTRO Nº 50 | CM2: 5.1. Acciones de incidencia y asesoramiento REGISTRO Nº 51 | CP2: 5.2. Capacitación a Funcionarios Municipales/Comité de Gestión Local/Comité Multisectorial de Salud. REGISTRO Nº 52 | CV2: REGISTRO Nº 53 5.3. Reunión de Monitoreo con Funcionarios Municipales/Comité de Gestión Local/Comité Multisectorial de Salud para la implementación de espacios educativos para promover la salud sexual y reproductiva | CX2: 5.4. Reunión de Monitoreo con Funcionarios Municipales/Comité de Gestión Local/Comité Multisectorial de Salud para la implementación de espacios educativos para promover la salud sexual y reproductiva
G3: VISITA DOMICILIARIA (FUR) | J3: TELEORIENTACION | M3: VISITA DOMICILIARIA (PUERPERA) | P3: TELEORIENTACION | W3: Para indicar Vigilancia Comunitaria | Y3: Para prácticas saludables | AA3: Referencia Comunal | AW3: Sexualidad LAB 1 | BA3: Identidad LAB 2 | BE3: Cambios en la Pubertad y Adolescencia LAB 3 | BI3: Igualdad de Genero LAB 4 | BM3: Relaciones afectivas y libres de violencia. LAB 5 | BQ3: Previniendo el abuso sexual y maltrato. LAB 6 | BU3: Planificando el futuro. LAB 7 | BY3: DOCENTES DE IE. NIVEL PRIMARIO | CM3: Implementación de la Casa Materna | CN3: Implementación del Centros de Desarrollo Juvenil. | CO3: Implementacion de Programas educativos comunicacionales en salud sexual y reproductiva. | CP3: Implementación y funcionamiento de la Casa Materna | CR3: Implementación y funcionamiento de Centros de Desarrollo Juvenil. | CT3: Si la reunion tiene como agenda la implementacion de Programas educativos comunicacionales en salud sexual y reproductiva. | CV3: Implementación y funcionamiento de la Casa Materna | CW3: Implementación y funcionamiento de Centros de Desarrollo Juvenil. | CX3: Implementación y funcionamiento de la Casa Materna REGISTRO Nº 54 | DA3: Implementación y funcionamiento de Centros de Desarrollo Juvenil. REGISTRO Nº 54
G4: ---------------- | H4: 1° Consejería | I4: 2° Consejería | J4: ---------------- | K4: 1° Consejería | L4: 2° Consejería | M4: 1° Consejería | N4: 2° Consejería | O4: ---------------- | P4: 1° Consejería | Q4: 2° Consejería | R4: ---------------- | AE4: 1er eje temático: Sexualidad. | AG4: 2do eje temático: Identidad. | AI4: 3er eje temático: Cambios en la Pubertad y Adolescencia. | AK4: 4to eje temático: Igualdad de género. | AM4: 5to eje temático: Relaciones afectivas y libres de violencia. | AO4: 6to eje temático: Previniendo el abuso sexual y maltrato. | AQ4: 7to eje temático: Planificando el futuro. | AW4: Docente Nivel Primaria LAB TP | AY4: Docente Nivel Secundaria LAB TS | BA4: Docente Nivel Primaria LAB TP | BC4: Docente Nivel Secundaria LAB TS | BE4: Docente Nivel Primaria LAB TP | BG4: Docente Nivel Secundaria LAB TS | BI4: Docente Nivel Primaria LAB TP | BK4: Docente Nivel Secundaria LAB TS | BM4: Docente Nivel Primaria LAB TP | BO4: Docente Nivel Secundaria LAB TS | BQ4: Docente Nivel Primaria LAB TP | BS4: Docente Nivel Secundaria LAB TS | BU4: Docente Nivel Primaria LAB TP | BW4: Docente Nivel Secundaria LAB TS | BY4: Sexualidad | CA4: Identidad | CC4: Cambios en la Pubertad y Adolescencia | CE4: Igualdad de género | CG4: Relaciones afectivas y libres de violencia | CI4: Previniendo el abuso sexual y maltrato | CK4: Planificando el futuro
G5: DNI DE GESTANTE O PUERPERA + (FECHA DE ULTIMA REGLA =1º TRIMESTRE DE GESTACIÓN)/ (DX1= 99402.03 + LAB1="BLANCO")+ (DX2= C0011 + LAB1="BLANCO") | H5: DNI DE GESTANTE O PUERPERA + (FECHA DE ULTIMA REGLA =2º TRIMESTRE DE GESTACIÓN)/ (DX1= 99402.03 + LAB1="1")+ (DX2= C0011 + LAB1="BLANCO") | I5: DNI DE GESTANTE O PUERPERA + (FECHA DE ULTIMA REGLA =3º TRIMESTRE DE GESTACIÓN)/ (DX1= 99402.03 + LAB1="2")+ (DX2= C0011 + LAB1="BLANCO") | J5: DNI DE GESTANTE O PUERPERA + (FECHA DE ULTIMA REGLA =1º TRIMESTRE DE GESTACIÓN)/ (DX1= 99402.03 + LAB1="BLANCO")+ (DX2= 99499.08 + LAB1="BLANCO") | K5: DNI DE GESTANTE O PUERPERA + (FECHA DE ULTIMA REGLA =2º TRIMESTRE DE GESTACIÓN)/ (DX1= 99402.03 + LAB1="1")+ (DX2= C0011 + LAB1="BLANCO") | L5: DNI DE GESTANTE O PUERPERA + (FECHA DE ULTIMA REGLA =3º TRIMESTRE DE GESTACIÓN)/ (DX1= 99402.03 + LAB1="2")+ (DX2= C0011 + LAB1="BLANCO") | M5: DNI DE GESTANTE O PUERPERA / (DX1= 99401.08 + LAB1="1")+ (DX2= C0011 + LAB1="1") | N5: DNI DE GESTANTE O PUERPERA / (DX1= 99401.08 + LAB1="2")+ (DX2= C0011 + LAB1="2") | O5: DNI DE GESTANTE O PUERPERA / (DX1= 99401.08 + LAB1="3")+ (DX2= C0011 + LAB1="BLANCO") | P5: DNI DE GESTANTE O PUERPERA / (DX1= 99401.08 + LAB1="1")+ (DX2= 99499.08 + LAB1="1") | Q5: DNI DE GESTANTE O PUERPERA / (DX1= 99401.08 + LAB1="2")+ (DX2= 99499.08 + LAB1="2") | R5: DNI DE GESTANTE O PUERPERA / (DX1= 99401.08 + LAB1="3")+ (DX2= 99499.08 + LAB1="BLANCO") | S5: DNI DE GESTANTE / (DX1= C2062 + LAB1="1" + LAB2="PDS")+ (DX2= C0011 + LAB1="BLANCO") (FUR) | T5: DNI DE GESTANTE / (DX1= C2062 + LAB1="2" + LAB2="PDS")+ (DX2= C0011 + LAB1="BLANCO") (FUR) | U5: DNI DE PUERPERA + / (DX1= C2062 + LAB1="1" + LAB2="PDS")+ (DX2= C0011 + LAB1="BLANCO") | V5: DNI DE PUERPERA + / (DX1= C2062 + LAB1="2" + LAB2="PDS")+ (DX2= C0011 + LAB1="BLANCO") | W5: APP138 (AGENTES COMUNITARIOS) + / (DX1= C3151 + LAB1="NUMERO DE AGENTES COMUNITARIOS" + LAB2="VCO" + LAB3="002" PROGRAMA DE MATERNO NEONATARL) | Y5: APP138 (AGENTES COMUNITARIOS) + / (DX1= C3151 + LAB1="NUMERO DE AGENTES COMUNITARIOS" + LAB2="PSA" + LAB3="002" PROGRAMA DE MATERNO NEONATARL) | AA5: APP138 (AGENTES COMUNITARIOS) + / (DX1= C3151 + LAB1="NUMERO DE AGENTES COMUNITARIOS" + LAB2="RF" + LAB3="002" PROGRAMA DE MATERNO NEONATARL) | AC5: APP138 (AGENTES COMUNITARIOS)/ (DX1=C2062+LAB1="NUMERO DE REFERENCIAS"+LAB2=RF+LAB3="002" PROGRAMA DE MATERNO NEONATAL) | AE5: APP146 (DX1=C0009+LAB1="NUMERO DE PARTICIPANTES"+LAB2="1"+LAB3="002") | AG5: APP146 (DX1=C0009+LAB1="NUMERO DE PARTICIPANTES"+LAB2="2"+LAB3="002") | AI5: APP146 (DX1=C0009+LAB1="NUMERO DE PARTICIPANTES"+LAB2="3"+LAB3="002") | AK5: APP146 (DX1=C0009+LAB1="NUMERO DE PARTICIPANTES"+LAB2="4"+LAB3="002") | AM5: APP146 (DX1=C0009+LAB1="NUMERO DE PARTICIPANTES"+LAB2="5"+LAB3="002") | AO5: APP146 (DX1=C0009+LAB1="NUMERO DE PARTICIPANTES"+LAB2="6"+LAB3="002") | AQ5: APP146 (DX1=C0009+LAB1="NUMERO DE PARTICIPANTES"+LAB2="7"+LAB3="002") | AS5: CONTAR APP93 / (DX1=C0002+LAB1="N° DE PARTICIPANTES" +LAB2=UGL + LAB3=002) REGISTRO N°45 | AU5: CONTAR APP93 / (DX1=C0002+LAB1="N° DE PARTICIPANTES" +LAB2=IE + LAB3=002) REGISTRO N°45 | AW5: CONTAR APP144 / (DX1=C0002+LAB1="N° DE PARTICIPANTES"+LAB2=1+LAB3=TP) + (DX2=C0005+ LAB1="002") REGISTRO N°46 | AY5: CONTAR APP144 / (DX1=C0002+LAB1"N° DE PARTICIPANTES"+LAB2=1+LAB3=TS) + (DX2=C0005+LAB1="002") | BA5: CONTAR APP144 / (DX1=C0002+LAB1="N° DE PARTICIPANTES"+LAB2=2+LAB3=TP) + (DX2=C0005+LAB1="002") | BC5: CONTAR APP144 / (DX1=C0002+LAB1="N° DE PARTICIPANTES"+LAB2=2+LAB3=TS) + (DX2=C0005+ LAB1="002") | BE5: CONTAR APP144 / (DX1=C0002+LAB1="N° DE PARTICIPANTES"+LAB2=3+LAB3=TP) + (DX2=C0005+LAB1="002") | BG5: CONTAR APP144 / (DX1=C0002+LAB1="N° DE PARTICIPANTES"+LAB2=3+LAB3=TS) + (DX2=C0005+ LAB1="002") | BI5: CONTAR APP144 / (DX1=C0002+LAB1="N° DE PARTICIPANTES"+LAB2=4+LAB4=TP) + (DX2=C0005+LAB1="002") | BK5: CONTAR APP144 / (DX1=C0002+LAB1="N° DE PARTICIPANTES"+LAB2=4+LAB4=TS) + (DX2=C0005+LAB1="002") | BM5: CONTAR APP144 / (DX1=C0002+LAB1="N° DE PARTICIPANTES"+LAB2=5+LAB4=TP) + (DX2=C0005+LAB1="002") | BO5: CONTAR APP144 / (DX1=C0002+LAB1="N° DE PARTICIPANTES"+LAB2=5+LAB4=TS) + (DX2=C0005+LAB1="002") | BQ5: CONTAR APP144 / (DX1=C0002+LAB1="N° DE PARTICIPANTES"+LAB2=6+LAB4=TP) + (DX2=C0005+LAB1="002") | BS5: CONTAR APP144 / (DX1=C0002+LAB1="N° DE PARTICIPANTES"+LAB2=6+LAB4=TS) + (DX2=C0005+LAB1="002") | BU5: CONTAR APP144 / (DX1=C0002+LAB1="N° DE PARTICIPANTES"+LAB2=7+LAB4=TP) + (DX2=C0005+LAB1="002") | BW5: CONTAR APP144 / (DX1=C0002+LAB1="N° DE PARTICIPANTES"+LAB2=7+LAB4=TS) + (DX2=C0005+LAB1="002") | BY5: CONTAR APP141 / (DX1=C0005+ LAB1="N° PARTICIPANTES"+ LAB2=1+LAB3="002") | CA5: CONTAR APP141 / (DX1=C0005+ LAB1="N° PARTICIPANTES"+ LAB2=2+LAB3="002") | CC5: CONTAR APP141 / (DX1=C0005+ LAB1="N° PARTICIPANTES"+ LAB2=3+LAB3="002") | CE5: CONTAR APP141 / (DX1=C0005+ LAB1="N° PARTICIPANTES"+ LAB2=4+LAB3="002") | CG5: CONTAR APP141 / (DX1=C0005+ LAB1="N° PARTICIPANTES"+ LAB2=5+LAB3="002") | CI5: CONTAR APP141 / (DX1=C0005+ LAB1="N° PARTICIPANTES"+ LAB2=6+LAB3="002") | CK5: CONTAR APP141 / (DX1=C0005+ LAB1="N° PARTICIPANTES"+ LAB2=7+LAB3="002") | CM5: CONTAR APP104 / (DX1=C0001+ LAB1=CM+ LAB2=002) | CN5: CONTAR APP104 / (DX1=C0001+ LAB1=CDJ+ LAB2=002) | CO5: CONTAR APP104 / (DX1=C0001+ LAB1=PEC+ LAB2=002) | CP5: CONTAR APP104 / (DX1=C3061+ LAB1="N° PART"+ LAB2=CM+ LAB3=002) | CR5: CONTAR APP104 / (DX1=C3061+ LAB1="N° PART"+ LAB2=CDJ+ LAB3=002) | CT5: CONTAR APP104 / (DX1=C3061+ LAB1="N° PART"+ LAB2=PEC+ LAB3=002) | CV5: CONTAR APP96 / (DX1=C7001+ LAB1=CM+ LAB2=002) | CW5: CONTAR APP96 / (DX1=C7001+ LAB1=CDJ+ LAB2=002) | CX5: CONTAR APP96 / (DX1=C0001+ LAB1=CM+ LAB2=1+ LAB3="N° PART.")+ (DX2=C7003) | CZ5: CONTAR APP96 / (DX1=C0001+ LAB1=CM+ LAB2=2)+ (DX2=C7003) | DA5: CONTAR APP96 / (DX1=C0001+ LAB1=CDJ+ LAB2=1+ LAB3="N° PART.")+ (DX2=C7003) | DC5: CONTAR APP96 / (DX1=C0001+ LAB1=CDJ+ LAB2=2)+ (DX2=C7003)
S6: Orientación 1 | T6: Orientación 2 | U6: Orientación 1 | V6: Orientación 2 | W6: TALLER 1 | Y6: TALLER 1 | AA6: TALLER 1 | AC6: Nº | AD6: REFERENCIAS | AE6: N° | AF6: PART. | AG6: N° | AH6: PART. | AI6: N° | AJ6: PART. | AK6: N° | AL6: PART. | AM6: N° | AN6: PART. | AO6: N° | AP6: PART. | AQ6: N° | AR6: PART. | CX6: SE ENCUENTRA FUNCIONARIO | CZ6: NO SE ENCUENTRA | DA6: SE ENCUENTRA FUNCIONARIO | DC6: NO SE ENCUENTRA
G7: 1° Trimestre | H7: 2° Trimestre | I7: 3° Trimestre | J7: 1° Trimestre | K7: 2° Trimestre | L7: 3° Trimestre | M7: 7 días | N7: Entre los 28 y 30 días | O7: otro momento diferente | P7: 7 días | Q7: Entre los 28 y 30 días | R7: otro momento diferente | W7: N° | X7: PARTICIPANTES | Y7: N° | Z7: PARTICIPANTES | AA7: N° | AB7: PARTICIPANTES | AF7: PARTICIPANTES | AH7: PARTICIPANTES | AJ7: PARTICIPANTES | AL7: PARTICIPANTES | AN7: PARTICIPANTES | AP7: PARTICIPANTES | AR7: PARTICIPANTES | AS7: N° | AT7: PARTICIPANTES | AU7: N° | AV7: PARTICIPANTES | AW7: N° | AX7: PARTICIPANTES | AY7: N° | AZ7: PARTICIPANTES | BA7: N° | BB7: PARTICIPANTES | BC7: N° | BD7: PARTICIPANTES | BE7: N° | BF7: PARTICIPANTES | BG7: N° | BH7: PARTICIPANTES | BI7: N° | BJ7: PARTICIPANTES | BK7: N° | BL7: PARTICIPANTES | BM7: N° | BN7: PARTICIPANTES | BO7: N° | BP7: PARTICIPANTES | BQ7: N° | BR7: PARTICIPANTES | BS7: N° | BT7: PARTICIPANTES | BU7: N° | BV7: PARTICIPANTES | BW7: N° | BX7: PARTICIPANTES | BY7: N° | BZ7: PART. | CA7: N° | CB7: PART. | CC7: N° | CD7: PART. | CE7: N° | CF7: PART. | CG7: N° | CH7: PART. | CI7: N° | CJ7: PART. | CK7: N° | CL7: PART. | CM7: N° | CN7: N° | CO7: N° | CP7: N° | CQ7: PART. | CR7: N° | CS7: PART. | CT7: N° | CU7: PART. | CV7: N° | CW7: N° | CX7: REUNIONES | CY7: PARTICIPANTES | CZ7: REUNIONES | DA7: REUNIONES | DB7: PARTICIPANTES | DC7: REUNIONES
G8: =G9 -> 0 | H8: =H9 -> 42 | I8: =I9 -> 17 | J8: =J9 -> 0 | K8: =K9 -> 0 | L8: =L9 -> 0 | M8: =M9 -> 34 | N8: =N9 -> 24 | ... DC8: =DC9 -> 0
A9: AÑO | B9: MES | C9: DISTRITO | D9: MICRORED | E9: RENAES | F9: MICRORED MAZAMARI | G9: =SUM(G10:G24) -> 0 | H9: =SUM(H10:H24) -> 42 | I9: =SUM(I10:I24) -> 17 | J9: =SUM(J10:J24) -> 0 | K9: =SUM(K10:K24) -> 0 | L9: =SUM(L10:L24) -> 0 | M9: =SUM(M10:M24) -> 34 | N9: =SUM(N10:N24) -> 24 | ... DC9: =SUM(DC10:DC24) -> 0
A10: 2026 | B10: 9 | C10: LLAYLLA | D10: MAZAMARI | E10: 433 | F10: BELEN | G10: 0 | H10: 0 | I10: 0 | J10: 0 | K10: 0 | L10: 0 | M10: 2 | N10: 3 | O10: 0 | P10: 0 | Q10: 0 | R10: 0 | S10: 0 | T10: 0 | U10: 0 | V10: 0 | W10: 1 | X10: 5 | Y10: 1 | Z10: 5 | AA10: 1 | AB10: 5 | AC10: 0 | AD10: 0 | AE10: 0 | AF10: 0 | AG10: 0 | AH10: 0 | AI10: 0 | AJ10: 0 | AK10: 0 | AL10: 0 | AM10: 0 | AN10: 0 | AO10: 0 | AP10: 0 | AQ10: 0 | AR10: 0 | AS10: 0 | AT10: 0 | AU10: 0 | AV10: 0 | AW10: 0 | AX10: 0 | AY10: 0 | AZ10: 0 | BA10: 0 | BB10: 0 | BC10: 0 | BD10: 0 | BE10: 0 | BF10: 0 | BG10: 0 | BH10: 0 | BI10: 0 | BJ10: 0 | BK10: 0 | BL10: 0 | BM10: 0 | BN10: 0 | BO10: 0 | BP10: 0 | BQ10: 0 | BR10: 0 | BS10: 0 | BT10: 0 | BU10: 0 | BV10: 0 | BW10: 0 | BX10: 0 | BY10: 0 | BZ10: 0 | CA10: 0 | CB10: 0 | CC10: 0 | CD10: 0 | CE10: 0 | CF10: 0 | CG10: 0 | CH10: 0 | CI10: 0 | CJ10: 0 | CK10: 0 | CL10: 0 | CM10: 0 | CN10: 0 | CO10: 0 | CP10: 0 | CQ10: 0 | CR10: 0 | CS10: 0 | CT10: 0 | CU10: 0 | CV10: 0 | CW10: 0 | CX10: 0 | CY10: 0 | CZ10: 0 | DA10: 0 | DB10: 0 | DC10: 0
A11: 2026 | B11: 9 | C11: LLAYLLA | D11: MAZAMARI | E11: 491 | F11: HERMOSA PAMPA | G11: 0 | H11: 2 | I11: 1 | J11: 0 | K11: 0 | L11: 0 | M11: 1 | N11: 0 | O11: 0 | P11: 0 | Q11: 0 | R11: 0 | S11: 0 | T11: 1 | U11: 0 | V11: 0 | W11: 0 | X11: 0 | Y11: 0 | Z11: 0 | AA11: 0 | AB11: 0 | AC11: 0 | AD11: 0 | AE11: 0 | AF11: 0 | AG11: 0 | AH11: 0 | AI11: 0 | AJ11: 0 | AK11: 0 | AL11: 0 | AM11: 0 | AN11: 0 | AO11: 0 | AP11: 0 | AQ11: 0 | AR11: 0 | AS11: 0 | AT11: 0 | AU11: 0 | AV11: 0 | AW11: 0 | AX11: 0 | AY11: 0 | AZ11: 0 | BA11: 0 | BB11: 0 | BC11: 0 | BD11: 0 | BE11: 0 | BF11: 0 | BG11: 0 | BH11: 0 | BI11: 0 | BJ11: 0 | BK11: 0 | BL11: 0 | BM11: 0 | BN11: 0 | BO11: 0 | BP11: 0 | BQ11: 0 | BR11: 0 | BS11: 0 | BT11: 0 | BU11: 0 | BV11: 0 | BW11: 0 | BX11: 0 | BY11: 0 | BZ11: 0 | CA11: 0 | CB11: 0 | CC11: 0 | CD11: 0 | CE11: 0 | CF11: 0 | CG11: 0 | CH11: 0 | CI11: 0 | CJ11: 0 | CK11: 0 | CL11: 0 | CM11: 0 | CN11: 0 | CO11: 0 | CP11: 0 | CQ11: 0 | CR11: 0 | CS11: 0 | CT11: 0 | CU11: 0 | CV11: 0 | CW11: 0 | CX11: 0 | CY11: 0 | CZ11: 0 | DA11: 0 | DB11: 0 | DC11: 0
A12: 2026 | B12: 9 | C12: LLAYLLA | D12: MAZAMARI | E12: 490 | F12: LLAYLLA | G12: 0 | H12: 2 | I12: 1 | J12: 0 | K12: 0 | L12: 0 | M12: 1 | N12: 2 | O12: 0 | P12: 0 | Q12: 0 | R12: 0 | S12: 0 | T12: 0 | U12: 0 | V12: 0 | W12: 0 | X12: 0 | Y12: 0 | Z12: 0 | AA12: 0 | AB12: 0 | AC12: 0 | AD12: 0 | AE12: 0 | AF12: 0 | AG12: 0 | AH12: 0 | AI12: 0 | AJ12: 0 | AK12: 0 | AL12: 0 | AM12: 0 | AN12: 0 | AO12: 0 | AP12: 0 | AQ12: 0 | AR12: 0 | AS12: 0 | AT12: 0 | AU12: 0 | AV12: 0 | AW12: 0 | AX12: 0 | AY12: 0 | AZ12: 0 | BA12: 0 | BB12: 0 | BC12: 0 | BD12: 0 | BE12: 0 | BF12: 0 | BG12: 0 | BH12: 0 | BI12: 0 | BJ12: 0 | BK12: 0 | BL12: 0 | BM12: 0 | BN12: 0 | BO12: 0 | BP12: 0 | BQ12: 0 | BR12: 0 | BS12: 0 | BT12: 0 | BU12: 0 | BV12: 0 | BW12: 0 | BX12: 0 | BY12: 0 | BZ12: 0 | CA12: 0 | CB12: 0 | CC12: 0 | CD12: 0 | CE12: 0 | CF12: 0 | CG12: 0 | CH12: 0 | CI12: 0 | CJ12: 0 | CK12: 0 | CL12: 0 | CM12: 0 | CN12: 0 | CO12: 0 | CP12: 0 | CQ12: 0 | CR12: 0 | CS12: 0 | CT12: 0 | CU12: 0 | CV12: 0 | CW12: 0 | CX12: 0 | CY12: 0 | CZ12: 0 | DA12: 0 | DB12: 0 | DC12: 0
A13: 2026 | B13: 9 | C13: MAZAMARI | D13: MAZAMARI | E13: 16911 | F13: BUENOS AIRES -TZIRIARI | G13: 0 | H13: 0 | I13: 0 | J13: 0 | K13: 0 | L13: 0 | M13: 0 | N13: 1 | O13: 0 | P13: 0 | Q13: 0 | R13: 0 | S13: 0 | T13: 0 | U13: 0 | V13: 0 | W13: 0 | X13: 0 | Y13: 0 | Z13: 0 | AA13: 0 | AB13: 0 | AC13: 0 | AD13: 0 | AE13: 1 | AF13: 12 | AG13: 1 | AH13: 12 | AI13: 1 | AJ13: 12 | AK13: 1 | AL13: 12 | AM13: 0 | AN13: 0 | AO13: 0 | AP13: 0 | AQ13: 0 | AR13: 0 | AS13: 0 | AT13: 0 | AU13: 0 | AV13: 0 | AW13: 0 | AX13: 0 | AY13: 0 | AZ13: 0 | BA13: 0 | BB13: 0 | BC13: 0 | BD13: 0 | BE13: 0 | BF13: 0 | BG13: 0 | BH13: 0 | BI13: 0 | BJ13: 0 | BK13: 0 | BL13: 0 | BM13: 0 | BN13: 0 | BO13: 0 | BP13: 0 | BQ13: 0 | BR13: 0 | BS13: 0 | BT13: 0 | BU13: 0 | BV13: 0 | BW13: 0 | BX13: 0 | BY13: 0 | BZ13: 0 | CA13: 0 | CB13: 0 | CC13: 0 | CD13: 0 | CE13: 0 | CF13: 0 | CG13: 0 | CH13: 0 | CI13: 0 | CJ13: 0 | CK13: 0 | CL13: 0 | CM13: 0 | CN13: 0 | CO13: 0 | CP13: 0 | CQ13: 0 | CR13: 0 | CS13: 0 | CT13: 0 | CU13: 0 | CV13: 0 | CW13: 0 | CX13: 0 | CY13: 0 | CZ13: 0 | DA13: 0 | DB13: 0 | DC13: 0
A14: 2026 | B14: 9 | C14: MAZAMARI | D14: MAZAMARI | E14: 435 | F14: CAPIRUSHARI | G14: 0 | H14: 3 | I14: 0 | J14: 0 | K14: 0 | L14: 0 | M14: 3 | N14: 0 | O14: 0 | P14: 0 | Q14: 0 | R14: 0 | S14: 0 | T14: 0 | U14: 0 | V14: 0 | W14: 0 | X14: 0 | Y14: 0 | Z14: 0 | AA14: 0 | AB14: 0 | AC14: 0 | AD14: 0 | AE14: 0 | AF14: 0 | AG14: 0 | AH14: 0 | AI14: 0 | AJ14: 0 | AK14: 0 | AL14: 0 | AM14: 0 | AN14: 0 | AO14: 0 | AP14: 0 | AQ14: 0 | AR14: 0 | AS14: 0 | AT14: 0 | AU14: 0 | AV14: 0 | AW14: 0 | AX14: 0 | AY14: 0 | AZ14: 0 | BA14: 0 | BB14: 0 | BC14: 0 | BD14: 0 | BE14: 0 | BF14: 0 | BG14: 0 | BH14: 0 | BI14: 0 | BJ14: 0 | BK14: 0 | BL14: 0 | BM14: 0 | BN14: 0 | BO14: 0 | BP14: 0 | BQ14: 0 | BR14: 0 | BS14: 0 | BT14: 0 | BU14: 0 | BV14: 0 | BW14: 0 | BX14: 0 | BY14: 0 | BZ14: 0 | CA14: 0 | CB14: 0 | CC14: 0 | CD14: 0 | CE14: 0 | CF14: 0 | CG14: 0 | CH14: 0 | CI14: 0 | CJ14: 0 | CK14: 0 | CL14: 0 | CM14: 0 | CN14: 0 | CO14: 0 | CP14: 0 | CQ14: 0 | CR14: 0 | CS14: 0 | CT14: 0 | CU14: 0 | CV14: 0 | CW14: 0 | CX14: 0 | CY14: 0 | CZ14: 0 | DA14: 0 | DB14: 0 | DC14: 0
A15: 2026 | B15: 9 | C15: MAZAMARI | D15: MAZAMARI | E15: 437 | F15: COMUNIDAD NATIVA DE PANGA | G15: 0 | H15: 0 | I15: 0 | J15: 0 | K15: 0 | L15: 0 | M15: 0 | N15: 0 | O15: 0 | P15: 0 | Q15: 0 | R15: 0 | S15: 0 | T15: 0 | U15: 0 | V15: 0 | W15: 0 | X15: 0 | Y15: 0 | Z15: 0 | AA15: 0 | AB15: 0 | AC15: 0 | AD15: 0 | AE15: 0 | AF15: 0 | AG15: 0 | AH15: 0 | AI15: 0 | AJ15: 0 | AK15: 0 | AL15: 0 | AM15: 0 | AN15: 0 | AO15: 0 | AP15: 0 | AQ15: 0 | AR15: 0 | AS15: 0 | AT15: 0 | AU15: 0 | AV15: 0 | AW15: 0 | AX15: 0 | AY15: 0 | AZ15: 0 | BA15: 0 | BB15: 0 | BC15: 0 | BD15: 0 | BE15: 0 | BF15: 0 | BG15: 0 | BH15: 0 | BI15: 0 | BJ15: 0 | BK15: 0 | BL15: 0 | BM15: 0 | BN15: 0 | BO15: 0 | BP15: 0 | BQ15: 0 | BR15: 0 | BS15: 0 | BT15: 0 | BU15: 0 | BV15: 0 | BW15: 0 | BX15: 0 | BY15: 0 | BZ15: 0 | CA15: 0 | CB15: 0 | CC15: 0 | CD15: 0 | CE15: 0 | CF15: 0 | CG15: 0 | CH15: 0 | CI15: 0 | CJ15: 0 | CK15: 0 | CL15: 0 | CM15: 0 | CN15: 0 | CO15: 0 | CP15: 0 | CQ15: 0 | CR15: 0 | CS15: 0 | CT15: 0 | CU15: 0 | CV15: 0 | CW15: 0 | CX15: 0 | CY15: 0 | CZ15: 0 | DA15: 0 | DB15: 0 | DC15: 0
A16: 2026 | B16: 9 | C16: MAZAMARI | D16: MAZAMARI | E16: 16908 | F16: GLORIABAMBA | G16: 0 | H16: 4 | I16: 0 | J16: 0 | K16: 0 | L16: 0 | M16: 3 | N16: 2 | O16: 0 | P16: 0 | Q16: 0 | R16: 0 | S16: 3 | T16: 0 | U16: 0 | V16: 2 | W16: 0 | X16: 0 | Y16: 0 | Z16: 0 | AA16: 0 | AB16: 0 | AC16: 0 | AD16: 0 | AE16: 0 | AF16: 0 | AG16: 0 | AH16: 0 | AI16: 0 | AJ16: 0 | AK16: 0 | AL16: 0 | AM16: 0 | AN16: 0 | AO16: 0 | AP16: 0 | AQ16: 0 | AR16: 0 | AS16: 0 | AT16: 0 | AU16: 0 | AV16: 0 | AW16: 0 | AX16: 0 | AY16: 0 | AZ16: 0 | BA16: 0 | BB16: 0 | BC16: 0 | BD16: 0 | BE16: 0 | BF16: 0 | BG16: 0 | BH16: 0 | BI16: 0 | BJ16: 0 | BK16: 0 | BL16: 0 | BM16: 0 | BN16: 0 | BO16: 0 | BP16: 0 | BQ16: 0 | BR16: 0 | BS16: 0 | BT16: 0 | BU16: 0 | BV16: 0 | BW16: 0 | BX16: 0 | BY16: 0 | BZ16: 0 | CA16: 0 | CB16: 0 | CC16: 0 | CD16: 0 | CE16: 0 | CF16: 0 | CG16: 0 | CH16: 0 | CI16: 0 | CJ16: 0 | CK16: 0 | CL16: 0 | CM16: 0 | CN16: 0 | CO16: 0 | CP16: 0 | CQ16: 0 | CR16: 0 | CS16: 0 | CT16: 0 | CU16: 0 | CV16: 0 | CW16: 0 | CX16: 0 | CY16: 0 | CZ16: 0 | DA16: 0 | DB16: 0 | DC16: 0
A17: 2026 | B17: 9 | C17: MAZAMARI | D17: MAZAMARI | E17: 34721 | F17: LURINCHINCHA | G17: 0 | H17: 0 | I17: 0 | J17: 0 | K17: 0 | L17: 0 | M17: 0 | N17: 1 | O17: 0 | P17: 0 | Q17: 0 | R17: 0 | S17: 0 | T17: 0 | U17: 0 | V17: 0 | W17: 0 | X17: 0 | Y17: 0 | Z17: 0 | AA17: 0 | AB17: 0 | AC17: 0 | AD17: 0 | AE17: 0 | AF17: 0 | AG17: 0 | AH17: 0 | AI17: 0 | AJ17: 0 | AK17: 0 | AL17: 0 | AM17: 0 | AN17: 0 | AO17: 0 | AP17: 0 | AQ17: 1 | AR17: 10 | AS17: 0 | AT17: 0 | AU17: 0 | AV17: 0 | AW17: 0 | AX17: 0 | AY17: 0 | AZ17: 0 | BA17: 0 | BB17: 0 | BC17: 0 | BD17: 0 | BE17: 0 | BF17: 0 | BG17: 0 | BH17: 0 | BI17: 0 | BJ17: 0 | BK17: 0 | BL17: 0 | BM17: 0 | BN17: 0 | BO17: 0 | BP17: 0 | BQ17: 0 | BR17: 0 | BS17: 0 | BT17: 0 | BU17: 0 | BV17: 0 | BW17: 0 | BX17: 0 | BY17: 0 | BZ17: 0 | CA17: 0 | CB17: 0 | CC17: 0 | CD17: 0 | CE17: 0 | CF17: 0 | CG17: 0 | CH17: 0 | CI17: 0 | CJ17: 0 | CK17: 0 | CL17: 0 | CM17: 0 | CN17: 0 | CO17: 0 | CP17: 0 | CQ17: 0 | CR17: 0 | CS17: 0 | CT17: 0 | CU17: 0 | CV17: 0 | CW17: 0 | CX17: 0 | CY17: 0 | CZ17: 0 | DA17: 0 | DB17: 0 | DC17: 0
A18: 2026 | B18: 9 | C18: MAZAMARI | D18: MAZAMARI | E18: 434 | F18: MAZAMARI | G18: 0 | H18: 11 | I18: 9 | J18: 0 | K18: 0 | L18: 0 | M18: 13 | N18: 6 | O18: 0 | P18: 0 | Q18: 0 | R18: 0 | S18: 0 | T18: 0 | U18: 0 | V18: 0 | W18: 0 | X18: 0 | Y18: 0 | Z18: 0 | AA18: 0 | AB18: 0 | AC18: 0 | AD18: 0 | AE18: 1 | AF18: 7 | AG18: 1 | AH18: 7 | AI18: 1 | AJ18: 7 | AK18: 1 | AL18: 6 | AM18: 1 | AN18: 6 | AO18: 1 | AP18: 7 | AQ18: 1 | AR18: 7 | AS18: 0 | AT18: 0 | AU18: 0 | AV18: 0 | AW18: 0 | AX18: 0 | AY18: 0 | AZ18: 0 | BA18: 0 | BB18: 0 | BC18: 0 | BD18: 0 | BE18: 0 | BF18: 0 | BG18: 0 | BH18: 0 | BI18: 0 | BJ18: 0 | BK18: 0 | BL18: 0 | BM18: 0 | BN18: 0 | BO18: 0 | BP18: 0 | BQ18: 0 | BR18: 0 | BS18: 0 | BT18: 0 | BU18: 0 | BV18: 0 | BW18: 0 | BX18: 0 | BY18: 0 | BZ18: 0 | CA18: 0 | CB18: 0 | CC18: 0 | CD18: 0 | CE18: 0 | CF18: 0 | CG18: 0 | CH18: 0 | CI18: 0 | CJ18: 0 | CK18: 0 | CL18: 0 | CM18: 0 | CN18: 0 | CO18: 0 | CP18: 0 | CQ18: 0 | CR18: 0 | CS18: 0 | CT18: 0 | CU18: 0 | CV18: 0 | CW18: 0 | CX18: 0 | CY18: 0 | CZ18: 0 | DA18: 0 | DB18: 0 | DC18: 0
A19: 2026 | B19: 9 | C19: MAZAMARI | D19: MAZAMARI | E19: 436 | F19: PUEBLO LIBRE DE PAURIALI | G19: 0 | H19: 0 | I19: 2 | J19: 0 | K19: 0 | L19: 0 | M19: 3 | N19: 2 | O19: 0 | P19: 0 | Q19: 0 | R19: 0 | S19: 3 | T19: 0 | U19: 1 | V19: 0 | W19: 1 | X19: 10 | Y19: 1 | Z19: 10 | AA19: 1 | AB19: 10 | AC19: 0 | AD19: 0 | AE19: 0 | AF19: 0 | AG19: 0 | AH19: 0 | AI19: 0 | AJ19: 0 | AK19: 0 | AL19: 0 | AM19: 0 | AN19: 0 | AO19: 0 | AP19: 0 | AQ19: 0 | AR19: 0 | AS19: 0 | AT19: 0 | AU19: 0 | AV19: 0 | AW19: 0 | AX19: 0 | AY19: 0 | AZ19: 0 | BA19: 0 | BB19: 0 | BC19: 0 | BD19: 0 | BE19: 0 | BF19: 0 | BG19: 0 | BH19: 0 | BI19: 0 | BJ19: 0 | BK19: 0 | BL19: 0 | BM19: 0 | BN19: 0 | BO19: 0 | BP19: 0 | BQ19: 0 | BR19: 0 | BS19: 0 | BT19: 0 | BU19: 0 | BV19: 0 | BW19: 0 | BX19: 0 | BY19: 0 | BZ19: 0 | CA19: 0 | CB19: 0 | CC19: 0 | CD19: 0 | CE19: 0 | CF19: 0 | CG19: 0 | CH19: 0 | CI19: 0 | CJ19: 0 | CK19: 0 | CL19: 0 | CM19: 0 | CN19: 0 | CO19: 0 | CP19: 0 | CQ19: 0 | CR19: 0 | CS19: 0 | CT19: 0 | CU19: 0 | CV19: 0 | CW19: 0 | CX19: 0 | CY19: 0 | CZ19: 0 | DA19: 0 | DB19: 0 | DC19: 0
A20: 2026 | B20: 9 | C20: MAZAMARI | D20: MAZAMARI | E20: 34003 | F20: SAN FRANCISCO DE CUBARO | G20: 0 | H20: 5 | I20: 0 | J20: 0 | K20: 0 | L20: 0 | M20: 1 | N20: 0 | O20: 0 | P20: 0 | Q20: 0 | R20: 0 | S20: 0 | T20: 0 | U20: 0 | V20: 0 | W20: 0 | X20: 0 | Y20: 0 | Z20: 0 | AA20: 0 | AB20: 0 | AC20: 0 | AD20: 0 | AE20: 1 | AF20: 20 | AG20: 1 | AH20: 20 | AI20: 1 | AJ20: 20 | AK20: 0 | AL20: 0 | AM20: 0 | AN20: 0 | AO20: 0 | AP20: 0 | AQ20: 0 | AR20: 0 | AS20: 0 | AT20: 0 | AU20: 1 | AV20: 1 | AW20: 1 | AX20: 3 | AY20: 0 | AZ20: 0 | BA20: 1 | BB20: 3 | BC20: 0 | BD20: 0 | BE20: 1 | BF20: 3 | BG20: 0 | BH20: 0 | BI20: 0 | BJ20: 0 | BK20: 0 | BL20: 0 | BM20: 0 | BN20: 0 | BO20: 0 | BP20: 0 | BQ20: 0 | BR20: 0 | BS20: 0 | BT20: 0 | BU20: 0 | BV20: 0 | BW20: 0 | BX20: 0 | BY20: 0 | BZ20: 0 | CA20: 0 | CB20: 0 | CC20: 0 | CD20: 0 | CE20: 0 | CF20: 0 | CG20: 0 | CH20: 0 | CI20: 0 | CJ20: 0 | CK20: 0 | CL20: 0 | CM20: 0 | CN20: 0 | CO20: 0 | CP20: 0 | CQ20: 0 | CR20: 0 | CS20: 0 | CT20: 0 | CU20: 0 | CV20: 0 | CW20: 0 | CX20: 0 | CY20: 0 | CZ20: 0 | DA20: 0 | DB20: 0 | DC20: 0
A21: 2026 | B21: 9 | C21: MAZAMARI | D21: MAZAMARI | E21: 16909 | F21: TEORIA | G21: 0 | H21: 2 | I21: 1 | J21: 0 | K21: 0 | L21: 0 | M21: 2 | N21: 0 | O21: 0 | P21: 0 | Q21: 0 | R21: 0 | S21: 0 | T21: 0 | U21: 0 | V21: 0 | W21: 0 | X21: 0 | Y21: 0 | Z21: 0 | AA21: 0 | AB21: 0 | AC21: 0 | AD21: 0 | AE21: 0 | AF21: 0 | AG21: 0 | AH21: 0 | AI21: 0 | AJ21: 0 | AK21: 0 | AL21: 0 | AM21: 0 | AN21: 0 | AO21: 0 | AP21: 0 | AQ21: 0 | AR21: 0 | AS21: 0 | AT21: 0 | AU21: 0 | AV21: 0 | AW21: 0 | AX21: 0 | AY21: 0 | AZ21: 0 | BA21: 0 | BB21: 0 | BC21: 0 | BD21: 0 | BE21: 0 | BF21: 0 | BG21: 0 | BH21: 0 | BI21: 0 | BJ21: 0 | BK21: 0 | BL21: 0 | BM21: 0 | BN21: 0 | BO21: 0 | BP21: 0 | BQ21: 0 | BR21: 0 | BS21: 0 | BT21: 0 | BU21: 0 | BV21: 0 | BW21: 0 | BX21: 0 | BY21: 0 | BZ21: 0 | CA21: 0 | CB21: 0 | CC21: 0 | CD21: 0 | CE21: 0 | CF21: 0 | CG21: 0 | CH21: 0 | CI21: 0 | CJ21: 0 | CK21: 0 | CL21: 0 | CM21: 0 | CN21: 0 | CO21: 0 | CP21: 0 | CQ21: 0 | CR21: 0 | CS21: 0 | CT21: 0 | CU21: 0 | CV21: 0 | CW21: 0 | CX21: 0 | CY21: 0 | CZ21: 0 | DA21: 0 | DB21: 0 | DC21: 0
... A24: 2026 | B24: 9 | C24: PANGOA | D24: MAZAMARI | E24: 438 | F24: TZIRIARI | G24: 0 | H24: 13 | I24: 0 | J24: 0 | K24: 0 | L24: 0 | M24: 1 | N24: 2 | O24: 0 | P24: 0 | Q24: 0 | R24: 0 | S24: 0 | T24: 0 | U24: 0 | V24: 0 | W24: 0 | X24: 0 | Y24: 0 | Z24: 0 | AA24: 0 | AB24: 0 | AC24: 0 | AD24: 0 | AE24: 0 | AF24: 0 | AG24: 0 | AH24: 0 | AI24: 0 | AJ24: 0 | AK24: 0 | AL24: 0 | AM24: 0 | AN24: 0 | AO24: 0 | AP24: 0 | AQ24: 0 | AR24: 0 | AS24: 0 | AT24: 0 | AU24: 0 | AV24: 0 | AW24: 0 | AX24: 0 | AY24: 0 | AZ24: 0 | BA24: 0 | BB24: 0 | BC24: 0 | BD24: 0 | BE24: 0 | BF24: 0 | BG24: 0 | BH24: 0 | BI24: 0 | BJ24: 0 | BK24: 0 | BL24: 0 | BM24: 0 | BN24: 0 | BO24: 0 | BP24: 0 | BQ24: 0 | BR24: 0 | BS24: 0 | BT24: 0 | BU24: 0 | BV24: 0 | BW24: 0 | BX24: 0 | BY24: 0 | BZ24: 0 | CA24: 0 | CB24: 0 | CC24: 0 | CD24: 0 | CE24: 0 | CF24: 0 | CG24: 0 | CH24: 0 | CI24: 0 | CJ24: 0 | CK24: 0 | CL24: 0 | CM24: 0 | CN24: 0 | CO24: 0 | CP24: 0 | CQ24: 0 | CR24: 0 | CS24: 0 | CT24: 0 | CU24: 0 | CV24: 0 | CW24: 0 | CX24: 0 | CY24: 0 | CZ24: 0 | DA24: 0 | DB24: 0 | DC24: 0

Sheet PP0016-TbcyVih
A1: MENSUAL | G1: 3.1.1 SUB PRODUCTO 4395201: FAMILIAS QUE RECIBEN CONSEJERÍA A TRAVES DE VISITA DOMICILIARIA PARA PROMOVER PRÁCTICAS Y ENTORNOS SALUDABLES PARA CONTRIBUIR A LA DISMINUCION DE LA TUBERCULOSIS Y VIH/SIDA | O1: 3.1.2 SUB PRODUCTO 4395202: FAMILIAS QUE RECIBEN SESION EDUCATIVA Y DEMOSTRATIVA PARA PROMOVER PRÁCTICAS Y ENTORNOS SALUDABLES PARA CONTRIBUIR A LA DISMINUCION DE LA TUBERCULOSIS Y VIH/SIDA | W1: 3.2.1 SUB PRODUCTO 4395203: DOCENTES DE INSTITUCIONES EDUCATIVAS DESARROLLAN ACCIONES PARA LA PROMOCIÓN DE PRÁCTICAS SALUDABLES Y LA PREVENCIÓN DE LA TUBERCULOSIS, VIH/SIDA | AY1: 3.2.2. SUB PRODUCTO 4395204: COMUNIDADES CON LÍDERES CAPACITADOS DESARROLLAN VIGILANCIA COMUNITARIA EN AVOR DE ENTORNOS Y PRÁCTICAS SALUDABLES Y LA PREVENCIÓN DE LA TUBERCULOSIS, VIH/SIDA | DA1: 3.2.3 SUB PRODUCTO 4395205: MUNICIPIOS IMPLEMENTAN ACCIONES PARA MEJORAR O MITIGAR LAS CONDICIONES QUE GENERAN RIESGO PARA ENFERMAR DE TUBERCULOSIS Y VIH-SIDA SEGÚN DISTRITOS/PROVINCIAS PRIORIZADOS
A2: AÑO | B2: MES | C2: DISTRITO | D2: MICRORED | E2: Código RENAES | F2: Departamento, Red, Provincia, Distrito y Establecimiento | G2: 1.1. TBC | K2: 1.2. VIH / SIDA | O2: 2.1. Sesiones educativas y demostrativas | W2: 3.1. Incidencia con directivos y docentes de instituciones educativas: | AA2: 3.2. Capacitación a docentes y directivos de instituciones educativas | AI2: 3.3. Acompañamiento al docente en la implementación de proyectos y/o sesiones de aprendizaje | AQ2: 3.4. Acompañamiento al personal directivo en las acciones de monitoreo pedagógico de los proyectos de y/o sesiones de aprendizaje | AY2: 4.1. Fase 1: Planificación REGISTRO Nº 73 y 74 | BY2: 4.2. Fase 2: Ejecución | CO2: 4.3. Fase 3: Acompañamiento o Asistencia Técinca | CW2: 4.4. Fase 4: EVALUACIÓN | DA2: 5.1. Fase 1: Planificación REGISTRO Nº 85 Y 86 | DI2: 5.2. Fase 2: Asistencia Técnica REGISTRO Nº 87 Y 88 | DU2: 5.3. Fase 3: Monitoreo y Evaluación
G3: Consejería integral a través de visitas domiciliarias en prácticas saludables y medidas preventivas. REGISTRO Nº 55, 56, 57 Y 58 | K3: Consejería en orientación para el ejercicio de una sexualidad saludable y segura, el auto cuidado del cuerpo y medidas preventivas. | O3: 1° Sesión REGISTRO Nº 63 | S3: 2° Sesión REGISTRO Nº 64 | W3: TBC REGISTRO Nº 65 | Y3: VIH / SIDA REGISTRO Nº 66 | AA3: 1° Asistencia Técnica | AI3: 1° Asistencia Tecnica | AQ3: 1° Asistencia Tecnica | AY3: Conformación del equipo para la implementación de la vigilancia comunitaria | BA3: Identificación y selección de comunidades en riesgo para el desarrollo de la vigilancia comunitaria | BE3: Identificación de organizaciones comunitarias con base en el padrón del gobierno local, incluyendo a los Agentes Comunitarios de Salud. | BG3: Selección de contenidos claves, instrumentos y metodología para vigilar. | BI3: Capacitación en vigilancia comunitaria y prácticas y entornos saludables a agentes comunitarios y organizaciones comunitarias | BY3: Aplicación de la vigilancia comunitaria REGISTRO Nº 79 Y 80 | CO3: 1° Asistencia Tecnica REGISTRO Nº 81 | CS3: 2° Asistencia Tecnica REGISTRO Nº 82 | CW3: Para ACS REGISTRO Nº 83 Y 84 | DA3: Reunión con el gobierno local, actores sociales públicos y privados en el comité multisectorialo la que hagan sus veces para integrar la información relacionada a la situación de la tuberculosis y el VIH/SIDA –Sala Municipal de Salud. | DC3: Reunión para sectorización y priorización territorial homologada entre Salud y el gobierno local, tomando como referencia el catastro municipal. | DE3: Reunión para mapeo de actores sociales (actividades y recursos según actor social). | DG3: Reunión de socialización periódica de información integrada, con el gobierno local, actores sociales públicos y privados en el comité multisectorial o la que hagan sus veces (trimestral). | DI3: Plan de acción | DM3: Programación presupuestal | DQ3: Para los casos que se haya elaborado el Plan de acción y la Programación | DU3: Monitoreo REGISTRO Nº 89 Y 90 | EC3: Evaluación REGISTRO Nº 91 Y 92
G4: VISITA DOMICILIARIA | I4: TELEMEDICINA | K4: VISITA DOMICILIARIA REGISTRO Nº 59 Y 60 | M4: TELEMEDICINA REGISTRO Nº 61 Y 62 | O4: CONTAR APP136/ (DX1=C0009 "SESION EDUCATIVA"+LAB1="NUMERO DE FAMILIAS PARTICIPANTES"+LAB2=1) + (DX2=C0010 "SESION DEMOSTRATIVA"+ LAB1=1+LAB2=161) | Q4: CONTAR APP136/ (DX1=C0009 "SESION EDUCATIVA"+LAB1="NUMERO DE FAMILIAS PARTICIPANTES"+LAB2=1) + (DX2=C0010 "SESION DEMOSTRATIVA"+ LAB1=1+LAB2=162) | S4: CONTAR APP136/ (DX1=C0009 "SESION EDUCATIVA"+LAB1="NUMERO DE FAMILIAS PARTICIPANTES"+LAB2=2) + (DX2=C0010 "SESION DEMOSTRATIVA"+ LAB1=2+LAB2=161) | U4: CONTAR APP136/ (DX1=C0009 "SESION EDUCATIVA"+LAB1="NUMERO DE FAMILIAS PARTICIPANTES"+LAB2=2) + (DX2=C0010 "SESION DEMOSTRATIVA"+ LAB1=2+LAB2=162) | W4: CONTAR APP93 /(DX1= C0002+LAB1="N° PARTICIPANTES"+LAB2=161) | Y4: CONTAR APP93 /(DX1= C0002+LAB1="N° PARTICIPANTES"+LAB2=162) | AA4: TBC Actividades con Docentes | AE4: VIH / SIDA Actividades con Docentes | AI4: TBC REGISTRO Nº 69 | AM4: VIH-SIDA REGISTRO Nº 70 | AQ4: TBC REGISTRO Nº 71 | AU4: VIH-SIDA REGISTRO Nº 72 | AY4: CONTAR APP108/ (DX1= C0021 + LAB1=1+ LAB2=161) | AZ4: CONTAR APP108/ (DX1= C0021 + LAB1=1+ LAB2=162) | BA4: CONTAR APP108/ (DX1= C0021 + LAB1=2+ LAB2="N° COMUNIDADES"+ LAB3=161) | BC4: CONTAR APP108/ (DX1= C0021 + LAB1=2+ LAB2="N° COMUNIDADES"+ LAB3=162) | BE4: CONTAR APP108/ (DX1= C0021 + LAB1=3+ LAB2=161) | BF4: CONTAR APP108/ (DX1= C0021 + LAB1=3+ LAB2=162) | BG4: CONTAR APP108/ (DX1= C0021 + LAB1=4+ LAB2=161) | BH4: CONTAR APP108/ (DX1= C0021 + LAB1=4+ LAB2=162) | BI4: Para ACS REGISTRO Nº 75 Y 77 | BQ4: Para Organizaciones Comunitarias REGISTRO Nº 76 Y 78 | BY4: 1° Intertervencion | CC4: 2° Intertervencion | CG4: 3° Intertervencion | CK4: 4° Intertervencion | CO4: APP108 /(DX1=C7004 + LAB1="NUMERO DE ORGANIZACIONES" + LAB2= 1 + LAB3=161 | CQ4: APP108 /(DX1=C7004 + LAB1="NUMERO DE ORGANIZACIONES" + LAB2= 1 + LAB3=162 | CS4: APP108 /(DX1=C7004 + LAB1="NUMERO DE ORGANIZACIONES" + LAB2= 2 + LAB3=161 | CU4: APP108 /(DX1=C7004 + LAB1="NUMERO DE ORGANIZACIONES" + LAB2= 2 + LAB3=162 | CW4: CONTAR APP108 / (DX1= C7003+LAB1="N° PARTICIPANTES"+ LAB2=161) | CY4: CONTAR APP108 / (DX1= C7003+LAB1="N° PARTICIPANTES"+ LAB2=162) | DI4: APP96 /(DX1=C7004 + LAB1="NUMERO DE PARTICIPANTES" + LAB2="1" + LAB3=161) | DK4: APP96 /(DX1=C7004 + LAB1="NUMERO DE PARTICIPANTES" + LAB2="1" + LAB3=162) | DM4: APP96 /(DX1=C7004 + LAB1="NUMERO DE PARTICIPANTES" + LAB2="2" + LAB3=161) | DO4: APP96 /(DX1=C7004 + LAB1="NUMERO DE PARTICIPANTES" + LAB2="2" + LAB3=162) | DQ4: APP96 /(DX1=C7004 + LAB1="NUMERO DE PARTICIPANTES" + LAB2="3" + LAB3=161) | DS4: APP96 /(DX1=C7004 + LAB1="NUMERO DE PARTICIPANTES" + LAB2="3" + LAB3=162) | DU4: 1° Monitoreo | DY4: 2° Monitoreo | EC4: TBC | EG4: VIH-SIDA
G5: CONTAR DNI/ (DX1= 99401.36+LAB1=1) + (DX2=C0011+ LAB1=161) | H5: CONTAR DNI/ (DX1= 99401.36+LAB1=2) + (DX2=C0011+ LAB1=161) | I5: CONTAR DNI/ (DX1= 99401.36+LAB1=1) + (DX2=99499.08+ LAB1=161) | J5: CONTAR DNI/ (DX1= 99401.36+LAB1=2) + (DX2=99499.08+ LAB1=161) | K5: CONTAR DNI/ (DX1= 99401.15+LAB1=1) + (DX2=C0011+ LAB1=162) | L5: CONTAR DNI/ (DX1= 99401.19+LAB1=2) + (DX2=C0011+ LAB1=162) | M5: CONTAR DNI/ (DX1= 99404.01+LAB1=1) + (DX2=99499.08+ LAB1=161) | N5: CONTAR DNI/ (DX1= 99401.36+LAB1=2) + (DX2=99499.08+ LAB1=161) | AA5: Taller de Capacitación REGISTRO Nº 67 | AE5: Taller de Capacitación REGISTRO Nº 68 | AI5: CONTAR APP144 /(DX1= C7004+LAB1="N° PARTICIPANTES"+LAB2=TP+LAB3=161) | AK5: CONTAR APP144 /(DX1= C7004+LAB1="N° PARTICIPANTES"+LAB2=TS+LAB3=161) | AM5: CONTAR APP144 /(DX1= C7004+LAB1="N° PARTICIPANTES"+LAB2=TP+LAB3=162) | AO5: CONTAR APP144 /(DX1= C7004+LAB1="N° PARTICIPANTES"+LAB2=TS+LAB3=162) | AQ5: CONTAR APP144 /(DX1= C7001+LAB1="N° PARTICIPANTES"+LAB2=TP+LAB3=161) | AS5: CONTAR APP144 /(DX1= C7001+LAB1="N° PARTICIPANTES"+LAB2=TS+LAB3=161) | AU5: CONTAR APP144 /(DX1= C7001+LAB1="N° PARTICIPANTES"+LAB2=TP+LAB3=162) | AW5: CONTAR APP144 /(DX1= C7001+LAB1="N° PARTICIPANTES"+LAB2=TS+LAB3=162) | BI5: TBC | BM5: VIH | BQ5: TBC | BU5: VIH-SIDA | BY5: APP108 /(DX1=C0021 + LAB1="NUMERO DE PARTICIPANTES" + LAB2=1 + LAB3=161 | CA5: APP108 /(DX1=C0021 + LAB1="NUMERO DE PARTICIPANTES" + LAB2=1 + LAB3=162 | CC5: APP108 /(DX1=C0021 + LAB1="NUMERO DE PARTICIPANTES" + LAB2=2 + LAB3=161 | CE5: APP108 /(DX1=C0021 + LAB1="NUMERO DE PARTICIPANTES" + LAB2=2 + LAB3=162 | CG5: APP108 /(DX1=C0021 + LAB1="NUMERO DE PARTICIPANTES" + LAB2=3 + LAB3=161 | CI5: APP108 /(DX1=C0021 + LAB1="NUMERO DE PARTICIPANTES" + LAB2=3 + LAB3=162 | CK5: APP108 /(DX1=C0021 + LAB1="NUMERO DE PARTICIPANTES" + LAB2=4 + LAB3=161 | CM5: APP108 /(DX1=C0021 + LAB1="NUMERO DE PARTICIPANTES" + LAB2=4 + LAB3=162 | DA5: APP104 /(DX1=C0001 + LAB1="1" + LAB2="FP" + LAB3=161) | DB5: APP104 /(DX1=C0001 + LAB1="1" + LAB2="FP" + LAB3=162) | DC5: APP104 /(DX1=C0001 + LAB1="2" + LAB2="FP" + LAB3=161) | DD5: APP104 /(DX1=C0001 + LAB1="2" + LAB2="FP" + LAB3=162) | DE5: APP104 /(DX1=C0001 + LAB1="3" + LAB2="FP" + LAB3=161) | DF5: APP104 /(DX1=C0001 + LAB1="3" + LAB2="FP" + LAB3=162) | DG5: APP104 /(DX1=C0001 + LAB1="4" + LAB2="FP" + LAB3=161) | DH5: APP104 /(DX1=C0001 + LAB1="4" + LAB2="FP" + LAB3=162) | DU5: APP104 /(DX1=C7001 + LAB1="NUMERO DE PARTICIPANTES" + LAB2="1" + LAB3=161) | DW5: APP104 /(DX1=C7001 + LAB1="NUMERO DE PARTICIPANTES" + LAB2="1" + LAB3=162) | DY5: APP104 /(DX1=C7001 + LAB1="NUMERO DE PARTICIPANTES" + LAB2="2" + LAB3=161) | EA5: APP104 /(DX1=C7001 + LAB1="NUMERO DE PARTICIPANTES" + LAB2="2" + LAB3=162) | EC5: APP104 /(DX1=C7003 + LAB1="NUMERO DE PARTICIPANTES" + LAB2="1" + LAB3=161) | EE5: APP104 /(DX1=C7003 + LAB1="NUMERO DE PARTICIPANTES" + LAB2="2" + LAB3=161) | EG5: APP104 /(DX1=C7003 + LAB1="NUMERO DE PARTICIPANTES" + LAB2="1" + LAB3=162) | EI5: APP104 /(DX1=C7003 + LAB1="NUMERO DE PARTICIPANTES" + LAB2="2" + LAB3=162)
AA6: CONTAR APP144 /(DX1= C0005+LAB1="N° PARTICIPANTES"+LAB2=TP+LAB3=161) | AC6: CONTAR APP144 /(DX1= C0005+LAB1="N° PARTICIPANTES"+LAB2=TS+LAB3=161) | AE6: CONTAR APP144 /(DX1= C0005+LAB1="N° PARTICIPANTES"+LAB2=TP+LAB3=162) | AG6: CONTAR APP144 /(DX1= C0005+LAB1="N° PARTICIPANTES"+LAB2=TS+LAB3=162) | BI6: APP138 /(DX1=C3151 + LAB1="NUMERO DE PARTICIPANTES" + LAB2="VCO" + LAB3=161 | BK6: APP138 /(DX1=C3151 + LAB1="NUMERO DE PARTICIPANTES" + LAB2="PSA" + LAB3=161 | BM6: APP138 /(DX1=C3151 + LAB1="NUMERO DE PARTICIPANTES" + LAB2="VCO" + LAB3=162 | BO6: APP138 /(DX1=C3151 + LAB1="NUMERO DE PARTICIPANTES" + LAB2="PSA" + LAB3=162 | BQ6: APP108 /(DX1=C0006 + LAB1="NUMERO DE PARTICIPANTES" + LAB2="VCO" + LAB3=161 | BS6: APP108 /(DX1=C0006 + LAB1="NUMERO DE PARTICIPANTES" + LAB2="PSA" + LAB3=161 | BU6: APP108 /(DX1=C0006 + LAB1="NUMERO DE PARTICIPANTES" + LAB2="VCO" + LAB3=162 | BW6: APP108 /(DX1=C0006 + LAB1="NUMERO DE PARTICIPANTES" + LAB2="PSA" + LAB3=162
G7: 1° Consejeria Integral | H7: 2° Consejeria Integral | I7: 1° Consejeria Integral | J7: 2° Consejeria Integral | K7: 1° Consejeria Integral | L7: 2° Consejeria Integral | M7: 1° Consejeria Integral | N7: 2° Consejeria Integral | O7: *TBC* PRIMERA | Q7: *VIH* PRIMERA | S7: *TBC* SEGUNDA | U7: *VIH* SEGUNDA | AI7: NIVEL PRIMARIO *TP* | AK7: NIVEL SECUNDARIO *TS* | AM7: NIVEL PRIMARIO *TP* | AO7: NIVEL SECUNDARIO *TS* | AQ7: NIVEL PRIMARIO *TP* | AS7: NIVEL SECUNDARIO *TS* | AU7: NIVEL PRIMARIO *TP* | AW7: NIVEL SECUNDARIO *TS* | AY7: TBC | AZ7: VIH-SIDA | BA7: TBC | BC7: VIH-SIDA | BE7: TBC | BF7: VIH-SIDA | BG7: TBC | BH7: VIH-SIDA
W8: Reunion | X8: Participantes | Y8: Reunion | Z8: Participantes | AA8: NIVEL PRIMARIO *TP* | AC8: NIVEL SECUNDARIO *TS* | AE8: NIVEL PRIMARIO *TP* | AG8: NIVEL SECUNDARIO *TS* | AI8: Reunion | AJ8: Participantes | AK8: Reunion | AL8: Participantes | AM8: Reunion | AN8: Participantes | AO8: Reunion | AP8: Participantes | AQ8: Reunion | AR8: Participantes | AS8: Reunion | AT8: Participantes | AU8: Reunion | AV8: Participantes | AW8: Reunion | AX8: Participantes | AY8: N° | AZ8: N° | BA8: N° | BB8: N° COMUNIDADES | BC8: N° | BD8: N° COMUNIDADES | BE8: N° | BF8: N° | BG8: N° | BH8: N° | BI8: VCO | BK8: PSA | BM8: VCO | BO8: PSA | BQ8: VCO | BS8: PSA | BU8: VCO | BW8: PSA | BY8: TBC | CA8: VIH-SIDA | CC8: TBC | CE8: VIH-SIDA | CG8: TBC | CI8: VIH-SIDA | CK8: TBC | CM8: VIH-SIDA | CO8: TBC | CQ8: VIH-SIDA | CS8: TBC | CU8: VIH-SIDA | CW8: TBC | CY8: VIH-SIDA | DA8: TBC | DB8: VIH-SIDA | DC8: TBC | DD8: VIH-SIDA | DE8: TBC | DF8: VIH-SIDA | DG8: TBC | DH8: VIH-SIDA | DI8: TBC | DK8: VIH-SIDA | DM8: TBC | DO8: VIH-SIDA | DQ8: TBC | DS8: VIH-SIDA | DU8: TBC | DW8: VIH-SIDA | DY8: TBC | EA8: VIH-SIDA | EC8: Si cumplió más del 50% de actividades programadas | EE8: Si cumplió menos del 50% de actividades programadas | EG8: Si cumplió más del 50% de actividades programadas | EI8: Si cumplió menos del 50% de actividades programadas
H9: 2° | J9: 2° | K9: 1° | L9: 2° | M9: 1° | N9: 2° | O9: Sesiones | P9: Participantes | Q9: Sesiones | R9: Participantes | S9: Sesiones | T9: Participantes | U9: Sesiones | V9: Participantes | AA9: Reunion | AB9: Participantes | AC9: Reunion | AD9: Participantes | AE9: Reunion | AF9: Participantes | AG9: Reunion | AH9: Participantes | BI9: Reunion | BJ9: Participantes | BK9: Reunion | BL9: Participantes | BM9: Reunion | BN9: Participantes | BO9: Reunion | BP9: Participantes | BQ9: Reunion | BR9: Participantes | BS9: Reunion | BT9: Participantes | BU9: Reunion | BV9: Participantes | BW9: Reunion | BX9: Participantes | BY9: Reunion | BZ9: Participantes | CA9: Reunion | CB9: Participantes | CC9: Reunion | CD9: Participantes | CE9: Reunion | CF9: Participantes | CG9: Reunion | CH9: Participantes | CI9: Reunion | CJ9: Participantes | CK9: Reunion | CL9: Participantes | CM9: Reunion | CN9: Participantes | CO9: Reunion | CP9: Participantes | CQ9: Reunion | CR9: Participantes | CS9: Reunion | CT9: Participantes | CU9: Reunion | CV9: Participantes | CW9: Reunion | CX9: Participantes | CY9: Reunion | CZ9: Participantes | DA9: Reunion | DB9: Reunion | DC9: Reunion | DD9: Reunion | DE9: Reunion | DF9: Reunion | DG9: Reunion | DH9: Reunion | DI9: Reunion | DJ9: Participantes | DK9: Reunion | DL9: Participantes | DM9: Reunion | DN9: Participantes | DO9: Reunion | DP9: Participantes | DQ9: Reunion | DR9: Participantes | DS9: Reunion | DT9: Participantes | DU9: Reunion | DV9: Participantes | DW9: Reunion | DX9: Participantes | DY9: Reunion | DZ9: Participantes | EA9: Reunion | EB9: Participantes | EC9: Reunion | ED9: Participantes | EE9: Reunion | EF9: Participantes | EG9: Reunion | EH9: Participantes | EI9: Reunion | EJ9: Participantes
G10: =G11 -> 150 | H10: =H11 -> 65 | I10: =I11 -> 0 | J10: =J11 -> 0 | K10: =K11 -> 90 | L10: =L11 -> 49 | M10: =M11 -> 0 | N10: =N11 -> 0 | ... EJ10: =EJ11 -> 0
A11: AÑO | B11: MES | C11: DISTRITO | D11: MICRORED | E11: RENAES | F11: MICRORED MAZAMARI | G11: =SUM(G12:G26) -> 150 | H11: =SUM(H12:H26) -> 65 | I11: =SUM(I12:I26) -> 0 | J11: =SUM(J12:J26) -> 0 | K11: =SUM(K12:K26) -> 90 | L11: =SUM(L12:L26) -> 49 | M11: =SUM(M12:M26) -> 0 | N11: =SUM(N12:N26) -> 0 | ... EJ11: =SUM(EJ12:EJ26) -> 0
A12: 2026 | B12: 9 | C12: LLAYLLA | D12: MAZAMARI | E12: 433 | F12: BELEN | G12: 10 | H12: 0 | I12: 0 | J12: 0 | K12: 0 | L12: 10 | M12: 0 | N12: 0 | O12: 0 | P12: 0 | Q12: 0 | R12: 0 | S12: 0 | T12: 0 | U12: 0 | V12: 0 | W12: 0 | X12: 0 | Y12: 0 | Z12: 0 | AA12: 0 | AB12: 0 | AC12: 0 | AD12: 0 | AE12: 0 | AF12: 0 | AG12: 0 | AH12: 0 | AI12: 0 | AJ12: 0 | AK12: 0 | AL12: 0 | AM12: 0 | AN12: 0 | AO12: 0 | AP12: 0 | AQ12: 0 | AR12: 0 | AS12: 0 | AT12: 0 | AU12: 0 | AV12: 0 | AW12: 0 | AX12: 0 | AY12: 0 | AZ12: 0 | BA12: 0 | BB12: 0 | BC12: 0 | BD12: 0 | BE12: 0 | BF12: 0 | BG12: 0 | BH12: 0 | BI12: 0 | BJ12: 0 | BK12: 0 | BL12: 0 | BM12: 0 | BN12: 0 | BO12: 0 | BP12: 0 | BQ12: 0 | BR12: 0 | BS12: 0 | BT12: 0 | BU12: 0 | BV12: 0 | BW12: 0 | BX12: 0 | BY12: 0 | BZ12: 0 | CA12: 0 | CB12: 0 | CC12: 0 | CD12: 0 | CE12: 0 | CF12: 0 | CG12: 0 | CH12: 0 | CI12: 0 | CJ12: 0 | CK12: 0 | CL12: 0 | CM12: 0 | CN12: 0 | CO12: 0 | CP12: 0 | CQ12: 0 | CR12: 0 | CS12: 0 | CT12: 0 | CU12: 0 | CV12: 0 | CW12: 0 | CX12: 0 | CY12: 0 | CZ12: 0 | DA12: 0 | DB12: 0 | DC12: 0 | DD12: 0 | DE12: 0 | DF12: 0 | DG12: 0 | DH12: 0 | DI12: 0 | DJ12: 0 | DK12: 0 | DL12: 0 | DM12: 0 | DN12: 0 | DO12: 0 | DP12: 0 | DQ12: 0 | DR12: 0 | DS12: 0 | DT12: 0 | DU12: 0 | DV12: 0 | DW12: 0 | DX12: 0 | DY12: 0 | DZ12: 0 | EA12: 0 | EB12: 0 | EC12: 0 | ED12: 0 | EE12: 0 | EF12: 0 | EG12: 0 | EH12: 0 | EI12: 0 | EJ12: 0
A13: 2026 | B13: 9 | C13: LLAYLLA | D13: MAZAMARI | E13: 491 | F13: HERMOSA PAMPA | G13: 10 | H13: 0 | I13: 0 | J13: 0 | K13: 12 | L13: 0 | M13: 0 | N13: 0 | O13: 0 | P13: 0 | Q13: 0 | R13: 0 | S13: 1 | T13: 10 | U13: 0 | V13: 0 | W13: 0 | X13: 0 | Y13: 0 | Z13: 0 | AA13: 0 | AB13: 0 | AC13: 0 | AD13: 0 | AE13: 0 | AF13: 0 | AG13: 0 | AH13: 0 | AI13: 0 | AJ13: 0 | AK13: 0 | AL13: 0 | AM13: 0 | AN13: 0 | AO13: 0 | AP13: 0 | AQ13: 0 | AR13: 0 | AS13: 0 | AT13: 0 | AU13: 0 | AV13: 0 | AW13: 0 | AX13: 0 | AY13: 0 | AZ13: 0 | BA13: 0 | BB13: 0 | BC13: 0 | BD13: 0 | BE13: 0 | BF13: 0 | BG13: 0 | BH13: 0 | BI13: 0 | BJ13: 0 | BK13: 0 | BL13: 0 | BM13: 0 | BN13: 0 | BO13: 0 | BP13: 0 | BQ13: 0 | BR13: 0 | BS13: 0 | BT13: 0 | BU13: 0 | BV13: 0 | BW13: 0 | BX13: 0 | BY13: 0 | BZ13: 0 | CA13: 0 | CB13: 0 | CC13: 0 | CD13: 0 | CE13: 0 | CF13: 0 | CG13: 0 | CH13: 0 | CI13: 0 | CJ13: 0 | CK13: 0 | CL13: 0 | CM13: 0 | CN13: 0 | CO13: 0 | CP13: 0 | CQ13: 0 | CR13: 0 | CS13: 0 | CT13: 0 | CU13: 0 | CV13: 0 | CW13: 0 | CX13: 0 | CY13: 0 | CZ13: 0 | DA13: 0 | DB13: 0 | DC13: 0 | DD13: 0 | DE13: 0 | DF13: 0 | DG13: 0 | DH13: 0 | DI13: 0 | DJ13: 0 | DK13: 0 | DL13: 0 | DM13: 0 | DN13: 0 | DO13: 0 | DP13: 0 | DQ13: 0 | DR13: 0 | DS13: 0 | DT13: 0 | DU13: 0 | DV13: 0 | DW13: 0 | DX13: 0 | DY13: 0 | DZ13: 0 | EA13: 0 | EB13: 0 | EC13: 0 | ED13: 0 | EE13: 0 | EF13: 0 | EG13: 0 | EH13: 0 | EI13: 0 | EJ13: 0
A14: 2026 | B14: 9 | C14: LLAYLLA | D14: MAZAMARI | E14: 490 | F14: LLAYLLA | G14: 20 | H14: 0 | I14: 0 | J14: 0 | K14: 0 | L14: 0 | M14: 0 | N14: 0 | O14: 1 | P14: 20 | S14: 0 | T14: 0 | U14: 0 | V14: 0 | W14: 0 | X14: 0 | Y14: 0 | Z14: 0 | AA14: 0 | AB14: 0 | AC14: 0 | AD14: 0 | AE14: 0 | AF14: 0 | AG14: 0 | AH14: 0 | AI14: 0 | AJ14: 0 | AK14: 0 | AL14: 0 | AM14: 0 | AN14: 0 | AO14: 0 | AP14: 0 | AQ14: 0 | AR14: 0 | AS14: 0 | AT14: 0 | AU14: 0 | AV14: 0 | AW14: 0 | AX14: 0 | AY14: 0 | AZ14: 0 | BA14: 0 | BB14: 0 | BC14: 0 | BD14: 0 | BE14: 0 | BF14: 0 | BG14: 0 | BH14: 0 | BI14: 0 | BJ14: 0 | BK14: 0 | BL14: 0 | BM14: 0 | BN14: 0 | BO14: 0 | BP14: 0 | BQ14: 0 | BR14: 0 | BS14: 0 | BT14: 0 | BU14: 0 | BV14: 0 | BW14: 0 | BX14: 0 | BY14: 0 | BZ14: 0 | CA14: 0 | CB14: 0 | CC14: 0 | CD14: 0 | CE14: 0 | CF14: 0 | CG14: 0 | CH14: 0 | CI14: 0 | CJ14: 0 | CK14: 0 | CL14: 0 | CM14: 0 | CN14: 0 | CO14: 0 | CP14: 0 | CQ14: 0 | CR14: 0 | CS14: 0 | CT14: 0 | CU14: 0 | CV14: 0 | CW14: 0 | CX14: 0 | CY14: 0 | CZ14: 0 | DA14: 0 | DB14: 0 | DC14: 0 | DD14: 0 | DE14: 0 | DF14: 0 | DG14: 0 | DH14: 0 | DI14: 0 | DJ14: 0 | DK14: 0 | DL14: 0 | DM14: 0 | DN14: 0 | DO14: 0 | DP14: 0 | DQ14: 0 | DR14: 0 | DS14: 0 | DT14: 0 | DU14: 0 | DV14: 0 | DW14: 0 | DX14: 0 | DY14: 0 | DZ14: 0 | EA14: 0 | EB14: 0 | EC14: 0 | ED14: 0 | EE14: 0 | EF14: 0 | EG14: 0 | EH14: 0 | EI14: 0 | EJ14: 0
A15: 2026 | B15: 9 | C15: MAZAMARI | D15: MAZAMARI | E15: 16911 | F15: BUENOS AIRES -TZIRIARI | G15: 22 | H15: 0 | I15: 0 | J15: 0 | K15: 12 | L15: 0 | M15: 0 | N15: 0 | O15: 1 | P15: 10 | Q15: 0 | R15: 0 | S15: 0 | T15: 0 | U15: 0 | V15: 0 | W15: 0 | X15: 0 | Y15: 0 | Z15: 0 | AA15: 0 | AB15: 0 | AC15: 0 | AD15: 0 | AE15: 0 | AF15: 0 | AG15: 0 | AH15: 0 | AI15: 0 | AJ15: 0 | AK15: 0 | AL15: 0 | AM15: 0 | AN15: 0 | AO15: 0 | AP15: 0 | AQ15: 0 | AR15: 0 | AS15: 0 | AT15: 0 | AU15: 0 | AV15: 0 | AW15: 0 | AX15: 0 | AY15: 0 | AZ15: 0 | BA15: 0 | BB15: 0 | BC15: 0 | BD15: 0 | BE15: 0 | BF15: 0 | BG15: 0 | BH15: 0 | BI15: 0 | BJ15: 0 | BK15: 0 | BL15: 0 | BM15: 0 | BN15: 0 | BO15: 0 | BP15: 0 | BQ15: 0 | BR15: 0 | BS15: 0 | BT15: 0 | BU15: 0 | BV15: 0 | BW15: 0 | BX15: 0 | BY15: 0 | BZ15: 0 | CA15: 0 | CB15: 0 | CC15: 0 | CD15: 0 | CE15: 0 | CF15: 0 | CG15: 0 | CH15: 0 | CI15: 0 | CJ15: 0 | CK15: 0 | CL15: 0 | CM15: 0 | CN15: 0 | CO15: 0 | CP15: 0 | CQ15: 0 | CR15: 0 | CS15: 0 | CT15: 0 | CU15: 0 | CV15: 0 | CW15: 0 | CX15: 0 | CY15: 0 | CZ15: 0 | DA15: 0 | DB15: 0 | DC15: 0 | DD15: 0 | DE15: 0 | DF15: 0 | DG15: 0 | DH15: 0 | DI15: 0 | DJ15: 0 | DK15: 0 | DL15: 0 | DM15: 0 | DN15: 0 | DO15: 0 | DP15: 0 | DQ15: 0 | DR15: 0 | DS15: 0 | DT15: 0 | DU15: 0 | DV15: 0 | DW15: 0 | DX15: 0 | DY15: 0 | DZ15: 0 | EA15: 0 | EB15: 0 | EC15: 0 | ED15: 0 | EE15: 0 | EF15: 0 | EG15: 0 | EH15: 0 | EI15: 0 | EJ15: 0
A16: 2026 | B16: 9 | C16: MAZAMARI | D16: MAZAMARI | E16: 435 | F16: CAPIRUSHARI | G16: 0 | H16: 0 | I16: 0 | J16: 0 | K16: 0 | L16: 0 | M16: 0 | N16: 0 | O16: 0 | P16: 0 | Q16: 0 | R16: 0 | S16: 2 | T16: 22 | U16: 2 | V16: 22 | W16: 0 | X16: 0 | Y16: 0 | Z16: 0 | AA16: 0 | AB16: 0 | AC16: 0 | AD16: 0 | AE16: 0 | AF16: 0 | AG16: 0 | AH16: 0 | AI16: 0 | AJ16: 0 | AK16: 0 | AL16: 0 | AM16: 0 | AN16: 0 | AO16: 0 | AP16: 0 | AQ16: 0 | AR16: 0 | AS16: 0 | AT16: 0 | AU16: 0 | AV16: 0 | AW16: 0 | AX16: 0 | AY16: 0 | AZ16: 0 | BA16: 0 | BB16: 0 | BC16: 0 | BD16: 0 | BE16: 0 | BF16: 0 | BG16: 0 | BH16: 0 | BI16: 0 | BJ16: 0 | BK16: 0 | BL16: 0 | BM16: 0 | BN16: 0 | BO16: 0 | BP16: 0 | BQ16: 0 | BR16: 0 | BS16: 0 | BT16: 0 | BU16: 0 | BV16: 0 | BW16: 0 | BX16: 0 | BY16: 0 | BZ16: 0 | CA16: 0 | CB16: 0 | CC16: 0 | CD16: 0 | CE16: 0 | CF16: 0 | CG16: 0 | CH16: 0 | CI16: 0 | CJ16: 0 | CK16: 0 | CL16: 0 | CM16: 0 | CN16: 0 | CO16: 0 | CP16: 0 | CQ16: 0 | CR16: 0 | CS16: 0 | CT16: 0 | CU16: 0 | CV16: 0 | CW16: 0 | CX16: 0 | CY16: 0 | CZ16: 0 | DA16: 0 | DB16: 0 | DC16: 0 | DD16: 0 | DE16: 0 | DF16: 0 | DG16: 0 | DH16: 0 | DI16: 0 | DJ16: 0 | DK16: 0 | DL16: 0 | DM16: 0 | DN16: 0 | DO16: 0 | DP16: 0 | DQ16: 0 | DR16: 0 | DS16: 0 | DT16: 0 | DU16: 0 | DV16: 0 | DW16: 0 | DX16: 0 | DY16: 0 | DZ16: 0 | EA16: 0 | EB16: 0 | EC16: 0 | ED16: 0 | EE16: 0 | EF16: 0 | EG16: 0 | EH16: 0 | EI16: 0 | EJ16: 0
A17: 2026 | B17: 9 | C17: MAZAMARI | D17: MAZAMARI | E17: 437 | F17: COMUNIDAD NATIVA DE PANGA | G17: 0 | H17: 0 | I17: 0 | J17: 0 | K17: 0 | L17: 0 | M17: 0 | N17: 0 | O17: 0 | P17: 0 | Q17: 0 | R17: 0 | S17: 0 | T17: 0 | U17: 0 | V17: 0 | W17: 0 | X17: 0 | Y17: 0 | Z17: 0 | AA17: 0 | AB17: 0 | AC17: 0 | AD17: 0 | AE17: 0 | AF17: 0 | AG17: 0 | AH17: 0 | AI17: 0 | AJ17: 0 | AK17: 0 | AL17: 0 | AM17: 0 | AN17: 0 | AO17: 0 | AP17: 0 | AQ17: 0 | AR17: 0 | AS17: 0 | AT17: 0 | AU17: 0 | AV17: 0 | AW17: 0 | AX17: 0 | AY17: 0 | AZ17: 0 | BA17: 0 | BB17: 0 | BC17: 0 | BD17: 0 | BE17: 0 | BF17: 0 | BG17: 0 | BH17: 0 | BI17: 0 | BJ17: 0 | BK17: 0 | BL17: 0 | BM17: 0 | BN17: 0 | BO17: 0 | BP17: 0 | BQ17: 0 | BR17: 0 | BS17: 0 | BT17: 0 | BU17: 0 | BV17: 0 | BW17: 0 | BX17: 0 | BY17: 0 | BZ17: 0 | CA17: 0 | CB17: 0 | CC17: 0 | CD17: 0 | CE17: 0 | CF17: 0 | CG17: 0 | CH17: 0 | CI17: 0 | CJ17: 0 | CK17: 0 | CL17: 0 | CM17: 0 | CN17: 0 | CO17: 0 | CP17: 0 | CQ17: 0 | CR17: 0 | CS17: 0 | CT17: 0 | CU17: 0 | CV17: 0 | CW17: 0 | CX17: 0 | CY17: 0 | CZ17: 0 | DA17: 0 | DB17: 0 | DC17: 0 | DD17: 0 | DE17: 0 | DF17: 0 | DG17: 0 | DH17: 0 | DI17: 0 | DJ17: 0 | DK17: 0 | DL17: 0 | DM17: 0 | DN17: 0 | DO17: 0 | DP17: 0 | DQ17: 0 | DR17: 0 | DS17: 0 | DT17: 0 | DU17: 0 | DV17: 0 | DW17: 0 | DX17: 0 | DY17: 0 | DZ17: 0 | EA17: 0 | EB17: 0 | EC17: 0 | ED17: 0 | EE17: 0 | EF17: 0 | EG17: 0 | EH17: 0 | EI17: 0 | EJ17: 0
A18: 2026 | B18: 9 | C18: MAZAMARI | D18: MAZAMARI | E18: 16908 | F18: GLORIABAMBA | G18: 0 | H18: 25 | I18: 0 | J18: 0 | K18: 0 | L18: 19 | M18: 0 | N18: 0 | O18: 0 | P18: 0 | Q18: 0 | R18: 0 | S18: 0 | T18: 0 | U18: 0 | V18: 0 | W18: 0 | X18: 0 | Y18: 0 | Z18: 0 | AA18: 0 | AB18: 0 | AC18: 0 | AD18: 0 | AE18: 0 | AF18: 0 | AG18: 0 | AH18: 0 | AI18: 0 | AJ18: 0 | AK18: 0 | AL18: 0 | AM18: 0 | AN18: 0 | AO18: 0 | AP18: 0 | AQ18: 0 | AR18: 0 | AS18: 0 | AT18: 0 | AU18: 0 | AV18: 0 | AW18: 0 | AX18: 0 | AY18: 0 | AZ18: 0 | BA18: 0 | BB18: 0 | BC18: 0 | BD18: 0 | BE18: 0 | BF18: 0 | BG18: 0 | BH18: 0 | BI18: 1 | BJ18: 5 | BK18: 0 | BL18: 0 | BM18: 1 | BN18: 5 | BO18: 0 | BP18: 0 | BQ18: 0 | BR18: 0 | BS18: 0 | BT18: 0 | BU18: 0 | BV18: 0 | BW18: 2 | BX18: 10 | BY18: 0 | BZ18: 0 | CA18: 0 | CB18: 0 | CC18: 0 | CD18: 0 | CE18: 0 | CF18: 0 | CG18: 0 | CH18: 0 | CI18: 0 | CJ18: 0 | CK18: 0 | CL18: 0 | CM18: 0 | CN18: 0 | CO18: 0 | CP18: 0 | CQ18: 0 | CR18: 0 | CS18: 0 | CT18: 0 | CU18: 0 | CV18: 0 | CW18: 0 | CX18: 0 | CY18: 0 | CZ18: 0 | DA18: 0 | DB18: 0 | DC18: 0 | DD18: 0 | DE18: 0 | DF18: 0 | DG18: 0 | DH18: 0 | DI18: 0 | DJ18: 0 | DK18: 0 | DL18: 0 | DM18: 0 | DN18: 0 | DO18: 0 | DP18: 0 | DQ18: 0 | DR18: 0 | DS18: 0 | DT18: 0 | DU18: 0 | DV18: 0 | DW18: 0 | DX18: 0 | DY18: 0 | DZ18: 0 | EA18: 0 | EB18: 0 | EC18: 0 | ED18: 0 | EE18: 0 | EF18: 0 | EG18: 0 | EH18: 0 | EI18: 0 | EJ18: 0
A19: 2026 | B19: 9 | C19: MAZAMARI | D19: MAZAMARI | E19: 34721 | F19: LURINCHINCHA | G19: 0 | H19: 0 | I19: 0 | J19: 0 | K19: 0 | L19: 0 | M19: 0 | N19: 0 | O19: 0 | P19: 0 | Q19: 1 | R19: 10 | S19: 1 | T19: 10 | U19: 0 | V19: 0 | W19: 0 | X19: 0 | Y19: 0 | Z19: 0 | AA19: 0 | AB19: 0 | AC19: 0 | AD19: 0 | AE19: 0 | AF19: 0 | AG19: 0 | AH19: 0 | AI19: 0 | AJ19: 0 | AK19: 0 | AL19: 0 | AM19: 0 | AN19: 0 | AO19: 0 | AP19: 0 | AQ19: 0 | AR19: 0 | AS19: 0 | AT19: 0 | AU19: 0 | AV19: 0 | AW19: 0 | AX19: 0 | AY19: 0 | AZ19: 0 | BA19: 0 | BB19: 0 | BC19: 0 | BD19: 0 | BE19: 0 | BF19: 0 | BG19: 0 | BH19: 0 | BI19: 0 | BJ19: 0 | BK19: 0 | BL19: 0 | BM19: 0 | BN19: 0 | BO19: 0 | BP19: 0 | BQ19: 0 | BR19: 0 | BS19: 0 | BT19: 0 | BU19: 0 | BV19: 0 | BW19: 0 | BX19: 0 | BY19: 0 | BZ19: 0 | CA19: 0 | CB19: 0 | CC19: 0 | CD19: 0 | CE19: 0 | CF19: 0 | CG19: 0 | CH19: 0 | CI19: 0 | CJ19: 0 | CK19: 0 | CL19: 0 | CM19: 0 | CN19: 0 | CO19: 0 | CP19: 0 | CQ19: 0 | CR19: 0 | CS19: 0 | CT19: 0 | CU19: 0 | CV19: 0 | CW19: 0 | CX19: 0 | CY19: 0 | CZ19: 0 | DA19: 0 | DB19: 0 | DC19: 0 | DD19: 0 | DE19: 0 | DF19: 0 | DG19: 0 | DH19: 0 | DI19: 0 | DJ19: 0 | DK19: 0 | DL19: 0 | DM19: 0 | DN19: 0 | DO19: 0 | DP19: 0 | DQ19: 0 | DR19: 0 | DS19: 0 | DT19: 0 | DU19: 0 | DV19: 0 | DW19: 0 | DX19: 0 | DY19: 0 | DZ19: 0 | EA19: 0 | EB19: 0 | EC19: 0 | ED19: 0 | EE19: 0 | EF19: 0 | EG19: 0 | EH19: 0 | EI19: 0 | EJ19: 0
A20: 2026 | B20: 9 | C20: MAZAMARI | D20: MAZAMARI | E20: 434 | F20: MAZAMARI | G20: 30 | H20: 10 | I20: 0 | J20: 0 | K20: 50 | L20: 16 | M20: 0 | N20: 0 | O20: 2 | P20: 20 | Q20: 4 | R20: 45 | S20: 1 | T20: 10 | U20: 0 | V20: 0 | W20: 0 | X20: 0 | Y20: 0 | Z20: 0 | AA20: 0 | AB20: 0 | AC20: 0 | AD20: 0 | AE20: 0 | AF20: 0 | AG20: 0 | AH20: 0 | AI20: 0 | AJ20: 0 | AK20: 0 | AL20: 0 | AM20: 0 | AN20: 0 | AO20: 0 | AP20: 0 | AQ20: 0 | AR20: 0 | AS20: 0 | AT20: 0 | AU20: 0 | AV20: 0 | AW20: 0 | AX20: 0 | AY20: 0 | AZ20: 0 | BA20: 0 | BB20: 0 | BC20: 0 | BD20: 0 | BE20: 0 | BF20: 0 | BG20: 0 | BH20: 0 | BI20: 0 | BJ20: 0 | BK20: 0 | BL20: 0 | BM20: 0 | BN20: 0 | BO20: 0 | BP20: 0 | BQ20: 0 | BR20: 0 | BS20: 0 | BT20: 0 | BU20: 0 | BV20: 0 | BW20: 0 | BX20: 0 | BY20: 0 | BZ20: 0 | CA20: 0 | CB20: 0 | CC20: 0 | CD20: 0 | CE20: 0 | CF20: 0 | CG20: 0 | CH20: 0 | CI20: 0 | CJ20: 0 | CK20: 0 | CL20: 0 | CM20: 0 | CN20: 0 | CO20: 0 | CP20: 0 | CQ20: 0 | CR20: 0 | CS20: 0 | CT20: 0 | CU20: 0 | CV20: 0 | CW20: 0 | CX20: 0 | CY20: 0 | CZ20: 0 | DA20: 0 | DB20: 0 | DC20: 0 | DD20: 0 | DE20: 0 | DF20: 0 | DG20: 0 | DH20: 0 | DI20: 0 | DJ20: 0 | DK20: 0 | DL20: 0 | DM20: 0 | DN20: 0 | DO20: 0 | DP20: 0 | DQ20: 0 | DR20: 0 | DS20: 0 | DT20: 0 | DU20: 0 | DV20: 0 | DW20: 0 | DX20: 0 | DY20: 0 | DZ20: 0 | EA20: 0 | EB20: 0 | EC20: 0 | ED20: 0 | EE20: 0 | EF20: 0 | EG20: 0 | EH20: 0 | EI20: 0 | EJ20: 0
A21: 2026 | B21: 9 | C21: MAZAMARI | D21: MAZAMARI | E21: 436 | F21: PUEBLO LIBRE DE PAURIALI | G21: 0 | H21: 0 | I21: 0 | J21: 0 | K21: 0 | L21: 0 | M21: 0 | N21: 0 | O21: 1 | P21: 10 | Q21: 0 | R21: 0 | S21: 3 | T21: 38 | U21: 0 | V21: 0 | W21: 0 | X21: 0 | Y21: 0 | Z21: 0 | AA21: 0 | AB21: 0 | AC21: 0 | AD21: 0 | AE21: 0 | AF21: 0 | AG21: 0 | AH21: 0 | AI21: 0 | AJ21: 0 | AK21: 0 | AL21: 0 | AM21: 0 | AN21: 0 | AO21: 0 | AP21: 0 | AQ21: 0 | AR21: 0 | AS21: 0 | AT21: 0 | AU21: 0 | AV21: 0 | AW21: 0 | AX21: 0 | AY21: 0 | AZ21: 0 | BA21: 0 | BB21: 0 | BC21: 0 | BD21: 0 | BE21: 0 | BF21: 0 | BG21: 0 | BH21: 0 | BI21: 0 | BJ21: 0 | BK21: 0 | BL21: 0 | BM21: 0 | BN21: 0 | BO21: 0 | BP21: 0 | BQ21: 0 | BR21: 0 | BS21: 0 | BT21: 0 | BU21: 0 | BV21: 0 | BW21: 0 | BX21: 0 | BY21: 0 | BZ21: 0 | CA21: 0 | CB21: 0 | CC21: 0 | CD21: 0 | CE21: 0 | CF21: 0 | CG21: 0 | CH21: 0 | CI21: 0 | CJ21: 0 | CK21: 0 | CL21: 0 | CM21: 0 | CN21: 0 | CO21: 0 | CP21: 0 | CQ21: 0 | CR21: 0 | CS21: 0 | CT21: 0 | CU21: 0 | CV21: 0 | CW21: 0 | CX21: 0 | CY21: 0 | CZ21: 0 | DA21: 0 | DB21: 0 | DC21: 0 | DD21: 0 | DE21: 0 | DF21: 0 | DG21: 0 | DH21: 0 | DI21: 0 | DJ21: 0 | DK21: 0 | DL21: 0 | DM21: 0 | DN21: 0 | DO21: 0 | DP21: 0 | DQ21: 0 | DR21: 0 | DS21: 0 | DT21: 0 | DU21: 0 | DV21: 0 | DW21: 0 | DX21: 0 | DY21: 0 | DZ21: 0 | EA21: 0 | EB21: 0 | EC21: 0 | ED21: 0 | EE21: 0 | EF21: 0 | EG21: 0 | EH21: 0 | EI21: 0 | EJ21: 0
A22: 2026 | B22: 9 | C22: MAZAMARI | D22: MAZAMARI | E22: 34003 | F22: SAN FRANCISCO DE CUBARO | G22: 0 | H22: 0 | I22: 0 | J22: 0 | K22: 0 | L22: 0 | M22: 0 | N22: 0 | O22: 0 | P22: 0 | Q22: 0 | R22: 0 | S22: 0 | T22: 0 | U22: 0 | V22: 0 | W22: 1 | X22: 3 | Y22: 0 | Z22: 0 | AA22: 1 | AB22: 3 | AC22: 0 | AD22: 0 | AE22: 0 | AF22: 0 | AG22: 0 | AH22: 0 | AI22: 1 | AJ22: 3 | AK22: 0 | AL22: 0 | AM22: 0 | AN22: 0 | AO22: 0 | AP22: 0 | AQ22: 1 | AR22: 3 | AS22: 0 | AT22: 0 | AU22: 0 | AV22: 0 | AW22: 0 | AX22: 0 | AY22: 0 | AZ22: 0 | BA22: 0 | BB22: 0 | BC22: 0 | BD22: 0 | BE22: 0 | BF22: 0 | BG22: 0 | BH22: 0 | BI22: 0 | BJ22: 0 | BK22: 0 | BL22: 0 | BM22: 0 | BN22: 0 | BO22: 0 | BP22: 0 | BQ22: 0 | BR22: 0 | BS22: 0 | BT22: 0 | BU22: 0 | BV22: 0 | BW22: 0 | BX22: 0 | BY22: 0 | BZ22: 0 | CA22: 0 | CB22: 0 | CC22: 0 | CD22: 0 | CE22: 0 | CF22: 0 | CG22: 0 | CH22: 0 | CI22: 0 | CJ22: 0 | CK22: 0 | CL22: 0 | CM22: 0 | CN22: 0 | CO22: 0 | CP22: 0 | CQ22: 0 | CR22: 0 | CS22: 0 | CT22: 0 | CU22: 0 | CV22: 0 | CW22: 0 | CX22: 0 | CY22: 0 | CZ22: 0 | DA22: 0 | DB22: 0 | DC22: 0 | DD22: 0 | DE22: 0 | DF22: 0 | DG22: 0 | DH22: 0 | DI22: 0 | DJ22: 0 | DK22: 0 | DL22: 0 | DM22: 0 | DN22: 0 | DO22: 0 | DP22: 0 | DQ22: 0 | DR22: 0 | DS22: 0 | DT22: 0 | DU22: 0 | DV22: 0 | DW22: 0 | DX22: 0 | DY22: 0 | DZ22: 0 | EA22: 0 | EB22: 0 | EC22: 0 | ED22: 0 | EE22: 0 | EF22: 0 | EG22: 0 | EH22: 0 | EI22: 0 | EJ22: 0
A23: 2026 | B23: 9 | C23: MAZAMARI | D23: MAZAMARI | E23: 16909 | F23: TEORIA | G23: 0 | H23: 0 | I23: 0 | J23: 0 | K23: 0 | L23: 0 | M23: 0 | N23: 0 | O23: 0 | P23: 0 | Q23: 0 | R23: 0 | S23: 0 | T23: 0 | U23: 0 | V23: 0 | W23: 0 | X23: 0 | Y23: 1 | Z23: 4 | AA23: 0 | AB23: 0 | AC23: 0 | AD23: 0 | AE23: 0 | AF23: 0 | AG23: 1 | AH23: 4 | AI23: 0 | AJ23: 0 | AK23: 0 | AL23: 0 | AM23: 0 | AN23: 0 | AO23: 0 | AP23: 0 | AQ23: 0 | AR23: 0 | AS23: 0 | AT23: 0 | AU23: 0 | AV23: 0 | AW23: 0 | AX23: 0 | AY23: 0 | AZ23: 0 | BA23: 0 | BB23: 0 | BC23: 0 | BD23: 0 | BE23: 0 | BF23: 0 | BG23: 0 | BH23: 0 | BI23: 0 | BJ23: 0 | BK23: 0 | BL23: 0 | BM23: 0 | BN23: 0 | BO23: 0 | BP23: 0 | BQ23: 0 | BR23: 0 | BS23: 0 | BT23: 0 | BU23: 0 | BV23: 0 | BW23: 0 | BX23: 0 | BY23: 0 | BZ23: 0 | CA23: 0 | CB23: 0 | CC23: 0 | CD23: 0 | CE23: 0 | CF23: 0 | CG23: 0 | CH23: 0 | CI23: 0 | CJ23: 0 | CK23: 0 | CL23: 0 | CM23: 0 | CN23: 0 | CO23: 0 | CP23: 0 | CQ23: 0 | CR23: 0 | CS23: 0 | CT23: 0 | CU23: 0 | CV23: 0 | CW23: 0 | CX23: 0 | CY23: 0 | CZ23: 0 | DA23: 0 | DB23: 0 | DC23: 0 | DD23: 0 | DE23: 0 | DF23: 0 | DG23: 0 | DH23: 0 | DI23: 0 | DJ23: 0 | DK23: 0 | DL23: 0 | DM23: 0 | DN23: 0 | DO23: 0 | DP23: 0 | DQ23: 0 | DR23: 0 | DS23: 0 | DT23: 0 | DU23: 0 | DV23: 0 | DW23: 0 | DX23: 0 | DY23: 0 | DZ23: 0 | EA23: 0 | EB23: 0 | EC23: 0 | ED23: 0 | EE23: 0 | EF23: 0 | EG23: 0 | EH23: 0 | EI23: 0 | EJ23: 0
A24: 2026 | B24: 9 | C24: MAZAMARI | D24: MAZAMARI | E24: 16912 | F24: VILLA PROGRESO DE EDEN | G24: 12 | H24: 0 | I24: 0 | J24: 0 | K24: 12 | L24: 0 | M24: 0 | N24: 0 | O24: 0 | P24: 0 | Q24: 1 | R24: 15 | S24: 0 | T24: 0 | U24: 0 | V24: 0 | W24: 0 | X24: 0 | Y24: 0 | Z24: 0 | AA24: 0 | AB24: 0 | AC24: 0 | AD24: 0 | AE24: 0 | AF24: 0 | AG24: 0 | AH24: 0 | AI24: 0 | AJ24: 0 | AK24: 0 | AL24: 0 | AM24: 0 | AN24: 0 | AO24: 0 | AP24: 0 | AQ24: 0 | AR24: 0 | AS24: 0 | AT24: 0 | AU24: 0 | AV24: 0 | AW24: 0 | AX24: 0 | AY24: 0 | AZ24: 0 | BA24: 0 | BB24: 0 | BC24: 0 | BD24: 0 | BE24: 0 | BF24: 0 | BG24: 0 | BH24: 0 | BI24: 0 | BJ24: 0 | BK24: 0 | BL24: 0 | BM24: 0 | BN24: 0 | BO24: 0 | BP24: 0 | BQ24: 0 | BR24: 0 | BS24: 0 | BT24: 0 | BU24: 0 | BV24: 0 | BW24: 0 | BX24: 0 | BY24: 0 | BZ24: 0 | CA24: 0 | CB24: 0 | CC24: 0 | CD24: 0 | CE24: 0 | CF24: 0 | CG24: 0 | CH24: 0 | CI24: 0 | CJ24: 0 | CK24: 0 | CL24: 0 | CM24: 0 | CN24: 0 | CO24: 0 | CP24: 0 | CQ24: 0 | CR24: 0 | CS24: 0 | CT24: 0 | CU24: 0 | CV24: 0 | CW24: 0 | CX24: 0 | CY24: 0 | CZ24: 0 | DA24: 0 | DB24: 0 | DC24: 0 | DD24: 0 | DE24: 0 | DF24: 0 | DG24: 0 | DH24: 0 | DI24: 0 | DJ24: 0 | DK24: 0 | DL24: 0 | DM24: 0 | DN24: 0 | DO24: 0 | DP24: 0 | DQ24: 0 | DR24: 0 | DS24: 0 | DT24: 0 | DU24: 0 | DV24: 0 | DW24: 0 | DX24: 0 | DY24: 0 | DZ24: 0 | EA24: 0 | EB24: 0 | EC24: 0 | ED24: 0 | EE24: 0 | EF24: 0 | EG24: 0 | EH24: 0 | EI24: 0 | EJ24: 0
A25: 2026 | B25: 9 | C25: PANGOA | D25: MAZAMARI | E25: 439 | F25: SAN CRISTOBAL | G25: 34 | H25: 30 | I25: 0 | J25: 0 | K25: 4 | L25: 4 | M25: 0 | N25: 0 | O25: 1 | P25: 35 | Q25: 1 | R25: 20 | S25: 1 | T25: 30 | U25: 1 | V25: 20 | W25: 0 | X25: 0 | Y25: 0 | Z25: 0 | AA25: 0 | AB25: 0 | AC25: 0 | AD25: 0 | AE25: 0 | AF25: 0 | AG25: 0 | AH25: 0 | AI25: 0 | AJ25: 0 | AK25: 0 | AL25: 0 | AM25: 0 | AN25: 0 | AO25: 0 | AP25: 0 | AQ25: 0 | AR25: 0 | AS25: 0 | AT25: 0 | AU25: 0 | AV25: 0 | AW25: 0 | AX25: 0 | AY25: 0 | AZ25: 0 | BA25: 0 | BB25: 0 | BC25: 0 | BD25: 0 | BE25: 0 | BF25: 0 | BG25: 0 | BH25: 0 | BI25: 0 | BJ25: 0 | BK25: 0 | BL25: 0 | BM25: 0 | BN25: 0 | BO25: 0 | BP25: 0 | BQ25: 0 | BR25: 0 | BS25: 0 | BT25: 0 | BU25: 0 | BV25: 0 | BW25: 0 | BX25: 0 | BY25: 0 | BZ25: 0 | CA25: 0 | CB25: 0 | CC25: 0 | CD25: 0 | CE25: 0 | CF25: 0 | CG25: 0 | CH25: 0 | CI25: 0 | CJ25: 0 | CK25: 0 | CL25: 0 | CM25: 0 | CN25: 0 | CO25: 0 | CP25: 0 | CQ25: 0 | CR25: 0 | CS25: 0 | CT25: 0 | CU25: 0 | CV25: 0 | CW25: 0 | CX25: 0 | CY25: 0 | CZ25: 0 | DA25: 0 | DB25: 0 | DC25: 0 | DD25: 0 | DE25: 0 | DF25: 0 | DG25: 0 | DH25: 0 | DI25: 0 | DJ25: 0 | DK25: 0 | DL25: 0 | DM25: 0 | DN25: 0 | DO25: 0 | DP25: 0 | DQ25: 0 | DR25: 0 | DS25: 0 | DT25: 0 | DU25: 0 | DV25: 0 | DW25: 0 | DX25: 0 | DY25: 0 | DZ25: 0 | EA25: 0 | EB25: 0 | EC25: 0 | ED25: 0 | EE25: 0 | EF25: 0 | EG25: 0 | EH25: 0 | EI25: 0 | EJ25: 0
A26: 2026 | B26: 9 | C26: PANGOA | D26: MAZAMARI | E26: 438 | F26: TZIRIARI | G26: 12 | H26: 0 | I26: 0 | J26: 0 | K26: 0 | L26: 0 | M26: 0 | N26: 0 | O26: 1 | P26: 12 | Q26: 0 | R26: 0 | S26: 0 | T26: 0 | U26: 0 | V26: 0 | W26: 0 | X26: 0 | Y26: 0 | Z26: 0 | AA26: 0 | AB26: 0 | AC26: 0 | AD26: 0 | AE26: 0 | AF26: 0 | AG26: 0 | AH26: 0 | AI26: 0 | AJ26: 0 | AK26: 0 | AL26: 0 | AM26: 0 | AN26: 0 | AO26: 0 | AP26: 0 | AQ26: 0 | AR26: 0 | AS26: 0 | AT26: 0 | AU26: 0 | AV26: 0 | AW26: 0 | AX26: 0 | AY26: 1 | AZ26: 1 | BA26: 1 | BB26: 8 | BC26: 1 | BD26: 8 | BE26: 0 | BF26: 0 | BG26: 1 | BH26: 1 | BI26: 0 | BJ26: 0 | BK26: 0 | BL26: 0 | BM26: 0 | BN26: 0 | BO26: 0 | BP26: 0 | BQ26: 0 | BR26: 0 | BS26: 0 | BT26: 0 | BU26: 0 | BV26: 0 | BW26: 0 | BX26: 0 | BY26: 0 | BZ26: 0 | CA26: 0 | CB26: 0 | CC26: 0 | CD26: 0 | CE26: 0 | CF26: 0 | CG26: 0 | CH26: 0 | CI26: 0 | CJ26: 0 | CK26: 0 | CL26: 0 | CM26: 0 | CN26: 0 | CO26: 0 | CP26: 0 | CQ26: 0 | CR26: 0 | CS26: 0 | CT26: 0 | CU26: 0 | CV26: 0 | CW26: 0 | CX26: 0 | CY26: 0 | CZ26: 0 | DA26: 0 | DB26: 0 | DC26: 0 | DD26: 0 | DE26: 0 | DF26: 0 | DG26: 0 | DH26: 0 | DI26: 0 | DJ26: 0 | DK26: 0 | DL26: 0 | DM26: 0 | DN26: 0 | DO26: 0 | DP26: 0 | DQ26: 0 | DR26: 0 | DS26: 0 | DT26: 0 | DU26: 0 | DV26: 0 | DW26: 0 | DX26: 0 | DY26: 0 | DZ26: 0 | EA26: 0 | EB26: 0 | EC26: 0 | ED26: 0 | EE26: 0 | EF26: 0 | EG26: 0 | EH26: 0 | EI26: 0 | EJ26: 0

Sheet PP0017-MetxyZoon
A1: MENSUAL | G1: 4.1.1 SUB PRODUCTO 4397701: FAMILIAS QUE DESARROLLAN PRÁCTICAS SALUDABLES PARA LA PREVENCIÓN DE LAS ENFERMEDADES METAXÉNICAS | AQ1: 4.1.2 SUB PRODUCTO 4397702: FAMILIAS QUE DESARROLLAN PRÁCTICAS SALUDABLES PARA LA PREVENCIÓN DE LAS ENFERMEDADES ZOONÓTICAS | BM1: 4.2.1 SUB PRODUCTO 4397703: COMUNIDADES PRIORIZADAS EN EL DISTRITO QUE ESTÁN IMPLEMENTANDO LA VIGILANCI COMUNITARIA ASOCIADA A ENFERMEDADES METAXÉNICAS Y ZOONÓTICAS | QM1: 4.2.2 SUB PRODUCTO 4397704: MUNICIPIOS (COMITÉ MULTISECTORIAL) CAPACITADO Y ARTICULADO PARA MEJORAR O MITIGAR LAS CONDICIONES QUE GENERAN RIESGO DE ENFERMAR O MORIR POR ALGUNA ENFERMEDAD METAXÉNICA O ZOONÓTICA | UZ1: 4.2.3 SUB PRODUCTO 4397705: DOCENTES, DIRECTIVOS Y PADRES DE FAMILIA, CAPACITADOS Y COMPROMETIDOS A DESARROLLAR ACCIONES PARA LA PROMOCIÓN DE PRÁCTICAS SALUDABLES PARA LA PREVENCIÓN DE LAS ENFERMEDADES METAXÉNICAS Y ZOONÓTICAS
A3: AÑO | B3: MES | C3: DISTRITO | D3: UBIGEO | E3: Código RENAES | F3: Departamento, Red, Provincia, Distrito y Establecimiento | BM3: La implementación de la vigilancia comunitaria tiene los siguientes procesos REGISTRO Nº 97 | DM3: Taller de capacitación a líderes comunitarios (LC) y agentes comunitarias de salud (ACS) REGISTRO Nº 98 | FM3: Vigilancia comunitaria de puntos Críticos Identificados (PCI) REGISTRO Nº 99 | HM3: Acciones de movilización comunitaria -Ejecución de campaña de recojo y eliminación de inservibles REGISTRO Nº 100 | JY3: Acciones de movilización comunitaria - Ejecución de campaña de recojo y eliminación de inservibles -Vigilancia Sanitaria de la Limpieza de Vías y Espacios Públicos. REGISTRO Nº 100 | MK3: Acciones de movilización comunitaria - Ejecución de campaña de recojo y eliminación de inservibles REGISTRO Nº 100 | NY3: Acciones de movilización comunitaria - Ejecución de campaña de recojo y eliminación de inservibles -Vigilancia Sanitaria de la Limpieza de Vías y Espacios Públicos REGISTRO Nº 100 | PM3: Acompañamiento y evaluación en la VC REGISTRO Nº 101 | QM3: Acciones REGISTRO Nº 102 | SM3: Conformación y reuniones del comité multisectorial REGISTRO Nº 103 | SZ3: Asistencia técnica para elaboración del plan multisectorial REGISTRO Nº 104 | TZ3: Monitoreo REGISTRO Nº 105 | UM3: Evaluación REGISTRO Nº 106 | UZ3: Taller para Instituciones Educativas REGISTRO Nº 107 | YZ3: Cuando el docente capacitado desarrolla el proyecto/sesión de aprendizaje relacionados a la prevención de las enfermedades Metaxénica y Zoonóticas se registrará: REGISTRO Nº 108 | ZR3: Concurso Interescolar para la prevención de las Enfermedades Metaxénicas REGISTRO Nº 109 | AAP3: Incidencia a Directivos y Docentes REGISTRO Nº 110 | ADP3: Acompañamiento al directivo REGISTRO Nº 111
G4: CONSEJERIA METAXENICAS REGISTRO Nº 93 | K4: Sesión Educativa REGISTRO Nº 94 | AA4: Sesión Demostrativa REGISTRO Nº 94 | AQ4: CONSEJERIA ZOONOTICAS REGISTRO Nº 95 | AS4: Sesión Educativa REGISTRO Nº 96 | BC4: Sesión Demostrativa REGISTRO Nº 96 | BM4: Metaxenicas | CS4: Zoonoticas | DM4: Metaxenicas | ES4: Zoonoticas | FM4: Metaxenicas | GS4: Zoonoticas | HM4: Metaxenicas | IC4: Metaxenicas | IS4: Metaxenicas | JI4: Metaxenicas | JY4: Metaxenicas | KO4: Metaxenicas | LE4: Metaxenicas | LU4: Metaxenicas | MK4: Zoonoticas | MU4: Zoonoticas | NE4: Zoonoticas | NO4: Zoonoticas | NY4: Zoonoticas | OI4: Zoonoticas | OS4: Zoonoticas | PC4: Zoonoticas | PM4: Metaxenicas | QC4: Zoonoticas | QM4: Metaxenicas | RS4: Zoonoticas | SM4: Metaxenicas | SU4: Zoonoticas | SZ4: Metaxenicas | TP4: Zoonoticas | TZ4: Metaxenicas | UH4: Zoonoticas | UM4: Metaxenicas | UU4: Zoonoticas | UZ4: Metaxenicas | XL4: Zoonoticas | YZ4: Metaxenicas | ZH4: Zoonoticas | ZR4: Dengue 05 | ZX4: Chikungunya 02 | AAD4: Zika 03 | AAJ4: Leishmaniasis 09 | AAP4: Metaxenicas | ACL4: Zoonoticas | ADP4: Metaxenicas | AFL4: Zoonoticas
G5: Sensibilizar a la familia sobre la importancia de la apertura de sus casas para intervenciones sanitaria | I5: Higiene y ordenamiento de la vivienda para eliminación de criaderos | AQ5: Sensibilizar a la familia sobre la importancia de la apertura de sus casas para intervenciones sanitaria | BM5: Malaria (01) | BQ5: Dengue (05) | BU5: Chikungunya (02) | BY5: Zika (03) | CC5: Bartonelosis (06) | CG5: Fiebre Amarilla (07) | CK5: Chagas (08) | CO5: Leishmaniosis (09) | CS5: Rabia (04) | CW5: Peste (10) | DA5: Leptospirosis (11) | DE5: Tifus (12) | DI5: Equinococosis (13) | DM5: Malaria 01 | DQ5: Dengue 05 | DU5: Chikungunya 02 | DY5: Zika 03 | EC5: Bartonelosis 06 | EG5: Fiebre Amarilla 07 | EK5: Chagas 08 | EO5: Leishmaniasis 09 | ES5: Rabia (04) | EW5: Peste (10) | FA5: Leptospirosis (11) | FE5: Tifus (12) | FI5: Equinococosis (13) | FM5: Malaria 01 | FQ5: Dengue 05 | FU5: Chikungunya 02 | FY5: Zika 03 | GC5: Bartonelosis 06 | GG5: Fiebre Amarilla 07 | GK5: Chagas 08 | GO5: Leishmaniasis 09 | GS5: Rabia (04) | GW5: Peste (10) | HA5: Leptospirosis (11) | HE5: Tifus (12) | HI5: Equinococosis (13) | HM5: Acciones de movilización 1 | IC5: Acciones de movilización 2 | IS5: Acciones de movilización 3 | JI5: Acciones de movilización 4 | JY5: Acciones de movilización 1 | KO5: Acciones de movilización 2 | LE5: Acciones de movilización 3 | LU5: Acciones de movilización 4 | MK5: Acciones de movilización 1 | MU5: Acciones de movilización 2 | NE5: Acciones de movilización 3 | NO5: Acciones de movilización 4 | NY5: Acciones de movilización 1 | OI5: Acciones de movilización 2 | OS5: Acciones de movilización 3 | PC5: Acciones de movilización 4 | QM5: Malaria 01 | QQ5: Dengue 05 | QU5: Chikungunya 02 | QY5: Zika 03 | RC5: Bartonelosis 06 | RG5: Fiebre Amarilla 07 | RK5: Chagas 08 | RO5: Leishmaniasis 09 | RS5: Rabia (04) | RW5: Peste (10) | SA5: Leptospirosis (11) | SE5: Tifus (12) | SI5: Equinococosis (13) | SZ5: Malaria 01 | TB5: Dengue 05 | TD5: Chikungunya 02 | TF5: Zika 03 | TH5: Bartonelosis 06 | TJ5: Fiebre Amarilla 07 | TL5: Chagas 08 | TN5: Leishmaniasis 09 | TP5: Rabia 04 | TR5: Peste 10 | TT5: Leptospirosis 11 | TV5: Tifus 12 | TX5: Equinococosis 13 | TZ5: Malaria 01 | UA5: Dengue 05 | UB5: Chikungunya 02 | UC5: Zika 03 | UD5: Bartonelosis 06 | UE5: Fiebre Amarilla 07 | UF5: Chagas 08 | UG5: Leishmaniasis 09 | UH5: Rabia 04 | UI5: Peste 10 | UJ5: Leptospirosis 11 | UK5: Tifus 12 | UL5: Equinococosis 13 | UM5: Malaria 01 | UN5: Dengue 05 | UO5: Chikungunya 02 | UP5: Zika 03 | UQ5: Bartonelosis 06 | UR5: Fiebre Amarilla 07 | US5: Chagas 08 | UT5: Leishmaniasis 09 | UU5: Rabia 04 | UV5: Peste 10 | UW5: Leptospirosis 11 | UX5: Tifus 12 | UY5: Equinococosis 13 | UZ5: Malaria 01 | VH5: Dengue 05 | VP5: Chikungunya 02 | VX5: Zika 03 | WF5: Bartonelosis 06 | WN5: Fiebre Amarilla 07 | WV5: Chagas 08 | XD5: Leishmaniasis 09 | XL5: Rabia 04 | XT5: Peste 10 | YB5: Leptospirosis 11 | YJ5: Tifus 12 | YR5: Equinococosis 13 | YZ5: Dengue 05 | ZB5: Chikungunya 02 | ZD5: Zika 03 | ZF5: Leishmaniasis 09 | ZH5: Rabia 04 | ZJ5: Peste 10 | ZL5: Leptospirosis 11 | ZN5: Tifus 12 | ZP5: Equinococosis 13 | ZR5: 1° Concurso | ZU5: 2° Concurso | ZX5: 1° Concurso | AAA5: 2° Concurso | AAD5: 1° Concurso | AAG5: 2° Concurso | AAJ5: 1° Concurso | AAM5: 2° Concurso | AAP5: Malaria (01) | AAV5: Dengue (05) | ABB5: Chikungunya (02) | ABH5: Zika (03) | ABN5: Bartonelosis (06) | ABT5: Fiebre Amarilla (07) | ABZ5: Chagas (08) | ACF5: Leishmaniasis (09) | ACL5: Rabia (04) | ACR5: Peste (10) | ACX5: Leptospirosis (11) | ADD5: Tifus (12) | ADJ5: Equinococosis (13) | ADP5: Malaria (01) | ADV5: Dengue (05) | AEB5: Chikungunya (02) | AEH5: Zika (03) | AEN5: Bartonelosis (06) | AET5: Fiebre Amarilla (07) | AEZ5: Chagas (08) | AFF5: Leishmaniasis (09) | AFL5: Rabia (04) | AFR5: Peste (10) | AFX5: Leptospirosis (11) | AGD5: Tifus (12) | AGJ5: Equinococosis (13)
G6: CONTAR DNI/ (DX1= 99404.01+LAB1=VR) + (DX2=C0011+ LAB1=05) | H6: CONTAR DNI/ (DX1= 99404.01+LAB1=VR) + (DX2=99499.08+ LAB1=05) | I6: CONTAR DNI/ (DX1= 99404.01+LAB1=HA) + (DX2=C0011+ LAB1=05) | J6: CONTAR DNI/ (DX1= 99404.01+LAB1=HA) + (DX2=99499.08+ LAB1=05) | K6: - INGRESAR DNI DEL REPRESENTANTE DE LA FAMILIA - PRIMERO CODIGO ES C0009 "SESION EDUCATIVA" - SEGUNDO CODIGO ES C0010 "SESION DEMOSTRATIVA", LAB. 1="1" + LAB. 2="registrar el CODIGO según tipo de enfermedad zoonóticas". EL TIPO DE DIAGNOSTICO ES LA "D" DE DEFINITIVO | S6: - INGRESAR DNI DEL REPRESENTANTE DE LA FAMILIA - PRIMERO CODIGO ES C0009 "SESION EDUCATIVA" - SEGUNDO CODIGO ES C0010 "SESION DEMOSTRATIVA", LAB. 1="2" + LAB. 2="registrar el CODIGO según tipo de enfermedad zoonóticas". EL TIPO DE DIAGNOSTICO ES LA "D" DE DEFINITIVO | AA6: - INGRESAR DNI DEL REPRESENTANTE DE LA FAMILIA - PRIMERO CODIGO ES C0009 "SESION EDUCATIVA" - SEGUNDO CODIGO ES C0010 "SESION DEMOSTRATIVA", LAB. 1=" 1 " + LAB. 2="registrar el CODIGO según tipo de enfermedad zoonóticas". EL TIPO DE DIAGNOSTICO ES LA "D" DE DEFINITIVO | AI6: - INGRESAR DNI DEL REPRESENTANTE DE LA FAMILIA - PRIMERO CODIGO ES C0009 "SESION EDUCATIVA" - SEGUNDO CODIGO ES C0010 "SESION DEMOSTRATIVA", LAB. 1 " registrar el número de sesión educativa 2 " + LAB. 2 "registrar el CODIGO según tipo de enfermedad zoonóticas". EL TIPO DE DIAGNOSTICO ES LA "D" DE DEFINITIVO | AQ6: CONTAR DNI/ (DX1= 99404.01) + (DX2=C0011+ LAB1=04) | AR6: CONTAR DNI/ (DX1= 99404.01) + (DX2=99499.08+ LAB1=04) | AS6: - INGRESAR DNI - DX1=C0009 "SESION EDUCATIVA" LAB. 1 "1" - DX2= C0010 "SESION DEMOSTRATIVA", EL LAB. 1 "registrar el CODIGO según tipo de enfermedad zoonóticas". EL TIPO DE DIAGNOSTICO ES LA "D" DE DEFINITIVO | AX6: - INGRESAR DNI - DX1=C0009 "SESION EDUCATIVA" LAB. 1 "2" - DX2= C0010 "SESION DEMOSTRATIVA", EL LAB. 1 "registrar el CODIGO según tipo de enfermedad zoonóticas". EL TIPO DE DIAGNOSTICO ES LA "D" DE DEFINITIVO | BC6: - INGRESAR DNI - DX1=C0009 "SESION EDUCATIVA" LAB. 1 "1" - DX2= C0010 "SESION DEMOSTRATIVA", EL LAB. 1 "registrar el CODIGO según tipo de enfermedad zoonóticas". EL TIPO DE DIAGNOSTICO ES LA "D" DE DEFINITIVO | BH6: - INGRESAR DNI - DX1=C0009 "SESION EDUCATIVA" LAB. 1 "2" - DX2= C0010 "SESION DEMOSTRATIVA", EL LAB. 1 "registrar el CODIGO según tipo de enfermedad zoonóticas". EL TIPO DE DIAGNOSTICO ES LA "D" DE DEFINITIVO | BM6: CONTAR APP 108/ (DX1=C0021+LAB1=1+LAB2=01) | BN6: CONTAR APP 108/ (DX1=C0021+LAB1=2+LAB2="N° COMUNIDADES"+LAB3=01) | BP6: CONTAR APP 108/ (DX1=C0021+LAB1=3+LAB2=01) | BQ6: CONTAR APP 108/ (DX1=C0021+LAB1=1+LAB2=05) | BR6: CONTAR APP 108/ (DX1=C0021+LAB1=2+LAB2="N° COMUNIDADES"+LAB3=05) | BT6: CONTAR APP 108/ (DX1=C0021+LAB1=3+LAB2=05) | BU6: CONTAR APP 108/ (DX1=C0021+LAB1=1+LAB2=02) | BV6: CONTAR APP 108/ (DX1=C0021+LAB1=2+LAB2="N° COMUNIDADES"+LAB3=02) | BX6: CONTAR APP 108/ (DX1=C0021+LAB1=3+LAB2=02) | BY6: CONTAR APP 108/ (DX1=C0021+LAB1=1+LAB2=03) | BZ6: CONTAR APP 108/ (DX1=C0021+LAB1=2+LAB2="N° COMUNIDADES"+LAB3=03) | CB6: CONTAR APP 108/ (DX1=C0021+LAB1=3+LAB2=03) | CC6: CONTAR APP 108/ (DX1=C0021+LAB1=1+LAB2=06) | CD6: CONTAR APP 108/ (DX1=C0021+LAB1=2+LAB2="N° COMUNIDADES"+LAB3=06) | CF6: CONTAR APP 108/ (DX1=C0021+LAB1=3+LAB2=06) | CG6: CONTAR APP 108/ (DX1=C0021+LAB1=1+LAB2=07) | CH6: CONTAR APP 108/ (DX1=C0021+LAB1=2+LAB2="N° COMUNIDADES"+LAB3=07) | CJ6: CONTAR APP 108/ (DX1=C0021+LAB1=3+LAB2=07) | CK6: CONTAR APP 108/ (DX1=C0021+LAB1=1+LAB2=08) | CL6: CONTAR APP 108/ (DX1=C0021+LAB1=2+LAB2="N° COMUNIDADES"+LAB3=08) | CN6: CONTAR APP 108/ (DX1=C0021+LAB1=3+LAB2=08) | CO6: CONTAR APP 108/ (DX1=C0021+LAB1=1+LAB2=09) | CP6: CONTAR APP 108/ (DX1=C0021+LAB1=2+LAB2="N° COMUNIDADES"+LAB3=09) | CR6: CONTAR APP 108/ (DX1=C0021+LAB1=3+LAB2=09) | CS6: CONTAR APP 108/ (DX1=C0021+LAB1=1+LAB2=04) | CT6: CONTAR APP 108/ (DX1=C0021+LAB1=2+LAB2="N° COMUNIDADES"+LAB3=04) | CV6: CONTAR APP 108/ (DX1=C0021+LAB1=3+LAB2=04) | CW6: CONTAR APP 108/ (DX1=C0021+LAB1=1+LAB2=10) | CX6: CONTAR APP 108/ (DX1=C0021+LAB1=2+LAB2="N° COMUNIDADES"+LAB3=10) | CZ6: CONTAR APP 108/ (DX1=C0021+LAB1=3+LAB2=10) | DA6: CONTAR APP 108/ (DX1=C0021+LAB1=1+LAB2=11) | DB6: CONTAR APP 108/ (DX1=C0021+LAB1=2+LAB2="N° COMUNIDADES"+LAB3=11) | DD6: CONTAR APP 108/ (DX1=C0021+LAB1=3+LAB2=11) | DE6: CONTAR APP 108/ (DX1=C0021+LAB1=1+LAB2=12) | DF6: CONTAR APP 108/ (DX1=C0021+LAB1=2+LAB2="N° COMUNIDADES"+LAB3=12) | DH6: CONTAR APP 108/ (DX1=C0021+LAB1=3+LAB2=12) | DI6: CONTAR APP 108/ (DX1=C0021+LAB1=1+LAB2=13) | DJ6: CONTAR APP 108/ (DX1=C0021+LAB1=2+LAB2="N° COMUNIDADES"+LAB3=13) | DL6: CONTAR APP 108/ (DX1=C0021+LAB1=3+LAB2=13) | DM6: CONTAR APP 108/ (DX1=C0006+LAB1="N° PARTICIPANTES"+LAB3=01) | DO6: CONTAR APP 108/ (DX1=C0006+LAB1="N° PARTICIPANTES"+LAB2=PDS+LAB3=01) | DQ6: CONTAR APP 108/ (DX1=C0006+LAB1="N° PARTICIPANTES"+LAB3=05) | DS6: CONTAR APP 108/ (DX1=C0006+LAB1="N° PARTICIPANTES"+LAB2=PDS+LAB3=05) | DU6: CONTAR APP 108/ (DX1=C0006+LAB1="N° PARTICIPANTES"+LAB3=02) | DW6: CONTAR APP 108/ (DX1=C0006+LAB1="N° PARTICIPANTES"+LAB2=PDS+LAB3=02) | DY6: CONTAR APP 108/ (DX1=C0006+LAB1="N° PARTICIPANTES"+LAB3=03) | EA6: CONTAR APP 108/ (DX1=C0006+LAB1="N° PARTICIPANTES"+LAB2=PDS+LAB3=03) | EC6: CONTAR APP 108/ (DX1=C0006+LAB1="N° PARTICIPANTES"+LAB3=06) | EE6: CONTAR APP 108/ (DX1=C0006+LAB1="N° PARTICIPANTES"+LAB2=PDS+LAB3=06) | EG6: CONTAR APP 108/ (DX1=C0006+LAB1="N° PARTICIPANTES"+LAB3=07) | EI6: CONTAR APP 108/ (DX1=C0006+LAB1="N° PARTICIPANTES"+LAB2=PDS+LAB3=07) | EK6: CONTAR APP 108/ (DX1=C0006+LAB1="N° PARTICIPANTES"+LAB3=08) | EM6: CONTAR APP 108/ (DX1=C0006+LAB1="N° PARTICIPANTES"+LAB2=PDS+LAB3=08) | EO6: CONTAR APP 108/ (DX1=C0006+LAB1="N° PARTICIPANTES"+LAB3=09) | EQ6: CONTAR APP 108/ (DX1=C0006+LAB1="N° PARTICIPANTES"+LAB2=PDS+LAB3=09) | ES6: CONTAR APP 108/ (DX1=C0006+LAB1="N° PARTICIPANTES"+LAB3=04) | EU6: CONTAR APP 108/ (DX1=C0006+LAB1="N° PARTICIPANTES"+LAB2=PDS+LAB3=04) | EW6: CONTAR APP 108/ (DX1=C0006+LAB1="N° PARTICIPANTES"+LAB3=10) | EY6: CONTAR APP 108/ (DX1=C0006+LAB1="N° PARTICIPANTES"+LAB2=PDS+LAB3=10) | FA6: CONTAR APP 108/ (DX1=C0006+LAB1="N° PARTICIPANTES"+LAB3=11) | FC6: CONTAR APP 108/ (DX1=C0006+LAB1="N° PARTICIPANTES"+LAB2=PDS+LAB3=11) | FE6: CONTAR APP 108/ (DX1=C0006+LAB1="N° PARTICIPANTES"+LAB3=12) | FG6: CONTAR APP 108/ (DX1=C0006+LAB1="N° PARTICIPANTES"+LAB2=PDS+LAB3=12) | FI6: CONTAR APP 108/ (DX1=C0006+LAB1="N° PARTICIPANTES"+LAB3=13) | FK6: CONTAR APP 108/ (DX1=C0006+LAB1="N° PARTICIPANTES"+LAB2=PDS+LAB3=13) | FM6: CONTAR APP 108/ (DX1=C0021+LAB1="N° INTER."+LAB2=FE+LAB3=01) | FQ6: CONTAR APP 108/ (DX1=C0021+LAB1="N° INTER."+LAB2=FE+LAB3=05) | FU6: CONTAR APP 108/ (DX1=C0021+LAB1="N° INTER."+LAB2=FE+LAB3=02) | FY6: CONTAR APP 108/ (DX1=C0021+LAB1="N° INTER."+LAB2=FE+LAB3=03) | GC6: CONTAR APP 108/ (DX1=C0021+LAB1="N° INTER."+LAB2=FE+LAB3=06) | GG6: CONTAR APP 108/ (DX1=C0021+LAB1="N° INTER."+LAB2=FE+LAB3=07) | GK6: CONTAR APP 108/ (DX1=C0021+LAB1="N° INTER."+LAB2=FE+LAB3=08) | GO6: CONTAR APP 108/ (DX1=C0021+LAB1="N° INTER."+LAB2=FE+LAB3=09) | GS6: CONTAR APP 108/ (DX1=C0021+LAB1="N° INTER."+LAB2=FE+LAB3=04) | GW6: CONTAR APP 108/ (DX1=C0021+LAB1="N° INTER."+LAB2=FE+LAB3=10) | HA6: CONTAR APP 108/ (DX1=C0021+LAB1="N° INTER."+LAB2=FE+LAB3=11) | HE6: CONTAR APP 108/ (DX1=C0021+LAB1="N° INTER."+LAB2=FE+LAB3=12) | HI6: CONTAR APP 108/ (DX1=C0021+LAB1="N° INTER."+LAB2=FE+LAB3=13) | HM6: CONTAR APP108/(DX1=C3071 + LAB1=1) + (DX2= C6091 + LAB1="N° de Organizaciones"+ LAB2=FE+LAB3=01) | HO6: CONTAR APP108/(DX1=C3071 + LAB1=1) + (DX2= C6091 + LAB1="N° de Organizaciones"+ LAB2=FE+LAB3=05) | HQ6: CONTAR APP108/(DX1=C3071 + LAB1=1) + (DX2= C6091 + LAB1="N° de Organizaciones"+ LAB2=FE+LAB3=02) | HS6: CONTAR APP108/(DX1=C3071 + LAB1=1) + (DX2= C6091 + LAB1="N° de Organizaciones"+ LAB2=FE+LAB3=03) | HU6: CONTAR APP108/(DX1=C3071 + LAB1=1) + (DX2= C6091 + LAB1="N° de Organizaciones"+ LAB2=FE+LAB3=06) | HW6: CONTAR APP108/(DX1=C3071 + LAB1=1) + (DX2= C6091 + LAB1="N° de Organizaciones"+ LAB2=FE+LAB3=07) | HY6: CONTAR APP108/(DX1=C3071 + LAB1=1) + (DX2= C6091 + LAB1="N° de Organizaciones"+ LAB2=FE+LAB3=08) | IA6: CONTAR APP108/(DX1=C3071 + LAB1=1) + (DX2= C6091 + LAB1="N° de Organizaciones"+ LAB2=FE+LAB3=09) | IC6: CONTAR APP108/(DX1=C3071 + LAB1=2) + (DX2= C6091 + LAB1="N° de Organizaciones"+ LAB2=FE+LAB3=01) | IE6: CONTAR APP108/(DX1=C3071 + LAB1=2) + (DX2= C6091 + LAB1="N° de Organizaciones"+ LAB2=FE+LAB3=05) | IG6: CONTAR APP108/(DX1=C3071 + LAB1=2) + (DX2= C6091 + LAB1="N° de Organizaciones"+ LAB2=FE+LAB3=02) | II6: CONTAR APP108/(DX1=C3071 + LAB1=2) + (DX2= C6091 + LAB1="N° de Organizaciones"+ LAB2=FE+LAB3=03) | IK6: CONTAR APP108/(DX1=C3071 + LAB1=2) + (DX2= C6091 + LAB1="N° de Organizaciones"+ LAB2=FE+LAB3=06) | IM6: CONTAR APP108/(DX1=C3071 + LAB1=2) + (DX2= C6091 + LAB1="N° de Organizaciones"+ LAB2=FE+LAB3=07) | IO6: CONTAR APP108/(DX1=C3071 + LAB1=2) + (DX2= C6091 + LAB1="N° de Organizaciones"+ LAB2=FE+LAB3=08) | IQ6: CONTAR APP108/(DX1=C3071 + LAB1=2) + (DX2= C6091 + LAB1="N° de Organizaciones"+ LAB2=FE+LAB3=09) | IS6: CONTAR APP108/(DX1=C3071 + LAB1=3) + (DX2= C6091 + LAB1="N° de Organizaciones"+ LAB2=FE+LAB3=01) | IU6: CONTAR APP108/(DX1=C3071 + LAB1=3) + (DX2= C6091 + LAB1="N° de Organizaciones"+ LAB2=FE+LAB3=05) | IW6: CONTAR APP108/(DX1=C3071 + LAB1=3) + (DX2= C6091 + LAB1="N° de Organizaciones"+ LAB2=FE+LAB3=02) | IY6: CONTAR APP108/(DX1=C3071 + LAB1=3) + (DX2= C6091 + LAB1="N° de Organizaciones"+ LAB2=FE+LAB3=03) | JA6: CONTAR APP108/(DX1=C3071 + LAB1=3) + (DX2= C6091 + LAB1="N° de Organizaciones"+ LAB2=FE+LAB3=06) | JC6: CONTAR APP108/(DX1=C3071 + LAB1=3) + (DX2= C6091 + LAB1="N° de Organizaciones"+ LAB2=FE+LAB3=07) | JE6: CONTAR APP108/(DX1=C3071 + LAB1=3) + (DX2= C6091 + LAB1="N° de Organizaciones"+ LAB2=FE+LAB3=08) | JG6: CONTAR APP108/(DX1=C3071 + LAB1=3) + (DX2= C6091 + LAB1="N° de Organizaciones"+ LAB2=FE+LAB3=09) | JI6: CONTAR APP108/(DX1=C3071 + LAB1=4) + (DX2= C6091 + LAB1="N° de Organizaciones"+ LAB2=FE+LAB3=01) | JK6: CONTAR APP108/(DX1=C3071 + LAB1=4) + (DX2= C6091 + LAB1="N° de Organizaciones"+ LAB2=FE+LAB3=05) | JM6: CONTAR APP108/(DX1=C3071 + LAB1=4) + (DX2= C6091 + LAB1="N° de Organizaciones"+ LAB2=FE+LAB3=02) | JO6: CONTAR APP108/(DX1=C3071 + LAB1=4) + (DX2= C6091 + LAB1="N° de Organizaciones"+ LAB2=FE+LAB3=03) | JQ6: CONTAR APP108/(DX1=C3071 + LAB1=4) + (DX2= C6091 + LAB1="N° de Organizaciones"+ LAB2=FE+LAB3=06) | JS6: CONTAR APP108/(DX1=C3071 + LAB1=4) + (DX2= C6091 + LAB1="N° de Organizaciones"+ LAB2=FE+LAB3=07) | JU6: CONTAR APP108/(DX1=C3071 + LAB1=4) + (DX2= C6091 + LAB1="N° de Organizaciones"+ LAB2=FE+LAB3=08) | JW6: CONTAR APP108/(DX1=C3071 + LAB1=4) + (DX2= C6091 + LAB1="N° de Organizaciones"+ LAB2=FE+LAB3=09) | JY6: CONTAR APP108/(DX1=C3071 + LAB1=1+ LAB2="BLANCO"+LAB3=FE+LAB4=01) | KA6: CONTAR APP108/(DX1=C3071 + LAB1=1+ LAB2="BLANCO"+LAB3=FE+LAB4=05) | KC6: CONTAR APP108/(DX1=C3071 + LAB1=1+ LAB2="BLANCO"+LAB3=FE+LAB4=02) | KE6: CONTAR APP108/(DX1=C3071 + LAB1=1+ LAB2="BLANCO"+LAB3=FE+LAB4=03) | KG6: CONTAR APP108/(DX1=C3071 + LAB1=1+ LAB2="BLANCO"+LAB3=FE+LAB4=06) | KI6: CONTAR APP108/(DX1=C3071 + LAB1=1+ LAB2="BLANCO"+LAB3=FE+LAB4=07) | KK6: CONTAR APP108/(DX1=C3071 + LAB1=1+ LAB2="BLANCO"+LAB3=FE+LAB4=08) | KM6: CONTAR APP108/(DX1=C3071 + LAB1=1+ LAB2="BLANCO"+LAB3=FE+LAB4=09) | KO6: CONTAR APP108/(DX1=C3071 + LAB1=2+ LAB2="BLANCO"+LAB3=FE+LAB4=01) | KQ6: CONTAR APP108/(DX1=C3071 + LAB1=2+ LAB2="BLANCO"+LAB3=FE+LAB4=05) | KS6: CONTAR APP108/(DX1=C3071 + LAB1=2+ LAB2="BLANCO"+LAB3=FE+LAB4=02) | KU6: CONTAR APP108/(DX1=C3071 + LAB1=2+ LAB2="BLANCO"+LAB3=FE+LAB4=03) | KW6: CONTAR APP108/(DX1=C3071 + LAB1=2+ LAB2="BLANCO"+LAB3=FE+LAB4=06) | KY6: CONTAR APP108/(DX1=C3071 + LAB1=2+ LAB2="BLANCO"+LAB3=FE+LAB4=07) | LA6: CONTAR APP108/(DX1=C3071 + LAB1=2+ LAB2="BLANCO"+LAB3=FE+LAB4=08) | LC6: CONTAR APP108/(DX1=C3071 + LAB1=2+ LAB2="BLANCO"+LAB3=FE+LAB4=09) | LE6: CONTAR APP108/(DX1=C3071 + LAB1=3+ LAB2="BLANCO"+LAB3=FE+LAB4=01) | LG6: CONTAR APP108/(DX1=C3071 + LAB1=3+ LAB2="BLANCO"+LAB3=FE+LAB4=05) | LI6: CONTAR APP108/(DX1=C3071 + LAB1=3+ LAB2="BLANCO"+LAB3=FE+LAB4=02) | LK6: CONTAR APP108/(DX1=C3071 + LAB1=3+ LAB2="BLANCO"+LAB3=FE+LAB4=03) | LM6: CONTAR APP108/(DX1=C3071 + LAB1=3+ LAB2="BLANCO"+LAB3=FE+LAB4=06) | LO6: CONTAR APP108/(DX1=C3071 + LAB1=3+ LAB2="BLANCO"+LAB3=FE+LAB4=07) | LQ6: CONTAR APP108/(DX1=C3071 + LAB1=3+ LAB2="BLANCO"+LAB3=FE+LAB4=08) | LS6: CONTAR APP108/(DX1=C3071 + LAB1=3+ LAB2="BLANCO"+LAB3=FE+LAB4=09) | LU6: CONTAR APP108/(DX1=C3071 + LAB1=4+ LAB2="BLANCO"+LAB3=FE+LAB4=01) | LW6: CONTAR APP108/(DX1=C3071 + LAB1=4+ LAB2="BLANCO"+LAB3=FE+LAB4=05) | LY6: CONTAR APP108/(DX1=C3071 + LAB1=4+ LAB2="BLANCO"+LAB3=FE+LAB4=02) | MA6: CONTAR APP108/(DX1=C3071 + LAB1=4+ LAB2="BLANCO"+LAB3=FE+LAB4=03) | MC6: CONTAR APP108/(DX1=C3071 + LAB1=4+ LAB2="BLANCO"+LAB3=FE+LAB4=06) | ME6: CONTAR APP108/(DX1=C3071 + LAB1=4+ LAB2="BLANCO"+LAB3=FE+LAB4=07) | MG6: CONTAR APP108/(DX1=C3071 + LAB1=4+ LAB2="BLANCO"+LAB3=FE+LAB4=08) | MI6: CONTAR APP108/(DX1=C3071 + LAB1=4+ LAB2="BLANCO"+LAB3=FE+LAB4=09) | MK6: CONTAR APP108/(DX1=C3071 + LAB1=1) + (DX2= C6091 + LAB1="N° de Organizaciones"+ LAB2=FE+LAB3=04) | MM6: CONTAR APP108/(DX1=C3071 + LAB1=1) + (DX2= C6091 + LAB1="N° de Organizaciones"+ LAB2=FE+LAB3=10) | MO6: CONTAR APP108/(DX1=C3071 + LAB1=1) + (DX2= C6091 + LAB1="N° de Organizaciones"+ LAB2=FE+LAB3=11) | MQ6: CONTAR APP108/(DX1=C3071 + LAB1=1) + (DX2= C6091 + LAB1="N° de Organizaciones"+ LAB2=FE+LAB3=12) | MS6: CONTAR APP108/(DX1=C3071 + LAB1=1) + (DX2= C6091 + LAB1="N° de Organizaciones"+ LAB2=FE+LAB3=13) | MU6: CONTAR APP108/(DX1=C3071 + LAB1=2) + (DX2= C6091 + LAB1="N° de Organizaciones"+ LAB2=FE+LAB3=04) | MW6: CONTAR APP108/(DX1=C3071 + LAB1=2) + (DX2= C6091 + LAB1="N° de Organizaciones"+ LAB2=FE+LAB3=10) | MY6: CONTAR APP108/(DX1=C3071 + LAB1=2) + (DX2= C6091 + LAB1="N° de Organizaciones"+ LAB2=FE+LAB3=11) | NA6: CONTAR APP108/(DX1=C3071 + LAB1=2) + (DX2= C6091 + LAB1="N° de Organizaciones"+ LAB2=FE+LAB3=12) | NC6: CONTAR APP108/(DX1=C3071 + LAB1=2) + (DX2= C6091 + LAB1="N° de Organizaciones"+ LAB2=FE+LAB3=13) | NE6: CONTAR APP108/(DX1=C3071 + LAB1=3) + (DX2= C6091 + LAB1="N° de Organizaciones"+ LAB2=FE+LAB3=04) | NG6: CONTAR APP108/(DX1=C3071 + LAB1=3) + (DX2= C6091 + LAB1="N° de Organizaciones"+ LAB2=FE+LAB3=10) | NI6: CONTAR APP108/(DX1=C3071 + LAB1=3) + (DX2= C6091 + LAB1="N° de Organizaciones"+ LAB2=FE+LAB3=11) | NK6: CONTAR APP108/(DX1=C3071 + LAB1=3) + (DX2= C6091 + LAB1="N° de Organizaciones"+ LAB2=FE+LAB3=12) | NM6: CONTAR APP108/(DX1=C3071 + LAB1=3) + (DX2= C6091 + LAB1="N° de Organizaciones"+ LAB2=FE+LAB3=13) | NO6: CONTAR APP108/(DX1=C3071 + LAB1=4) + (DX2= C6091 + LAB1="N° de Organizaciones"+ LAB2=FE+LAB3=04) | NQ6: CONTAR APP108/(DX1=C3071 + LAB1=4) + (DX2= C6091 + LAB1="N° de Organizaciones"+ LAB2=FE+LAB3=10) | NS6: CONTAR APP108/(DX1=C3071 + LAB1=4) + (DX2= C6091 + LAB1="N° de Organizaciones"+ LAB2=FE+LAB3=11) | NU6: CONTAR APP108/(DX1=C3071 + LAB1=4) + (DX2= C6091 + LAB1="N° de Organizaciones"+ LAB2=FE+LAB3=12) | NW6: CONTAR APP108/(DX1=C3071 + LAB1=4) + (DX2= C6091 + LAB1="N° de Organizaciones"+ LAB2=FE+LAB3=13) | NY6: CONTAR APP108/(DX1=C3071 + LAB1=1+ LAB2="BLANCO"+LAB3=FE+LAB4=04) | OA6: CONTAR APP108/(DX1=C3071 + LAB1=1+ LAB2="BLANCO"+LAB3=FE+LAB4=10) | OC6: CONTAR APP108/(DX1=C3071 + LAB1=1+ LAB2="BLANCO"+LAB3=FE+LAB4=11) | OE6: CONTAR APP108/(DX1=C3071 + LAB1=1+ LAB2="BLANCO"+LAB3=FE+LAB4=12) | OG6: CONTAR APP108/(DX1=C3071 + LAB1=1+ LAB2="BLANCO"+LAB3=FE+LAB4=13) | OI6: CONTAR APP108/(DX1=C3071 + LAB1=2+ LAB2="BLANCO"+LAB3=FE+LAB4=04) | OK6: CONTAR APP108/(DX1=C3071 + LAB1=2+ LAB2="BLANCO"+LAB3=FE+LAB4=10) | OM6: CONTAR APP108/(DX1=C3071 + LAB1=2+ LAB2="BLANCO"+LAB3=FE+LAB4=11) | OO6: CONTAR APP108/(DX1=C3071 + LAB1=2+ LAB2="BLANCO"+LAB3=FE+LAB4=12) | OQ6: CONTAR APP108/(DX1=C3071 + LAB1=2+ LAB2="BLANCO"+LAB3=FE+LAB4=13) | OS6: CONTAR APP108/(DX1=C3071 + LAB1=3+ LAB2="BLANCO"+LAB3=FE+LAB4=04) | OU6: CONTAR APP108/(DX1=C3071 + LAB1=3+ LAB2="BLANCO"+LAB3=FE+LAB4=10) | OW6: CONTAR APP108/(DX1=C3071 + LAB1=3+ LAB2="BLANCO"+LAB3=FE+LAB4=11) | OY6: CONTAR APP108/(DX1=C3071 + LAB1=3+ LAB2="BLANCO"+LAB3=FE+LAB4=12) | PA6: CONTAR APP108/(DX1=C3071 + LAB1=3+ LAB2="BLANCO"+LAB3=FE+LAB4=13) | PC6: CONTAR APP108/(DX1=C3071 + LAB1=4+ LAB2="BLANCO"+LAB3=FE+LAB4=04) | PE6: CONTAR APP108/(DX1=C3071 + LAB1=4+ LAB2="BLANCO"+LAB3=FE+LAB4=10) | PG6: CONTAR APP108/(DX1=C3071 + LAB1=4+ LAB2="BLANCO"+LAB3=FE+LAB4=11) | PI6: CONTAR APP108/(DX1=C3071 + LAB1=4+ LAB2="BLANCO"+LAB3=FE+LAB4=12) | PK6: CONTAR APP108/(DX1=C3071 + LAB1=4+ LAB2="BLANCO"+LAB3=FE+LAB4=13) | PM6: CONTAR APP108/(DX1=C0021 + LAB1="N° PARTICIPANTES") + (DX2=C7001+LAB1=01) | PO6: CONTAR APP108/(DX1=C0021 + LAB1="N° PARTICIPANTES") + (DX2=C7001+LAB1=05) | PQ6: CONTAR APP108/(DX1=C0021 + LAB1="N° PARTICIPANTES") + (DX2=C7001+LAB1=02) | PS6: CONTAR APP108/(DX1=C0021 + LAB1="N° PARTICIPANTES") + (DX2=C7001+LAB1=03) | PU6: CONTAR APP108/(DX1=C0021 + LAB1="N° PARTICIPANTES") + (DX2=C7001+LAB1=06) | PW6: CONTAR APP108/(DX1=C0021 + LAB1="N° PARTICIPANTES") + (DX2=C7001+LAB1=07) | PY6: CONTAR APP108/(DX1=C0021 + LAB1="N° PARTICIPANTES") + (DX2=C7001+LAB1=08) | QA6: CONTAR APP108/(DX1=C0021 + LAB1="N° PARTICIPANTES") + (DX2=C7001+LAB1=09) | QC6: CONTAR APP108/(DX1=C0021 + LAB1="N° PARTICIPANTES") + (DX2=C7001+LAB1=04) | QE6: CONTAR APP108/(DX1=C0021 + LAB1="N° PARTICIPANTES") + (DX2=C7001+LAB1=10) | QG6: CONTAR APP108/(DX1=C0021 + LAB1="N° PARTICIPANTES") + (DX2=C7001+LAB1=11) | QI6: CONTAR APP108/(DX1=C0021 + LAB1="N° PARTICIPANTES") + (DX2=C7001+LAB1=12) | QK6: CONTAR APP108/(DX1=C0021 + LAB1="N° PARTICIPANTES") + (DX2=C7001+LAB1=13) | QM6: CONTAR APP104/(DX1=C0001 + LAB1=1+LAB2=01) | QN6: CONTAR APP104/(DX1=C0001 + LAB1=2+LAB2=01) | QO6: CONTAR APP104/(DX1=C0001 + LAB1=3+LAB2=01) | QP6: CONTAR APP104/(DX1=C0001 + LAB1=4+LAB2=01) | QQ6: CONTAR APP104/(DX1=C0001 + LAB1=1+LAB2=05) | QR6: CONTAR APP104/(DX1=C0001 + LAB1=2+LAB2=05) | QS6: CONTAR APP104/(DX1=C0001 + LAB1=3+LAB2=05) | QT6: CONTAR APP104/(DX1=C0001 + LAB1=4+LAB2=05) | QU6: CONTAR APP104/(DX1=C0001 + LAB1=1+LAB2=02) | QV6: CONTAR APP104/(DX1=C0001 + LAB1=2+LAB2=02) | QW6: CONTAR APP104/(DX1=C0001 + LAB1=3+LAB2=02) | QX6: CONTAR APP104/(DX1=C0001 + LAB1=4+LAB2=02) | QY6: CONTAR APP104/(DX1=C0001 + LAB1=1+LAB2=03) | QZ6: CONTAR APP104/(DX1=C0001 + LAB1=2+LAB2=03) | RA6: CONTAR APP104/(DX1=C0001 + LAB1=3+LAB2=03) | RB6: CONTAR APP104/(DX1=C0001 + LAB1=4+LAB2=03) | RC6: CONTAR APP104/(DX1=C0001 + LAB1=1+LAB2=06) | RD6: CONTAR APP104/(DX1=C0001 + LAB1=2+LAB2=06) | RE6: CONTAR APP104/(DX1=C0001 + LAB1=3+LAB2=06) | RF6: CONTAR APP104/(DX1=C0001 + LAB1=4+LAB2=06) | RG6: CONTAR APP104/(DX1=C0001 + LAB1=1+LAB2=07) | RH6: CONTAR APP104/(DX1=C0001 + LAB1=2+LAB2=07) | RI6: CONTAR APP104/(DX1=C0001 + LAB1=3+LAB2=07) | RJ6: CONTAR APP104/(DX1=C0001 + LAB1=4+LAB2=07) | RK6: CONTAR APP104/(DX1=C0001 + LAB1=1+LAB2=08) | RL6: CONTAR APP104/(DX1=C0001 + LAB1=2+LAB2=08) | RM6: CONTAR APP104/(DX1=C0001 + LAB1=3+LAB2=08) | RN6: CONTAR APP104/(DX1=C0001 + LAB1=4+LAB2=08) | RO6: CONTAR APP104/(DX1=C0001 + LAB1=1+LAB2=09) | RP6: CONTAR APP104/(DX1=C0001 + LAB1=2+LAB2=09) | RQ6: CONTAR APP104/(DX1=C0001 + LAB1=3+LAB2=09) | RR6: CONTAR APP104/(DX1=C0001 + LAB1=4+LAB2=09) | RS6: CONTAR APP104/(DX1=C0001 + LAB1=1+LAB2=04) | RT6: CONTAR APP104/(DX1=C0001 + LAB1=2+LAB2=04) | RU6: CONTAR APP104/(DX1=C0001 + LAB1=3+LAB2=04) | RV6: CONTAR APP104/(DX1=C0001 + LAB1=4+LAB2=04) | RW6: CONTAR APP104/(DX1=C0001 + LAB1=1+LAB2=10) | RX6: CONTAR APP104/(DX1=C0001 + LAB1=2+LAB2=10) | RY6: CONTAR APP104/(DX1=C0001 + LAB1=3+LAB2=10) | RZ6: CONTAR APP104/(DX1=C0001 + LAB1=4+LAB2=10) | SA6: CONTAR APP104/(DX1=C0001 + LAB1=1+LAB2=11) | SB6: CONTAR APP104/(DX1=C0001 + LAB1=2+LAB2=11) | SC6: CONTAR APP104/(DX1=C0001 + LAB1=3+LAB2=11) | SD6: CONTAR APP104/(DX1=C0001 + LAB1=4+LAB2=11) | SE6: CONTAR APP104/(DX1=C0001 + LAB1=1+LAB2=12) | SF6: CONTAR APP104/(DX1=C0001 + LAB1=2+LAB2=12) | SG6: CONTAR APP104/(DX1=C0001 + LAB1=3+LAB2=12) | SH6: CONTAR APP104/(DX1=C0001 + LAB1=4+LAB2=12) | SI6: CONTAR APP104/(DX1=C0001 + LAB1=1+LAB2=13) | SJ6: CONTAR APP104/(DX1=C0001 + LAB1=2+LAB2=13) | SK6: CONTAR APP104/(DX1=C0001 + LAB1=3+LAB2=13) | SL6: CONTAR APP104/(DX1=C0001 + LAB1=4+LAB2=13) | SM6: CONTAR APP96/(DX1=C3061+LAB1=FSE+LAB2=01) | SN6: CONTAR APP96/(DX1=C3061+LAB1=FSE+LAB2=05) | SO6: CONTAR APP96/(DX1=C3061+LAB1=FSE+LAB2=02) | SP6: CONTAR APP96/(DX1=C3061+LAB1=FSE+LAB2=03) | SQ6: CONTAR APP96/(DX1=C3061+LAB1=FSE+LAB2=06) | SR6: CONTAR APP96/(DX1=C3061+LAB1=FSE+LAB2=07) | SS6: CONTAR APP96/(DX1=C3061+LAB1=FSE+LAB2=08) | ST6: CONTAR APP96/(DX1=C3061+LAB1=FSE+LAB2=09) | SU6: CONTAR APP96/(DX1=C3061+LAB1=FSE+LAB2=04) | SV6: CONTAR APP96/(DX1=C3061+LAB1=FSE+LAB2=10) | SW6: CONTAR APP96/(DX1=C3061+LAB1=FSE+LAB2=11) | SX6: CONTAR APP96/(DX1=C3061+LAB1=FSE+LAB2=12) | SY6: CONTAR APP96/(DX1=C3061+LAB1=FSE+LAB2=13) | SZ6: CONTAR APP96/(DX1=C7004 + LAB1=1+ LAB2=FP+ LAB3=01) | TA6: CONTAR APP96/(DX1=C7004 + LAB1=2+ LAB2=FP+ LAB3=01) | TB6: CONTAR APP96/(DX1=C7004 + LAB1=1+ LAB2=FP+ LAB3=05) | TC6: CONTAR APP96/(DX1=C7004 + LAB1=2+ LAB2=FP+ LAB3=05) | TD6: CONTAR APP96/(DX1=C7004 + LAB1=1+ LAB2=FP+ LAB3=02) | TE6: CONTAR APP96/(DX1=C7004 + LAB1=2+ LAB2=FP+ LAB3=02) | TF6: CONTAR APP96/(DX1=C7004 + LAB1=1+ LAB2=FP+ LAB3=03) | TG6: CONTAR APP96/(DX1=C7004 + LAB1=2+ LAB2=FP+ LAB3=03) | TH6: CONTAR APP96/(DX1=C7004 + LAB1=1+ LAB2=FP+ LAB3=06) | TI6: CONTAR APP96/(DX1=C7004 + LAB1=2+ LAB2=FP+ LAB3=06) | TJ6: CONTAR APP96/(DX1=C7004 + LAB1=1+ LAB2=FP+ LAB3=07) | TK6: CONTAR APP96/(DX1=C7004 + LAB1=2+ LAB2=FP+ LAB3=07) | TL6: CONTAR APP96/(DX1=C7004 + LAB1=1+ LAB2=FP+ LAB3=08) | TM6: CONTAR APP96/(DX1=C7004 + LAB1=2+ LAB2=FP+ LAB3=08) | TN6: CONTAR APP96/(DX1=C7004 + LAB1=1+ LAB2=FP+ LAB3=09) | TO6: CONTAR APP96/(DX1=C7004 + LAB1=2+ LAB2=FP+ LAB3=09) | TP6: CONTAR APP96/(DX1=C7004 + LAB1=1+ LAB2=FP+ LAB3=04) | TQ6: CONTAR APP96/(DX1=C7004 + LAB1=2+ LAB2=FP+ LAB3=04) | TR6: CONTAR APP96/(DX1=C7004 + LAB1=1+ LAB2=FP+ LAB3=10) | TS6: CONTAR APP96/(DX1=C7004 + LAB1=2+ LAB2=FP+ LAB3=10) | TT6: CONTAR APP96/(DX1=C7004 + LAB1=1+ LAB2=FP+ LAB3=11) | TU6: CONTAR APP96/(DX1=C7004 + LAB1=2+ LAB2=FP+ LAB3=11) | TV6: CONTAR APP96/(DX1=C7004 + LAB1=1+ LAB2=FP+ LAB3=12) | TW6: CONTAR APP96/(DX1=C7004 + LAB1=2+ LAB2=FP+ LAB3=12) | TX6: CONTAR APP96/(DX1=C7004 + LAB1=1+ LAB2=FP+ LAB3=13) | TY6: CONTAR APP96/(DX1=C7004 + LAB1=2+ LAB2=FP+ LAB3=13) | TZ6: CONTAR APP96/(DX1=C7001+LAB1="N° REUNIONES"+LAB2=01) | UA6: CONTAR APP96/(DX1=C7001+LAB1="N° REUNIONES"+LAB2=05) | UB6: CONTAR APP96/(DX1=C7001+LAB1="N° REUNIONES"+LAB2=02) | UC6: CONTAR APP96/(DX1=C7001+LAB1="N° REUNIONES"+LAB2=03) | UD6: CONTAR APP96/(DX1=C7001+LAB1="N° REUNIONES"+LAB2=06) | UE6: CONTAR APP96/(DX1=C7001+LAB1="N° REUNIONES"+LAB2=07) | UF6: CONTAR APP96/(DX1=C7001+LAB1="N° REUNIONES"+LAB2=08) | UG6: CONTAR APP96/(DX1=C7001+LAB1="N° REUNIONES"+LAB2=09) | UH6: CONTAR APP96/(DX1=C7001+LAB1="N° REUNIONES"+LAB2=04) | UI6: CONTAR APP96/(DX1=C7001+LAB1="N° REUNIONES"+LAB2=10) | UJ6: CONTAR APP96/(DX1=C7001+LAB1="N° REUNIONES"+LAB2=11) | UK6: CONTAR APP96/(DX1=C7001+LAB1="N° REUNIONES"+LAB2=12) | UL6: CONTAR APP96/(DX1=C7001+LAB1="N° REUNIONES"+LAB2=13) | UM6: CONTAR APP96/(DX1=C7003+LAB1=01) | UN6: CONTAR APP96/(DX1=C7003+LAB1=05) | UO6: CONTAR APP96/(DX1=C7003+LAB1=02) | UP6: CONTAR APP96/(DX1=C7003+LAB1=03) | UQ6: CONTAR APP96/(DX1=C7003+LAB1=06) | UR6: CONTAR APP96/(DX1=C7003+LAB1=07) | US6: CONTAR APP96/(DX1=C7003+LAB1=08) | UT6: CONTAR APP96/(DX1=C7003+LAB1=09) | UU6: CONTAR APP96/(DX1=C7003+LAB1=04) | UV6: CONTAR APP96/(DX1=C7003+LAB1=10) | UW6: CONTAR APP96/(DX1=C7003+LAB1=11) | UX6: CONTAR APP96/(DX1=C7003+LAB1=12) | UY6: CONTAR APP96/(DX1=C7003+LAB1=13) | UZ6: CONTAR APP144/(DX1=C0005+LAB1="N° PARTICIPANTES"+LAB2=IN+ LAB3=01) | VB6: CONTAR APP144/(DX1=C0005+LAB1="N° PARTICIPANTES"+LAB2=TP+ LAB3=01) | VD6: CONTAR APP144/(DX1=C0005+LAB1="N° PARTICIPANTES"+LAB2=TS+ LAB3=01) | VF6: CONTAR APP144/(DX1=C0005+LAB1="N° PARTICIPANTES"+LAB2=TE+ LAB3=01) | VH6: CONTAR APP144/(DX1=C0005+LAB1="N° PARTICIPANTES"+LAB2=IN+ LAB3=05) | VJ6: CONTAR APP144/(DX1=C0005+LAB1="N° PARTICIPANTES"+LAB2=TP+ LAB3=05) | VL6: CONTAR APP144/(DX1=C0005+LAB1="N° PARTICIPANTES"+LAB2=TS+ LAB3=05) | VN6: CONTAR APP144/(DX1=C0005+LAB1="N° PARTICIPANTES"+LAB2=TE+ LAB3=05) | VP6: CONTAR APP144/(DX1=C0005+LAB1="N° PARTICIPANTES"+LAB2=IN+ LAB3=02) | VR6: CONTAR APP144/(DX1=C0005+LAB1="N° PARTICIPANTES"+LAB2=TP+ LAB3=02) | VT6: CONTAR APP144/(DX1=C0005+LAB1="N° PARTICIPANTES"+LAB2=TS+ LAB3=02) | VV6: CONTAR APP144/(DX1=C0005+LAB1="N° PARTICIPANTES"+LAB2=TE+ LAB3=02) | VX6: CONTAR APP144/(DX1=C0005+LAB1="N° PARTICIPANTES"+LAB2=IN+ LAB3=03) | VZ6: CONTAR APP144/(DX1=C0005+LAB1="N° PARTICIPANTES"+LAB2=TP+ LAB3=03) | WB6: CONTAR APP144/(DX1=C0005+LAB1="N° PARTICIPANTES"+LAB2=TS+ LAB3=03) | WD6: CONTAR APP144/(DX1=C0005+LAB1="N° PARTICIPANTES"+LAB2=TE+ LAB3=03) | WF6: CONTAR APP144/(DX1=C0005+LAB1="N° PARTICIPANTES"+LAB2=IN+ LAB3=06) | WH6: CONTAR APP144/(DX1=C0005+LAB1="N° PARTICIPANTES"+LAB2=TP+ LAB3=06) | WJ6: CONTAR APP144/(DX1=C0005+LAB1="N° PARTICIPANTES"+LAB2=TS+ LAB3=06) | WL6: CONTAR APP144/(DX1=C0005+LAB1="N° PARTICIPANTES"+LAB2=TE+ LAB3=06) | WN6: CONTAR APP144/(DX1=C0005+LAB1="N° PARTICIPANTES"+LAB2=IN+ LAB3=07) | WP6: CONTAR APP144/(DX1=C0005+LAB1="N° PARTICIPANTES"+LAB2=TP+ LAB3=07) | WR6: CONTAR APP144/(DX1=C0005+LAB1="N° PARTICIPANTES"+LAB2=TS+ LAB3=07) | WT6: CONTAR APP144/(DX1=C0005+LAB1="N° PARTICIPANTES"+LAB2=TE+ LAB3=07) | WV6: CONTAR APP144/(DX1=C0005+LAB1="N° PARTICIPANTES"+LAB2=IN+ LAB3=08) | WX6: CONTAR APP144/(DX1=C0005+LAB1="N° PARTICIPANTES"+LAB2=TP+ LAB3=08) | WZ6: CONTAR APP144/(DX1=C0005+LAB1="N° PARTICIPANTES"+LAB2=TS+ LAB3=08) | XB6: CONTAR APP144/(DX1=C0005+LAB1="N° PARTICIPANTES"+LAB2=TE+ LAB3=08) | XD6: CONTAR APP144/(DX1=C0005+LAB1="N° PARTICIPANTES"+LAB2=IN+ LAB3=09) | XF6: CONTAR APP144/(DX1=C0005+LAB1="N° PARTICIPANTES"+LAB2=TP+ LAB3=09) | XH6: CONTAR APP144/(DX1=C0005+LAB1="N° PARTICIPANTES"+LAB2=TS+ LAB3=09) | XJ6: CONTAR APP144/(DX1=C0005+LAB1="N° PARTICIPANTES"+LAB2=TE+ LAB3=09) | XL6: CONTAR APP144/(DX1=C0005+LAB1="N° PARTICIPANTES"+LAB2=IN+ LAB3=04) | XN6: CONTAR APP144/(DX1=C0005+LAB1="N° PARTICIPANTES"+LAB2=TP+ LAB3=04) | XP6: CONTAR APP144/(DX1=C0005+LAB1="N° PARTICIPANTES"+LAB2=TS+ LAB3=04) | XR6: CONTAR APP144/(DX1=C0005+LAB1="N° PARTICIPANTES"+LAB2=TE+ LAB3=04) | XT6: CONTAR APP144/(DX1=C0005+LAB1="N° PARTICIPANTES"+LAB2=IN+ LAB3=10) | XV6: CONTAR APP144/(DX1=C0005+LAB1="N° PARTICIPANTES"+LAB2=TP+ LAB3=10) | XX6: CONTAR APP144/(DX1=C0005+LAB1="N° PARTICIPANTES"+LAB2=TS+ LAB3=10) | XZ6: CONTAR APP144/(DX1=C0005+LAB1="N° PARTICIPANTES"+LAB2=TE+ LAB3=10) | YB6: CONTAR APP144/(DX1=C0005+LAB1="N° PARTICIPANTES"+LAB2=IN+ LAB3=11) | YD6: CONTAR APP144/(DX1=C0005+LAB1="N° PARTICIPANTES"+LAB2=TP+ LAB3=11) | YF6: CONTAR APP144/(DX1=C0005+LAB1="N° PARTICIPANTES"+LAB2=TS+ LAB3=11) | YH6: CONTAR APP144/(DX1=C0005+LAB1="N° PARTICIPANTES"+LAB2=TE+ LAB3=11) | YJ6: CONTAR APP144/(DX1=C0005+LAB1="N° PARTICIPANTES"+LAB2=IN+ LAB3=12) | YL6: CONTAR APP144/(DX1=C0005+LAB1="N° PARTICIPANTES"+LAB2=TP+ LAB3=12) | YN6: CONTAR APP144/(DX1=C0005+LAB1="N° PARTICIPANTES"+LAB2=TS+ LAB3=12) | YP6: CONTAR APP144/(DX1=C0005+LAB1="N° PARTICIPANTES"+LAB2=TE+ LAB3=12) | YR6: CONTAR APP144/(DX1=C0005+LAB1="N° PARTICIPANTES"+LAB2=IN+ LAB3=13) | YT6: CONTAR APP144/(DX1=C0005+LAB1="N° PARTICIPANTES"+LAB2=TP+ LAB3=13) | YV6: CONTAR APP144/(DX1=C0005+LAB1="N° PARTICIPANTES"+LAB2=TS+ LAB3=13) | YX6: CONTAR APP144/(DX1=C0005+LAB1="N° PARTICIPANTES"+LAB2=TE+ LAB3=13) | YZ6: CONTAR APP144/ (DX1=C7003+LAB1="N° PARTICIPANTES"+LAB2=05) | ZB6: CONTAR APP144/ (DX1=C7003+LAB1="N° PARTICIPANTES"+LAB2=02) | ZD6: CONTAR APP144/ (DX1=C7003+LAB1="N° PARTICIPANTES"+LAB2=03) | ZF6: CONTAR APP144/ (DX1=C7003+LAB1="N° PARTICIPANTES"+LAB2=09) | ZH6: CONTAR APP144/ (DX1=C7003+LAB1="N° PARTICIPANTES"+LAB2=04) | ZJ6: CONTAR APP144/ (DX1=C7003+LAB1="N° PARTICIPANTES"+LAB2=10) | ZL6: CONTAR APP144/ (DX1=C7003+LAB1="N° PARTICIPANTES"+LAB2=11) | ZN6: CONTAR APP144/ (DX1=C7003+LAB1="N° PARTICIPANTES"+LAB2=12) | ZP6: CONTAR APP144/ (DX1=C7003+LAB1="N° PARTICIPANTES"+LAB2=13) | ZR6: CONTAR APP93/(DX1=C7003+LAB1="N° II.EE. PARTICIPANTES") + (DX2=C6091+LAB1=1+LAB2="TOTAL DE TONELADAS"+LAB3=05) | ZU6: CONTAR APP93/(DX1=C7003+LAB1="N° II.EE. PARTICIPANTES") + (DX2=C6091+LAB1=2+LAB2="TOTAL DE TONELADAS"+LAB3=05) | ZX6: CONTAR APP93/(DX1=C7003+LAB1="N° II.EE. PARTICIPANTES") + (DX2=C6091+LAB1=1+LAB2="TOTAL DE TONELADAS"+LAB3=02) | AAA6: CONTAR APP93/(DX1=C7003+LAB1="N° II.EE. PARTICIPANTES") + (DX2=C6091+LAB1=2+LAB2="TOTAL DE TONELADAS"+LAB3=02) | AAD6: CONTAR APP93/(DX1=C7003+LAB1="N° II.EE. PARTICIPANTES") + (DX2=C6091+LAB1=1+LAB2="TOTAL DE TONELADAS"+LAB3=03) | AAG6: CONTAR APP93/(DX1=C7003+LAB1="N° II.EE. PARTICIPANTES") + (DX2=C6091+LAB1=2+LAB2="TOTAL DE TONELADAS"+LAB3=03) | AAJ6: CONTAR APP93/(DX1=C7003+LAB1="N° II.EE. PARTICIPANTES") + (DX2=C6091+LAB1=1+LAB2="TOTAL DE TONELADAS"+LAB3=09) | AAM6: CONTAR APP93/(DX1=C7003+LAB1="N° II.EE. PARTICIPANTES") + (DX2=C6091+LAB1=2+LAB2="TOTAL DE TONELADAS"+LAB3=09) | AAP6: CONTAR APP93/(DX1=C0002+LAB1="N° PARTICIPANTES"+LAB2=IN+LAB3=01) | AAR6: CONTAR APP93/(DX1=C0002+LAB1="N° PARTICIPANTES"+LAB2=TP+LAB3=01) | AAT6: CONTAR APP93/(DX1=C0002+LAB1="N° PARTICIPANTES"+LAB2=TS+LAB3=01) | AAV6: CONTAR APP93/(DX1=C0002+LAB1="N° PARTICIPANTES"+LAB2=IN+LAB3=05) | AAX6: CONTAR APP93/(DX1=C0002+LAB1="N° PARTICIPANTES"+LAB2=TP+LAB3=05) | AAZ6: CONTAR APP93/(DX1=C0002+LAB1="N° PARTICIPANTES"+LAB2=TS+LAB3=05) | ABB6: CONTAR APP93/(DX1=C0002+LAB1="N° PARTICIPANTES"+LAB2=IN+LAB3=02) | ABD6: CONTAR APP93/(DX1=C0002+LAB1="N° PARTICIPANTES"+LAB2=TP+LAB3=02) | ABF6: CONTAR APP93/(DX1=C0002+LAB1="N° PARTICIPANTES"+LAB2=TS+LAB3=02) | ABH6: CONTAR APP93/(DX1=C0002+LAB1="N° PARTICIPANTES"+LAB2=IN+LAB3=03) | ABJ6: CONTAR APP93/(DX1=C0002+LAB1="N° PARTICIPANTES"+LAB2=TP+LAB3=03) | ABL6: CONTAR APP93/(DX1=C0002+LAB1="N° PARTICIPANTES"+LAB2=TS+LAB3=03) | ABN6: CONTAR APP93/(DX1=C0002+LAB1="N° PARTICIPANTES"+LAB2=IN+LAB3=06) | ABP6: CONTAR APP93/(DX1=C0002+LAB1="N° PARTICIPANTES"+LAB2=TP+LAB3=06) | ABR6: CONTAR APP93/(DX1=C0002+LAB1="N° PARTICIPANTES"+LAB2=TS+LAB3=06) | ABT6: CONTAR APP93/(DX1=C0002+LAB1="N° PARTICIPANTES"+LAB2=IN+LAB3=07) | ABV6: CONTAR APP93/(DX1=C0002+LAB1="N° PARTICIPANTES"+LAB2=TP+LAB3=07) | ABX6: CONTAR APP93/(DX1=C0002+LAB1="N° PARTICIPANTES"+LAB2=TS+LAB3=07) | ABZ6: CONTAR APP93/(DX1=C0002+LAB1="N° PARTICIPANTES"+LAB2=IN+LAB3=08) | ACB6: CONTAR APP93/(DX1=C0002+LAB1="N° PARTICIPANTES"+LAB2=TP+LAB3=08) | ACD6: CONTAR APP93/(DX1=C0002+LAB1="N° PARTICIPANTES"+LAB2=TS+LAB3=08) | ACF6: CONTAR APP93/(DX1=C0002+LAB1="N° PARTICIPANTES"+LAB2=IN+LAB3=09) | ACH6: CONTAR APP93/(DX1=C0002+LAB1="N° PARTICIPANTES"+LAB2=TP+LAB3=09) | ACJ6: CONTAR APP93/(DX1=C0002+LAB1="N° PARTICIPANTES"+LAB2=TS+LAB3=09) | ACL6: CONTAR APP93/(DX1=C0002+LAB1="N° PARTICIPANTES"+LAB2=IN+LAB3=04) | ACN6: CONTAR APP93/(DX1=C0002+LAB1="N° PARTICIPANTES"+LAB2=TP+LAB3=04) | ACP6: CONTAR APP93/(DX1=C0002+LAB1="N° PARTICIPANTES"+LAB2=TS+LAB3=04) | ACR6: CONTAR APP93/(DX1=C0002+LAB1="N° PARTICIPANTES"+LAB2=IN+LAB3=10) | ACT6: CONTAR APP93/(DX1=C0002+LAB1="N° PARTICIPANTES"+LAB2=TP+LAB3=10) | ACV6: CONTAR APP93/(DX1=C0002+LAB1="N° PARTICIPANTES"+LAB2=TS+LAB3=10) | ACX6: CONTAR APP93/(DX1=C0002+LAB1="N° PARTICIPANTES"+LAB2=IN+LAB3=11) | ACZ6: CONTAR APP93/(DX1=C0002+LAB1="N° PARTICIPANTES"+LAB2=TP+LAB3=11) | ADB6: CONTAR APP93/(DX1=C0002+LAB1="N° PARTICIPANTES"+LAB2=TS+LAB3=11) | ADD6: CONTAR APP93/(DX1=C0002+LAB1="N° PARTICIPANTES"+LAB2=IN+LAB3=12) | ADF6: CONTAR APP93/(DX1=C0002+LAB1="N° PARTICIPANTES"+LAB2=TP+LAB3=12) | ADH6: CONTAR APP93/(DX1=C0002+LAB1="N° PARTICIPANTES"+LAB2=TS+LAB3=12) | ADJ6: CONTAR APP93/(DX1=C0002+LAB1="N° PARTICIPANTES"+LAB2=IN+LAB3=13) | ADL6: CONTAR APP93/(DX1=C0002+LAB1="N° PARTICIPANTES"+LAB2=TP+LAB3=13) | ADN6: CONTAR APP93/(DX1=C0002+LAB1="N° PARTICIPANTES"+LAB2=TS+LAB3=13) | ADP6: CONTAR APP144/(DX1=C7001+LAB1="N° PARTICIPANTES"+LAB2=IN+LAB3=01) | ADR6: CONTAR APP144/(DX1=C7001+LAB1="N° PARTICIPANTES"+LAB2=TP+LAB3=01) | ADT6: CONTAR APP144/(DX1=C7001+LAB1="N° PARTICIPANTES"+LAB2=TS+LAB3=01) | ADV6: CONTAR APP144/(DX1=C7001+LAB1="N° PARTICIPANTES"+LAB2=IN+LAB3=05) | ADX6: CONTAR APP144/(DX1=C7001+LAB1="N° PARTICIPANTES"+LAB2=TP+LAB3=05) | ADZ6: CONTAR APP144/(DX1=C7001+LAB1="N° PARTICIPANTES"+LAB2=TS+LAB3=05) | AEB6: CONTAR APP144/(DX1=C7001+LAB1="N° PARTICIPANTES"+LAB2=IN+LAB3=02) | AED6: CONTAR APP144/(DX1=C7001+LAB1="N° PARTICIPANTES"+LAB2=TP+LAB3=02) | AEF6: CONTAR APP144/(DX1=C7001+LAB1="N° PARTICIPANTES"+LAB2=TS+LAB3=02) | AEH6: CONTAR APP144/(DX1=C7001+LAB1="N° PARTICIPANTES"+LAB2=IN+LAB3=03) | AEJ6: CONTAR APP144/(DX1=C7001+LAB1="N° PARTICIPANTES"+LAB2=TP+LAB3=03) | AEL6: CONTAR APP144/(DX1=C7001+LAB1="N° PARTICIPANTES"+LAB2=TS+LAB3=03) | AEN6: CONTAR APP144/(DX1=C7001+LAB1="N° PARTICIPANTES"+LAB2=IN+LAB3=06) | AEP6: CONTAR APP144/(DX1=C7001+LAB1="N° PARTICIPANTES"+LAB2=TP+LAB3=06) | AER6: CONTAR APP144/(DX1=C7001+LAB1="N° PARTICIPANTES"+LAB2=TS+LAB3=06) | AET6: CONTAR APP144/(DX1=C7001+LAB1="N° PARTICIPANTES"+LAB2=IN+LAB3=07) | AEV6: CONTAR APP144/(DX1=C7001+LAB1="N° PARTICIPANTES"+LAB2=TP+LAB3=07) | AEX6: CONTAR APP144/(DX1=C7001+LAB1="N° PARTICIPANTES"+LAB2=TS+LAB3=07) | AEZ6: CONTAR APP144/(DX1=C7001+LAB1="N° PARTICIPANTES"+LAB2=IN+LAB3=08) | AFB6: CONTAR APP144/(DX1=C7001+LAB1="N° PARTICIPANTES"+LAB2=TP+LAB3=08) | AFD6: CONTAR APP144/(DX1=C7001+LAB1="N° PARTICIPANTES"+LAB2=TS+LAB3=08) | AFF6: CONTAR APP144/(DX1=C7001+LAB1="N° PARTICIPANTES"+LAB2=IN+LAB3=09) | AFH6: CONTAR APP144/(DX1=C7001+LAB1="N° PARTICIPANTES"+LAB2=TP+LAB3=09) | AFJ6: CONTAR APP144/(DX1=C7001+LAB1="N° PARTICIPANTES"+LAB2=TS+LAB3=09) | AFL6: CONTAR APP144/(DX1=C7001+LAB1="N° PARTICIPANTES"+LAB2=IN+LAB3=04) | AFN6: CONTAR APP144/(DX1=C7001+LAB1="N° PARTICIPANTES"+LAB2=TP+LAB3=04) | AFP6: CONTAR APP144/(DX1=C7001+LAB1="N° PARTICIPANTES"+LAB2=TS+LAB3=04) | AFR6: CONTAR APP144/(DX1=C7001+LAB1="N° PARTICIPANTES"+LAB2=IN+LAB3=10) | AFT6: CONTAR APP144/(DX1=C7001+LAB1="N° PARTICIPANTES"+LAB2=TP+LAB3=10) | AFV6: CONTAR APP144/(DX1=C7001+LAB1="N° PARTICIPANTES"+LAB2=TS+LAB3=10) | AFX6: CONTAR APP144/(DX1=C7001+LAB1="N° PARTICIPANTES"+LAB2=IN+LAB3=11) | AFZ6: CONTAR APP144/(DX1=C7001+LAB1="N° PARTICIPANTES"+LAB2=TP+LAB3=11) | AGB6: CONTAR APP144/(DX1=C7001+LAB1="N° PARTICIPANTES"+LAB2=TS+LAB3=11) | AGD6: CONTAR APP144/(DX1=C7001+LAB1="N° PARTICIPANTES"+LAB2=IN+LAB3=12) | AGF6: CONTAR APP144/(DX1=C7001+LAB1="N° PARTICIPANTES"+LAB2=TP+LAB3=12) | AGH6: CONTAR APP144/(DX1=C7001+LAB1="N° PARTICIPANTES"+LAB2=TS+LAB3=12) | AGJ6: CONTAR APP144/(DX1=C7001+LAB1="N° PARTICIPANTES"+LAB2=IN+LAB3=13) | AGL6: CONTAR APP144/(DX1=C7001+LAB1="N° PARTICIPANTES"+LAB2=TP+LAB3=13) | AGN6: CONTAR APP144/(DX1=C7001+LAB1="N° PARTICIPANTES"+LAB2=TS+LAB3=13)
G8: VISITA DOMICILIARIA | H8: TELESALUD | I8: VISITA DOMICILIARIA | J8: TELESALUD | K8: 1° Sesion EDUCATIVA. | S8: 2° sesion EDUCATIVA. | AA8: 1° sesion DEMOSTRATIVA. | AI8: 2° sesion DEMOSTRATIVA. | AQ8: VISITA DOMICILIARIA | AR8: TELESALUD | AS8: 1° Sesion EDUCATIVA. | AX8: 2° sesion EDUCATIVA. | BC8: 1° sesion DEMOSTRATIVA. | BH8: 2° sesion DEMOSTRATIVA. | BM8: Conformación del equipo para la implementación de la Vigilancia Comunitaria. | BN8: Selección de comunidades a vigilar. | BO8: Nº DE COMUNIDADES | BP8: Elección de instrumentos y metodología para vigilar | BQ8: Conformación del equipo para la implementación de la Vigilancia Comunitaria. | BR8: Selección de comunidades a vigilar. | BS8: Nº DE COMUNIDADES | BT8: Elección de instrumentos y metodología para vigilar | BU8: Conformación del equipo para la implementación de la Vigilancia Comunitaria. | BV8: Selección de comunidades a vigilar. | BW8: Nº DE COMUNIDADES | BX8: Elección de instrumentos y metodología para vigilar | BY8: Conformación del equipo para la implementación de la Vigilancia Comunitaria. | BZ8: Selección de comunidades a vigilar. | CA8: Nº DE COMUNIDADES | CB8: Elección de instrumentos y metodología para vigilar | CC8: Conformación del equipo para la implementación de la Vigilancia Comunitaria. | CD8: Selección de comunidades a vigilar. | CE8: Nº DE COMUNIDADES | CF8: Elección de instrumentos y metodología para vigilar | CG8: Conformación del equipo para la implementación de la Vigilancia Comunitaria. | CH8: Selección de comunidades a vigilar. | CI8: Nº DE COMUNIDADES | CJ8: Elección de instrumentos y metodología para vigilar | CK8: Conformación del equipo para la implementación de la Vigilancia Comunitaria. | CL8: Selección de comunidades a vigilar. | CM8: Nº DE COMUNIDADES | CN8: Elección de instrumentos y metodología para vigilar | CO8: Conformación del equipo para la implementación de la Vigilancia Comunitaria. | CP8: Selección de comunidades a vigilar. | CQ8: Nº DE COMUNIDADES | CR8: Elección de instrumentos y metodología para vigilar | CS8: Conformación del equipo para la implementación de la Vigilancia Comunitaria. | CT8: Selección de comunidades a vigilar. | CU8: Nº DE COMUNIDADES | CV8: Elección de instrumentos y metodología para vigilar | CW8: Conformación del equipo para la implementación de la Vigilancia Comunitaria. | CX8: Selección de comunidades a vigilar. | CY8: Nº DE COMUNIDADES | CZ8: Elección de instrumentos y metodología para vigilar | DA8: Conformación del equipo para la implementación de la Vigilancia Comunitaria. | DB8: Selección de comunidades a vigilar. | DC8: Nº DE COMUNIDADES | DD8: Elección de instrumentos y metodología para vigilar | DE8: Conformación del equipo para la implementación de la Vigilancia Comunitaria. | DF8: Selección de comunidades a vigilar. | DG8: Nº DE COMUNIDADES | DH8: Elección de instrumentos y metodología para vigilar | DI8: Conformación del equipo para la implementación de la Vigilancia Comunitaria. | DJ8: Selección de comunidades a vigilar. | DK8: Nº DE COMUNIDADES | DL8: Elección de instrumentos y metodología para vigilar | DM8: Taller de Líderes comunitarios | DO8: Talleres de Agentes Comunitarios de salud (PDS) | DQ8: Taller de Líderes comunitarios | DS8: Talleres de Agentes Comunitarios de salud (PDS) | DU8: Taller de Líderes comunitarios | DW8: Talleres de Agentes Comunitarios de salud (PDS) | DY8: Taller de Líderes comunitarios | EA8: Talleres de Agentes Comunitarios de salud (PDS) | EC8: Taller de Líderes comunitarios | EE8: Talleres de Agentes Comunitarios de salud (PDS) | EG8: Taller de Líderes comunitarios | EI8: Talleres de Agentes Comunitarios de salud (PDS) | EK8: Taller de Líderes comunitarios | EM8: Talleres de Agentes Comunitarios de salud (PDS) | EO8: Taller de Líderes comunitarios | EQ8: Talleres de Agentes Comunitarios de salud (PDS) | ES8: Taller de Líderes comunitarios | EU8: Talleres de Agentes Comunitarios de salud (PDS) | EW8: Taller de Líderes comunitarios | EY8: Talleres de Agentes Comunitarios de salud (PDS) | FA8: Taller de Líderes comunitarios | FC8: Talleres de Agentes Comunitarios de salud (PDS) | FE8: Taller de Líderes comunitarios | FG8: Talleres de Agentes Comunitarios de salud (PDS) | FI8: Taller de Líderes comunitarios | FK8: Talleres de Agentes Comunitarios de salud (PDS) | FM8: 1° Intervencsión | FN8: 2° Intervencsión | FO8: 3° Intervencsión | FP8: 4° Intervencsión | FQ8: 1° Intervencsión | FR8: 2° Intervencsión | FS8: 3° Intervencsión | FT8: 4° Intervencsión | FU8: 1° Intervencsión | FV8: 2° Intervencsión | FW8: 3° Intervencsión | FX8: 4° Intervencsión | FY8: 1° Intervencsión | FZ8: 2° Intervencsión | GA8: 3° Intervencsión | GB8: 4° Intervencsión | GC8: 1° Intervencsión | GD8: 2° Intervencsión | GE8: 3° Intervencsión | GF8: 4° Intervencsión | GG8: 1° Intervencsión | GH8: 2° Intervencsión | GI8: 3° Intervencsión | GJ8: 4° Intervencsión | GK8: 1° Intervencsión | GL8: 2° Intervencsión | GM8: 3° Intervencsión | GN8: 4° Intervencsión | GO8: 1° Intervencsión | GP8: 2° Intervencsión | GQ8: 3° Intervencsión | GR8: 4° Intervencsión | GS8: 1° Intervencsión | GT8: 2° Intervencsión | GU8: 3° Intervencsión | GV8: 4° Intervencsión | GW8: 1° Intervencsión | GX8: 2° Intervencsión | GY8: 3° Intervencsión | GZ8: 4° Intervencsión | HA8: 1° Intervencsión | HB8: 2° Intervencsión | HC8: 3° Intervencsión | HD8: 4° Intervencsión | HE8: 1° Intervencsión | HF8: 2° Intervencsión | HG8: 3° Intervencsión | HH8: 4° Intervencsión | HI8: 1° Intervencsión | HJ8: 2° Intervencsión | HK8: 3° Intervencsión | HL8: 4° Intervencsión | HM8: Malaria (01) | HO8: Dengue (05) | HQ8: Chikungunya (02) | HS8: Zika (03) | HU8: Bartonelosis (06) | HW8: Fiebre Amarilla (07) | HY8: Chagas (08) | IA8: Leishmaniasis (09) | IC8: Malaria 01 | IE8: Dengue 05 | IG8: Chikungunya 02 | II8: Zika 03 | IK8: Bartonelosis 06 | IM8: Fiebre Amarilla 07 | IO8: Chagas 08 | IQ8: Leishmaniasis 09 | IS8: Malaria 01 | IU8: Dengue 05 | IW8: Chikungunya 02 | IY8: Zika 03 | JA8: Bartonelosis 06 | JC8: Fiebre Amarilla 07 | JE8: Chagas 08 | JG8: Leishmaniasis 09 | JI8: Malaria 01 | JK8: Dengue 05 | JM8: Chikungunya 02 | JO8: Zika 03 | JQ8: Bartonelosis 06 | JS8: Fiebre Amarilla 07 | JU8: Chagas 08 | JW8: Leishmaniasis 09 | JY8: Malaria 01 | KA8: Dengue 05 | KC8: Chikungunya 02 | KE8: Zika 03 | KG8: Bartonelosis 06 | KI8: Fiebre Amarilla 07 | KK8: Chagas 08 | KM8: Leishmaniasis 09 | KO8: Malaria 01 | KQ8: Dengue 05 | KS8: Chikungunya 02 | KU8: Zika 03 | KW8: Bartonelosis 06 | KY8: Fiebre Amarilla 07 | LA8: Chagas 08 | LC8: Leishmaniasis 09 | LE8: Malaria 01 | LG8: Dengue 05 | LI8: Chikungunya 02 | LK8: Zika 03 | LM8: Bartonelosis 06 | LO8: Fiebre Amarilla 07 | LQ8: Chagas 08 | LS8: Leishmaniasis 09 | LU8: Malaria 01 | LW8: Dengue 05 | LY8: Chikungunya 02 | MA8: Zika 03 | MC8: Bartonelosis 06 | ME8: Fiebre Amarilla 07 | MG8: Chagas 08 | MI8: Leishmaniasis 09 | MK8: Rabia (04) | MM8: Peste (10) | MO8: Leptospirosis (11) | MQ8: Tifus (12) | MS8: Equinococosis (13) | MU8: Rabia (04) | MW8: Peste (10) | MY8: Leptospirosis (11) | NA8: Tifus (12) | NC8: Equinococosis (13) | NE8: Rabia (04) | NG8: Peste (10) | NI8: Leptospirosis (11) | NK8: Tifus (12) | NM8: Equinococosis (13) | NO8: Rabia (04) | NQ8: Peste (10) | NS8: Leptospirosis (11) | NU8: Tifus (12) | NW8: Equinococosis (13) | NY8: Rabia (04) | OA8: Peste (10) | OC8: Leptospirosis (11) | OE8: Tifus (12) | OG8: Equinococosis (13) | OI8: Rabia (04) | OK8: Peste (10) | OM8: Leptospirosis (11) | OO8: Tifus (12) | OQ8: Equinococosis (13) | OS8: Rabia (04) | OU8: Peste (10) | OW8: Leptospirosis (11) | OY8: Tifus (12) | PA8: Equinococosis (13) | PC8: Rabia (04) | PE8: Peste (10) | PG8: Leptospirosis (11) | PI8: Tifus (12) | PK8: Equinococosis (13) | PM8: Malaria (01) | PO8: Dengue (05) | PQ8: Chikungunya (02) | PS8: Zika (03) | PU8: Bartonelosis (06) | PW8: Fiebre Amarilla (07) | PY8: Chagas (08) | QA8: Leishmaniasis (09) | QC8: Rabia (04) | QE8: Peste (10) | QG8: Leptospirosis (11) | QI8: Tifus (12) | QK8: Equinococosis (13) | QM8: 1. Integración de información sanitaria (Sala Municipal de Salud) | QN8: 2. Incidencia y abogacía al gobierno local | QO8: 3. Sectorización y homologación territorial salud – gobierno local | QP8: 4. Mapeo de actores sociales (actividades y recursos según actor social) | QQ8: 1. Integración de información sanitaria (Sala Municipal de Salud) | QR8: 2. Incidencia y abogacía al gobierno local | QS8: 3. Sectorización y homologación territorial salud – gobierno local | QT8: 4. Mapeo de actores sociales (actividades y recursos según actor social) | QU8: 1. Integración de información sanitaria (Sala Municipal de Salud) | QV8: 2. Incidencia y abogacía al gobierno local | QW8: 3. Sectorización y homologación territorial salud – gobierno local | QX8: 4. Mapeo de actores sociales (actividades y recursos según actor social) | QY8: 1. Integración de información sanitaria (Sala Municipal de Salud) | QZ8: 2. Incidencia y abogacía al gobierno local | RA8: 3. Sectorización y homologación territorial salud – gobierno local | RB8: 4. Mapeo de actores sociales (actividades y recursos según actor social) | RC8: 1. Integración de información sanitaria (Sala Municipal de Salud) | RD8: 2. Incidencia y abogacía al gobierno local | RE8: 3. Sectorización y homologación territorial salud – gobierno local | RF8: 4. Mapeo de actores sociales (actividades y recursos según actor social) | RG8: 1. Integración de información sanitaria (Sala Municipal de Salud) | RH8: 2. Incidencia y abogacía al gobierno local | RI8: 3. Sectorización y homologación territorial salud – gobierno local | RJ8: 4. Mapeo de actores sociales (actividades y recursos según actor social) | RK8: 1. Integración de información sanitaria (Sala Municipal de Salud) | RL8: 2. Incidencia y abogacía al gobierno local | RM8: 3. Sectorización y homologación territorial salud – gobierno local | RN8: 4. Mapeo de actores sociales (actividades y recursos según actor social) | RO8: 1. Integración de información sanitaria (Sala Municipal de Salud) | RP8: 2. Incidencia y abogacía al gobierno local | RQ8: 3. Sectorización y homologación territorial salud – gobierno local | RR8: 4. Mapeo de actores sociales (actividades y recursos según actor social) | RS8: 1. Integración de información sanitaria (Sala Municipal de Salud) | RT8: 2. Incidencia y abogacía al gobierno local | RU8: 3. Sectorización y homologación territorial salud – gobierno local | RV8: 4. Mapeo de actores sociales (actividades y recursos según actor social) | RW8: 1. Integración de información sanitaria (Sala Municipal de Salud) | RX8: 2. Incidencia y abogacía al gobierno local | RY8: 3. Sectorización y homologación territorial salud – gobierno local | RZ8: 4. Mapeo de actores sociales (actividades y recursos según actor social) | SA8: 1. Integración de información sanitaria (Sala Municipal de Salud) | SB8: 2. Incidencia y abogacía al gobierno local | SC8: 3. Sectorización y homologación territorial salud – gobierno local | SD8: 4. Mapeo de actores sociales (actividades y recursos según actor social) | SE8: 1. Integración de información sanitaria (Sala Municipal de Salud) | SF8: 2. Incidencia y abogacía al gobierno local | SG8: 3. Sectorización y homologación territorial salud – gobierno local | SH8: 4. Mapeo de actores sociales (actividades y recursos según actor social) | SI8: 1. Integración de información sanitaria (Sala Municipal de Salud) | SJ8: 2. Incidencia y abogacía al gobierno local | SK8: 3. Sectorización y homologación territorial salud – gobierno local | SL8: 4. Mapeo de actores sociales (actividades y recursos según actor social) | SM8: Malaria 01 | SN8: Dengue 05 | SO8: Chikungunya 02 | SP8: Zika 03 | SQ8: Bartonelosis 06 | SR8: Fiebre Amarilla 07 | SS8: Chagas 08 | ST8: Leishmaniasis 09 | SU8: Rabia (04) | SV8: Peste (10) | SW8: Leptospirosis (11) | SX8: Tifus (12) | SY8: Equinococosis (13) | UZ8: NIVEL INICIAL | VB8: NIVEL PRIMARIA | VD8: NIVEL SECUNDARIA | VF8: NIVEL ESPECIAL | VH8: NIVEL INICIAL | VJ8: NIVEL PRIMARIA | VL8: NIVEL SECUNDARIA | VN8: NIVEL ESPECIAL | VP8: NIVEL INICIAL | VR8: NIVEL PRIMARIA | VT8: NIVEL SECUNDARIA | VV8: NIVEL ESPECIAL | VX8: NIVEL INICIAL | VZ8: NIVEL PRIMARIA | WB8: NIVEL SECUNDARIA | WD8: NIVEL ESPECIAL | WF8: NIVEL INICIAL | WH8: NIVEL PRIMARIA | WJ8: NIVEL SECUNDARIA | WL8: NIVEL ESPECIAL | WN8: NIVEL INICIAL | WP8: NIVEL PRIMARIA | WR8: NIVEL SECUNDARIA | WT8: NIVEL ESPECIAL | WV8: NIVEL INICIAL | WX8: NIVEL PRIMARIA | WZ8: NIVEL SECUNDARIA | XB8: NIVEL ESPECIAL | XD8: NIVEL INICIAL | XF8: NIVEL PRIMARIA | XH8: NIVEL SECUNDARIA | XJ8: NIVEL ESPECIAL | XL8: NIVEL INICIAL | XN8: NIVEL PRIMARIA | XP8: NIVEL SECUNDARIA | XR8: NIVEL ESPECIAL | XT8: NIVEL INICIAL | XV8: NIVEL PRIMARIA | XX8: NIVEL SECUNDARIA | XZ8: NIVEL ESPECIAL | YB8: NIVEL INICIAL | YD8: NIVEL PRIMARIA | YF8: NIVEL SECUNDARIA | YH8: NIVEL ESPECIAL | YJ8: NIVEL INICIAL | YL8: NIVEL PRIMARIA | YN8: NIVEL SECUNDARIA | YP8: NIVEL ESPECIAL | YR8: NIVEL INICIAL | YT8: NIVEL PRIMARIA | YV8: NIVEL SECUNDARIA | YX8: NIVEL ESPECIAL | AAP8: NIVEL INICIAL | AAR8: NIVEL PRIMARIA | AAT8: NIVEL SECUNDARIA | AAV8: NIVEL INICIAL | AAX8: NIVEL PRIMARIA | AAZ8: NIVEL SECUNDARIA | ABB8: NIVEL INICIAL | ABD8: NIVEL PRIMARIA | ABF8: NIVEL SECUNDARIA | ABH8: NIVEL INICIAL | ABJ8: NIVEL PRIMARIA | ABL8: NIVEL SECUNDARIA | ABN8: NIVEL INICIAL | ABP8: NIVEL PRIMARIA | ABR8: NIVEL SECUNDARIA | ABT8: NIVEL INICIAL | ABV8: NIVEL PRIMARIA | ABX8: NIVEL SECUNDARIA | ABZ8: NIVEL INICIAL | ACB8: NIVEL PRIMARIA | ACD8: NIVEL SECUNDARIA | ACF8: NIVEL INICIAL | ACH8: NIVEL PRIMARIA | ACJ8: NIVEL SECUNDARIA | ACL8: NIVEL INICIAL | ACN8: NIVEL PRIMARIA | ACP8: NIVEL SECUNDARIA | ACR8: NIVEL INICIAL | ACT8: NIVEL PRIMARIA | ACV8: NIVEL SECUNDARIA | ACX8: NIVEL INICIAL | ACZ8: NIVEL PRIMARIA | ADB8: NIVEL SECUNDARIA | ADD8: NIVEL INICIAL | ADF8: NIVEL PRIMARIA | ADH8: NIVEL SECUNDARIA | ADJ8: NIVEL INICIAL | ADL8: NIVEL PRIMARIA | ADN8: NIVEL SECUNDARIA | ADP8: NIVEL INICIAL | ADR8: NIVEL PRIMARIA | ADT8: NIVEL SECUNDARIA | ADV8: NIVEL INICIAL | ADX8: NIVEL PRIMARIA | ADZ8: NIVEL SECUNDARIA | AEB8: NIVEL INICIAL | AED8: NIVEL PRIMARIA | AEF8: NIVEL SECUNDARIA | AEH8: NIVEL INICIAL | AEJ8: NIVEL PRIMARIA | AEL8: NIVEL SECUNDARIA | AEN8: NIVEL INICIAL | AEP8: NIVEL PRIMARIA | AER8: NIVEL SECUNDARIA | AET8: NIVEL INICIAL | AEV8: NIVEL PRIMARIA | AEX8: NIVEL SECUNDARIA | AEZ8: NIVEL INICIAL | AFB8: NIVEL PRIMARIA | AFD8: NIVEL SECUNDARIA | AFF8: NIVEL INICIAL | AFH8: NIVEL PRIMARIA | AFJ8: NIVEL SECUNDARIA | AFL8: NIVEL INICIAL | AFN8: NIVEL PRIMARIA | AFP8: NIVEL SECUNDARIA | AFR8: NIVEL INICIAL | AFT8: NIVEL PRIMARIA | AFV8: NIVEL SECUNDARIA | AFX8: NIVEL INICIAL | AFZ8: NIVEL PRIMARIA | AGB8: NIVEL SECUNDARIA | AGD8: NIVEL INICIAL | AGF8: NIVEL PRIMARIA | AGH8: NIVEL SECUNDARIA | AGJ8: NIVEL INICIAL | AGL8: NIVEL PRIMARIA | AGN8: NIVEL SECUNDARIA
K9: Malaria (01) | L9: Dengue (05) | M9: Chikungunya (02) | N9: Zika (03) | O9: Bartonelosis (06) | P9: Fiebre Amarilla (07) | Q9: Chagas (08) | R9: Leishmaniasis (09) | S9: Malaria (01) | T9: Dengue (05) | U9: Chikungunya (02) | V9: Zika (03) | W9: Bartonelosis (06) | X9: Fiebre Amarilla (07) | Y9: Chagas (08) | Z9: Leishmaniasis (09) | AA9: Malaria (01) | AB9: Dengue (05) | AC9: Chikungunya (02) | AD9: Zika (03) | AE9: Bartonelosis (06) | AF9: Fiebre Amarilla (07) | AG9: Chagas (08) | AH9: Leishmaniasis (09) | AI9: Malaria (01) | AJ9: Dengue (05) | AK9: Chikungunya (02) | AL9: Zika (03) | AM9: Bartonelosis (06) | AN9: Fiebre Amarilla (07) | AO9: Chagas (08) | AP9: Leishmaniasis (09) | AS9: Rabia (04) | AT9: Peste (10) | AU9: Leptospirosis (11) | AV9: Tifus (12) | AW9: Equinococosis (13) | AX9: Rabia (04) | AY9: Peste (10) | AZ9: Leptospirosis (11) | BA9: Tifus (12) | BB9: Equinococosis (13) | BC9: Rabia (04) | BD9: Peste (10) | BE9: Leptospirosis (11) | BF9: Tifus (12) | BG9: Equinococosis (13) | BH9: Rabia (04) | BI9: Peste (10) | BJ9: Leptospirosis (11) | BK9: Tifus (12) | BL9: Equinococosis (13) | DM9: N° Talleres | DN9: Participantes | DO9: N° Talleres | DP9: Participantes | DQ9: N° Talleres | DR9: Participantes | DS9: N° Talleres | DT9: Participantes | DU9: N° Talleres | DV9: Participantes | DW9: N° Talleres | DX9: Participantes | DY9: N° Talleres | DZ9: Participantes | EA9: N° Talleres | EB9: Participantes | EC9: N° Talleres | ED9: Participantes | EE9: N° Talleres | EF9: Participantes | EG9: N° Talleres | EH9: Participantes | EI9: N° Talleres | EJ9: Participantes | EK9: N° Talleres | EL9: Participantes | EM9: N° Talleres | EN9: Participantes | EO9: N° Talleres | EP9: Participantes | EQ9: N° Talleres | ER9: Participantes | ES9: N° Talleres | ET9: Participantes | EU9: N° Talleres | EV9: Participantes | EW9: N° Talleres | EX9: Participantes | EY9: N° Talleres | EZ9: Participantes | FA9: N° Talleres | FB9: Participantes | FC9: N° Talleres | FD9: Participantes | FE9: Participantes | FF9: N° Talleres | FG9: Participantes | FH9: N° Talleres | FI9: Participantes | FJ9: N° Talleres | FK9: N° Talleres | FL9: Participantes | HI9: N° Talleres | HJ9: Participantes | HK9: N° Talleres | HL9: Participantes | HM9: N° | HN9: N° de organizaciones que participan | HO9: N° | HP9: N° de organizaciones que participan | HQ9: N° | HR9: N° de organizaciones que participan | HS9: N° | HT9: N° de organizaciones que participan | HU9: N° | HV9: N° de organizaciones que participan | HW9: N° | HX9: N° de organizaciones que participan | HY9: N° | HZ9: N° de organizaciones que participan | IA9: N° | IB9: N° de organizaciones que participan | IC9: N° | ID9: N° de organizaciones que participan | IE9: N° | IF9: N° de organizaciones que participan | IG9: N° | IH9: N° de organizaciones que participan | II9: N° | IJ9: N° de organizaciones que participan | IK9: N° | IL9: N° de organizaciones que participan | IM9: N° | IN9: N° de organizaciones que participan | IO9: N° | IP9: N° de organizaciones que participan | IQ9: N° | IR9: N° de organizaciones que participan | IS9: N° | IT9: N° de organizaciones que participan | IU9: N° | IV9: N° de organizaciones que participan | IW9: N° | IX9: N° de organizaciones que participan | IY9: N° | IZ9: N° de organizaciones que participan | JA9: N° | JB9: N° de organizaciones que participan | JC9: N° | JD9: N° de organizaciones que participan | JE9: N° | JF9: N° de organizaciones que participan | JG9: N° | JH9: N° de organizaciones que participan | JI9: N° | JJ9: N° de organizaciones que participan | JK9: N° | JL9: N° de organizaciones que participan | JM9: N° | JN9: N° de organizaciones que participan | JO9: N° | JP9: N° de organizaciones que participan | JQ9: N° | JR9: N° de organizaciones que participan | JS9: N° | JT9: N° de organizaciones que participan | JU9: N° | JV9: N° de organizaciones que participan | JW9: N° | JX9: N° de organizaciones que participan | JY9: N° | JZ9: N° de organizaciones que participan | KA9: N° | KB9: N° de organizaciones que participan | KC9: N° | KD9: N° de organizaciones que participan | KE9: N° | KF9: N° de organizaciones que participan | KG9: N° | KH9: N° de organizaciones que participan | KI9: N° | KJ9: N° de organizaciones que participan | KK9: N° | KL9: N° de organizaciones que participan | KM9: N° | KN9: N° de organizaciones que participan | KO9: N° | KP9: N° de organizaciones que participan | KQ9: N° | KR9: N° de organizaciones que participan | KS9: N° | KT9: N° de organizaciones que participan | KU9: N° | KV9: N° de organizaciones que participan | KW9: N° | KX9: N° de organizaciones que participan | KY9: N° | KZ9: N° de organizaciones que participan | LA9: N° | LB9: N° de organizaciones que participan | LC9: N° | LD9: N° de organizaciones que participan | LE9: N° | LF9: N° de organizaciones que participan | LG9: N° | LH9: N° de organizaciones que participan | LI9: N° | LJ9: N° de organizaciones que participan | LK9: N° | LL9: N° de organizaciones que participan | LM9: N° | LN9: N° de organizaciones que participan | LO9: N° | LP9: N° de organizaciones que participan | LQ9: N° | LR9: N° de organizaciones que participan | LS9: N° | LT9: N° de organizaciones que participan | LU9: N° | LV9: N° de organizaciones que participan | LW9: N° | LX9: N° de organizaciones que participan | LY9: N° | LZ9: N° de organizaciones que participan | MA9: N° | MB9: N° de organizaciones que participan | MC9: N° | MD9: N° de organizaciones que participan | ME9: N° | MF9: N° de organizaciones que participan | MG9: N° | MH9: N° de organizaciones que participan | MI9: N° | MJ9: N° de organizaciones que participan | MK9: N° | ML9: N° de organizaciones que participan | MM9: N° | MN9: N° de organizaciones que participan | MO9: N° | MP9: N° de organizaciones que participan | MQ9: N° | MR9: N° de organizaciones que participan | MS9: N° | MT9: N° de organizaciones que participan | MU9: N° | MV9: N° de organizaciones que participan | MW9: N° | MX9: N° de organizaciones que participan | MY9: N° | MZ9: N° de organizaciones que participan | NA9: N° | NB9: N° de organizaciones que participan | NC9: N° | ND9: N° de organizaciones que participan | NE9: N° | NF9: N° de organizaciones que participan | NG9: N° | NH9: N° de organizaciones que participan | NI9: N° | NJ9: N° de organizaciones que participan | NK9: N° | NL9: N° de organizaciones que participan | NM9: N° | NN9: N° de organizaciones que participan | NO9: N° | NP9: N° de organizaciones que participan | NQ9: N° | NR9: N° de organizaciones que participan | NS9: N° | NT9: N° de organizaciones que participan | NU9: N° | NV9: N° de organizaciones que participan | NW9: N° | NX9: N° de organizaciones que participan | NY9: N° | NZ9: N° de organizaciones que participan | OA9: N° | OB9: N° de organizaciones que participan | OC9: N° | OD9: N° de organizaciones que participan | OE9: N° | OF9: N° de organizaciones que participan | OG9: N° | OH9: N° de organizaciones que participan | OI9: N° | OJ9: N° de organizaciones que participan | OK9: N° | OL9: N° de organizaciones que participan | OM9: N° | ON9: N° de organizaciones que participan | OO9: N° | OP9: N° de organizaciones que participan | OQ9: N° | OR9: N° de organizaciones que participan | OS9: N° | OT9: N° de organizaciones que participan | OU9: N° | OV9: N° de organizaciones que participan | OW9: N° | OX9: N° de organizaciones que participan | OY9: N° | OZ9: N° de organizaciones que participan | PA9: N° | PB9: N° de organizaciones que participan | PC9: N° | PD9: N° de organizaciones que participan | PE9: N° | PF9: N° de organizaciones que participan | PG9: N° | PH9: N° de organizaciones que participan | PI9: N° | PJ9: N° de organizaciones que participan | PK9: N° | PL9: N° de organizaciones que participan | PM9: N° | PN9: Participantes | PO9: N° | PP9: Participantes | PQ9: N° | PR9: Participantes | PS9: N° | PT9: Participantes | PU9: N° | PV9: Participantes | PW9: N° | PX9: Participantes | PY9: N° | PZ9: Participantes | QA9: N° | QB9: Participantes | QC9: N° | QD9: Participantes | QE9: N° | QF9: Participantes | QG9: N° | QH9: Participantes | QI9: N° | QJ9: Participantes | QK9: N° | QL9: Participantes | SM9: N° | SN9: N° | SO9: N° | SP9: N° | SQ9: N° | SR9: N° | SS9: N° | ST9: N° | SU9: N° | SV9: N° | SW9: N° | SX9: N° | SY9: N° | SZ9: PLAM | TA9: PPR | TB9: PLAM | TC9: PPR | TD9: PLAM | TE9: PPR | TF9: PLAM | TG9: PPR | TH9: PLAM | TI9: PPR | TJ9: PLAM | TK9: PPR | TL9: PLAM | TM9: PPR | TN9: PLAM | TO9: PPR | TP9: PLAM | TQ9: PPR | TR9: PLAM | TS9: PPR | TT9: PLAM | TU9: PPR | TV9: PLAM | TW9: PPR | TX9: PLAM | TY9: PPR | TZ9: N° | UA9: N° | UB9: N° | UC9: N° | UD9: N° | UE9: N° | UF9: N° | UG9: N° | UH9: N° | UI9: N° | UJ9: N° | UK9: N° | UL9: N° | UM9: N° | UN9: N° | UO9: N° | UP9: N° | UQ9: N° | UR9: N° | US9: N° | UT9: N° | UU9: N° | UV9: N° | UW9: N° | UX9: N° | UY9: N° | UZ9: Reunión | VA9: Participantes | VB9: Reunión | VC9: Participantes | VD9: Reunión | VE9: Participantes | VF9: Reunión | VG9: Participantes | VH9: Reunión | VI9: Participantes | VJ9: Reunión | VK9: Participantes | VL9: Reunión | VM9: Participantes | VN9: Reunión | VO9: Participantes | VP9: Reunión | VQ9: Participantes | VR9: Reunión | VS9: Participantes | VT9: Reunión | VU9: Participantes | VV9: Reunión | VW9: Participantes | VX9: Reunión | VY9: Participantes | VZ9: Reunión | WA9: Participantes | WB9: Reunión | WC9: Participantes | WD9: Reunión | WE9: Participantes | WF9: Reunión | WG9: Participantes | WH9: Reunión | WI9: Participantes | WJ9: Reunión | WK9: Participantes | WL9: Reunión | WM9: Participantes | WN9: Reunión | WO9: Participantes | WP9: Reunión | WQ9: Participantes | WR9: Reunión | WS9: Participantes | WT9: Reunión | WU9: Participantes | WV9: Reunión | WW9: Participantes | WX9: Reunión | WY9: Participantes | WZ9: Reunión | XA9: Participantes | XB9: Reunión | XC9: Participantes | XD9: Reunión | XE9: Participantes | XF9: Reunión | XG9: Participantes | XH9: Reunión | XI9: Participantes | XJ9: Reunión | XK9: Participantes | XL9: Reunión | XM9: Participantes | XN9: Reunión | XO9: Participantes | XP9: Reunión | XQ9: Participantes | XR9: Reunión | XS9: Participantes | XT9: Reunión | XU9: Participantes | XV9: Reunión | XW9: Participantes | XX9: Reunión | XY9: Participantes | XZ9: Reunión | YA9: Participantes | YB9: Reunión | YC9: Participantes | YD9: Reunión | YE9: Participantes | YF9: Reunión | YG9: Participantes | YH9: Reunión | YI9: Participantes | YJ9: Reunión | YK9: Participantes | YL9: Reunión | YM9: Participantes | YN9: Reunión | YO9: Participantes | YP9: Reunión | YQ9: Participantes | YR9: Reunión | YS9: Participantes | YT9: Reunión | YU9: Participantes | YV9: Reunión | YW9: Participantes | YX9: Reunión | YY9: Participantes | YZ9: N° | ZA9: N° de Paarticipantes | ZB9: N° | ZC9: N° de Paarticipantes | ZD9: N° | ZE9: N° de Paarticipantes | ZF9: N° | ZG9: N° de Paarticipantes | ZH9: N° | ZI9: N° de Paarticipantes | ZJ9: N° | ZK9: N° de Paarticipantes | ZL9: N° | ZM9: N° de Paarticipantes | ZN9: N° | ZO9: N° de Paarticipantes | ZP9: N° | ZQ9: N° de Paarticipantes | ZR9: N° | ZS9: N° de II.EE | ZT9: N° de Toneladas | ZU9: N° | ZV9: N° de II.EE | ZW9: N° de Toneladas | ZX9: N° | ZY9: N° de II.EE | ZZ9: N° de Toneladas | AAA9: N° | AAB9: N° de II.EE | AAC9: N° de Toneladas | AAD9: N° | AAE9: N° de II.EE | AAF9: N° de Toneladas | AAG9: N° | AAH9: N° de II.EE | AAI9: N° de Toneladas | AAJ9: N° | AAK9: N° de II.EE | AAL9: N° de Toneladas | AAM9: N° | AAN9: N° de II.EE | AAO9: N° de Toneladas | AAP9: N° | AAQ9: N° de Participantes | AAR9: N° | AAS9: N° de Participantes | AAT9: N° | AAU9: N° de Participantes | AAV9: N° | AAW9: N° de Participantes | AAX9: N° | AAY9: N° de Participantes | AAZ9: N° | ABA9: N° de Participantes | ABB9: N° | ABC9: N° de Participantes | ABD9: N° | ABE9: N° de Participantes | ABF9: N° | ABG9: N° de Participantes | ABH9: N° | ABI9: N° de Participantes | ABJ9: N° | ABK9: N° de Participantes | ABL9: N° | ABM9: N° de Participantes | ABN9: N° | ABO9: N° de Participantes | ABP9: N° | ABQ9: N° de Participantes | ABR9: N° | ABS9: N° de Participantes | ABT9: N° | ABU9: N° de Participantes | ABV9: N° | ABW9: N° de Participantes | ABX9: N° | ABY9: N° de Participantes | ABZ9: N° | ACA9: N° de Participantes | ACB9: N° | ACC9: N° de Participantes | ACD9: N° | ACE9: N° de Participantes | ACF9: N° | ACG9: N° de Participantes | ACH9: N° | ACI9: N° de Participantes | ACJ9: N° | ACK9: N° de Participantes | ACL9: N° | ACM9: N° de Participantes | ACN9: N° | ACO9: N° de Participantes | ACP9: N° | ACQ9: N° de Participantes | ACR9: N° | ACS9: N° de Participantes | ACT9: N° | ACU9: N° de Participantes | ACV9: N° | ACW9: N° de Participantes | ACX9: N° | ACY9: N° de Participantes | ACZ9: N° | ADA9: N° de Participantes | ADB9: N° | ADC9: N° de Participantes | ADD9: N° | ADE9: N° de Participantes | ADF9: N° | ADG9: N° de Participantes | ADH9: N° | ADI9: N° de Participantes | ADJ9: N° | ADK9: N° de Participantes | ADL9: N° | ADM9: N° de Participantes | ADN9: N° | ADO9: N° de Participantes | ADP9: N° | ADQ9: N° de Participantes | ADR9: N° | ADS9: N° de Participantes | ADT9: N° | ADU9: N° de Participantes | ADV9: N° | ADW9: N° de Participantes | ADX9: N° | ADY9: N° de Participantes | ADZ9: N° | AEA9: N° de Participantes | AEB9: N° | AEC9: N° de Participantes | AED9: N° | AEE9: N° de Participantes | AEF9: N° | AEG9: N° de Participantes | AEH9: N° | AEI9: N° de Participantes | AEJ9: N° | AEK9: N° de Participantes | AEL9: N° | AEM9: N° de Participantes | AEN9: N° | AEO9: N° de Participantes | AEP9: N° | AEQ9: N° de Participantes | AER9: N° | AES9: N° de Participantes | AET9: N° | AEU9: N° de Participantes | AEV9: N° | AEW9: N° de Participantes | AEX9: N° | AEY9: N° de Participantes | AEZ9: N° | AFA9: N° de Participantes | AFB9: N° | AFC9: N° de Participantes | AFD9: N° | AFE9: N° de Participantes | AFF9: N° | AFG9: N° de Participantes | AFH9: N° | AFI9: N° de Participantes | AFJ9: N° | AFK9: N° de Participantes | AFL9: N° | AFM9: N° de Participantes | AFN9: N° | AFO9: N° de Participantes | AFP9: N° | AFQ9: N° de Participantes | AFR9: N° | AFS9: N° de Participantes | AFT9: N° | AFU9: N° de Participantes | AFV9: N° | AFW9: N° de Participantes | AFX9: N° | AFY9: N° de Participantes | AFZ9: N° | AGA9: N° de Participantes | AGB9: N° | AGC9: N° de Participantes | AGD9: N° | AGE9: N° de Participantes | AGF9: N° | AGG9: N° de Participantes | AGH9: N° | AGI9: N° de Participantes | AGJ9: N° | AGK9: N° de Participantes | AGL9: N° | AGM9: N° de Participantes | AGN9: N° | AGO9: N° de Participantes
G10: =G11 -> 154 | H10: =H11 -> 0 | I10: =I11 -> 139 | J10: =J11 -> 0 | K10: =K11 -> 24 | L10: =L11 -> 218 | M10: =M11 -> 0 | N10: =N11 -> 0 | ... AGO10: =AGO11 -> 0
A11: AÑO | B11: MES | C11: DISTRITO | D11: MICRORED | E11: RENAES | F11: MICRORED MAZAMARI | G11: =SUM(G12:G26) -> 154 | H11: =SUM(H12:H26) -> 0 | I11: =SUM(I12:I26) -> 139 | J11: =SUM(J12:J26) -> 0 | K11: =SUM(K12:K26) -> 24 | L11: =SUM(L12:L26) -> 218 | M11: =SUM(M12:M26) -> 0 | N11: =SUM(N12:N26) -> 0 | ... AGO11: =SUM(AGO12:AGO26) -> 0
A12: 2026 | B12: 9 | C12: LLAYLLA | D12: MAZAMARI | E12: 433 | F12: BELEN | G12: 0 | H12: 0 | I12: 0 | J12: 0 | K12: 0 | L12: 24 | M12: 0 | N12: 0 | O12: 0 | P12: 0 | Q12: 0 | R12: 0 | S12: 0 | T12: 24 | U12: 0 | V12: 0 | W12: 0 | X12: 0 | Y12: 0 | Z12: 0 | AA12: 0 | AB12: 24 | AC12: 0 | AD12: 0 | AE12: 0 | AF12: 0 | AG12: 0 | AH12: 0 | AI12: 0 | AJ12: 24 | AK12: 0 | AL12: 0 | AM12: 0 | AN12: 0 | AO12: 0 | AP12: 0 | AQ12: 0 | AR12: 0 | AS12: 24 | AT12: 0 | AU12: 0 | AV12: 0 | AW12: 0 | AX12: 24 | AY12: 0 | AZ12: 0 | BA12: 0 | BB12: 0 | BC12: 24 | BD12: 0 | BE12: 0 | BF12: 0 | BG12: 0 | BH12: 24 | BI12: 0 | BJ12: 0 | BK12: 0 | BL12: 0 | BM12: 0 | BN12: 0 | BO12: 0 | BP12: 0 | BQ12: 0 | BR12: 0 | BS12: 0 | BT12: 0 | BU12: 0 | BV12: 0 | BW12: 0 | BX12: 0 | BY12: 0 | BZ12: 0 | CA12: 0 | CB12: 0 | CC12: 0 | CD12: 0 | CE12: 0 | CF12: 0 | CG12: 0 | CH12: 0 | CI12: 0 | CJ12: 0 | CK12: 0 | CL12: 0 | CM12: 0 | CN12: 0 | CO12: 0 | CP12: 0 | CQ12: 0 | CR12: 0 | CS12: 0 | CT12: 0 | CU12: 0 | CV12: 0 | CW12: 0 | CX12: 0 | CY12: 0 | CZ12: 0 | DA12: 0 | DB12: 0 | DC12: 0 | DD12: 0 | DE12: 0 | DF12: 0 | DG12: 0 | DH12: 0 | DI12: 0 | DJ12: 0 | DK12: 0 | DL12: 0 | DM12: 0 | DN12: 0 | DO12: 0 | DP12: 0 | DQ12: 0 | DR12: 0 | DS12: 0 | DT12: 0 | DU12: 0 | DV12: 0 | DW12: 0 | DX12: 0 | DY12: 0 | DZ12: 0 | EA12: 0 | EB12: 0 | EC12: 0 | ED12: 0 | EE12: 0 | EF12: 0 | EG12: 0 | EH12: 0 | EI12: 0 | EJ12: 0 | EK12: 0 | EL12: 0 | EM12: 0 | EN12: 0 | EO12: 0 | EP12: 0 | EQ12: 0 | ER12: 0 | ES12: 0 | ET12: 0 | EU12: 0 | EV12: 0 | EW12: 0 | EX12: 0 | EY12: 0 | EZ12: 0 | FA12: 0 | FB12: 0 | FC12: 0 | FD12: 0 | FE12: 0 | FF12: 0 | FG12: 0 | FH12: 0 | FI12: 0 | FJ12: 0 | FK12: 0 | FL12: 0 | FM12: 0 | FN12: 0 | FO12: 0 | FP12: 0 | FQ12: 0 | FR12: 0 | FS12: 0 | FT12: 0 | FU12: 0 | FV12: 0 | FW12: 0 | FX12: 0 | FY12: 0 | FZ12: 0 | GA12: 0 | GB12: 0 | GC12: 0 | GD12: 0 | GE12: 0 | GF12: 0 | GG12: 0 | GH12: 0 | GI12: 0 | GJ12: 0 | GK12: 0 | GL12: 0 | GM12: 0 | GN12: 0 | GO12: 0 | GP12: 0 | GQ12: 0 | GR12: 0 | GS12: 0 | GT12: 0 | GU12: 0 | GV12: 0 | GW12: 0 | GX12: 0 | GY12: 0 | GZ12: 0 | HA12: 0 | HB12: 0 | HC12: 0 | HD12: 0 | HE12: 0 | HF12: 0 | HG12: 0 | HH12: 0 | HI12: 0 | HJ12: 0 | HK12: 0 | HL12: 0 | HM12: 0 | HN12: 0 | HO12: 1 | HP12: 16 | HQ12: 0 | HR12: 0 | HS12: 0 | HT12: 0 | HU12: 0 | HV12: 0 | HW12: 0 | HX12: 0 | HY12: 0 | HZ12: 0 | IA12: 0 | IB12: 0 | IC12: 0 | ID12: 0 | IE12: 0 | IF12: 0 | IG12: 0 | IH12: 0 | II12: 0 | IJ12: 0 | IK12: 0 | IL12: 0 | IM12: 0 | IN12: 0 | IO12: 0 | IP12: 0 | IQ12: 0 | IR12: 0 | IS12: 0 | IT12: 0 | IU12: 0 | IV12: 0 | IW12: 0 | IX12: 0 | IY12: 0 | IZ12: 0 | JA12: 0 | JB12: 0 | JC12: 0 | JD12: 0 | JE12: 0 | JF12: 0 | JG12: 0 | JH12: 0 | JI12: 0 | JJ12: 0 | JK12: 0 | JL12: 0 | JM12: 0 | JN12: 0 | JO12: 0 | JP12: 0 | JQ12: 0 | JR12: 0 | JS12: 0 | JT12: 0 | JU12: 0 | JV12: 0 | JW12: 0 | JX12: 0 | JY12: 0 | JZ12: 0 | KA12: 0 | KB12: 0 | KC12: 0 | KD12: 0 | KE12: 0 | KF12: 0 | KG12: 0 | KH12: 0 | KI12: 0 | KJ12: 0 | KK12: 0 | KL12: 0 | KM12: 0 | KN12: 0 | KO12: 0 | KP12: 0 | KQ12: 0 | KR12: 0 | KS12: 0 | KT12: 0 | KU12: 0 | KV12: 0 | KW12: 0 | KX12: 0 | KY12: 0 | KZ12: 0 | LA12: 0 | LB12: 0 | LC12: 0 | LD12: 0 | LE12: 0 | LF12: 0 | LG12: 0 | LH12: 0 | LI12: 0 | LJ12: 0 | LK12: 0 | LL12: 0 | LM12: 0 | LN12: 0 | LO12: 0 | LP12: 0 | LQ12: 0 | LR12: 0 | LS12: 0 | LT12: 0 | LU12: 0 | LV12: 0 | LW12: 0 | LX12: 0 | LY12: 0 | LZ12: 0 | MA12: 0 | MB12: 0 | MC12: 0 | MD12: 0 | ME12: 0 | MF12: 0 | MG12: 0 | MH12: 0 | MI12: 0 | MJ12: 0 | MK12: 0 | ML12: 0 | MM12: 0 | MN12: 0 | MO12: 0 | MP12: 0 | MQ12: 0 | MR12: 0 | MS12: 0 | MT12: 0 | MU12: 0 | MV12: 0 | MW12: 0 | MX12: 0 | MY12: 0 | MZ12: 0 | NA12: 0 | NB12: 0 | NC12: 0 | ND12: 0 | NE12: 0 | NF12: 0 | NG12: 0 | NH12: 0 | NI12: 0 | NJ12: 0 | NK12: 0 | NL12: 0 | NM12: 0 | NN12: 0 | NO12: 0 | NP12: 0 | NQ12: 0 | NR12: 0 | NS12: 0 | NT12: 0 | NU12: 0 | NV12: 0 | NW12: 0 | NX12: 0 | NY12: 0 | NZ12: 0 | OA12: 0 | OB12: 0 | OC12: 0 | OD12: 0 | OE12: 0 | OF12: 0 | OG12: 0 | OH12: 0 | OI12: 0 | OJ12: 0 | OK12: 0 | OL12: 0 | OM12: 0 | ON12: 0 | OO12: 0 | OP12: 0 | OQ12: 0 | OR12: 0 | OS12: 0 | OT12: 0 | OU12: 0 | OV12: 0 | OW12: 0 | OX12: 0 | OY12: 0 | OZ12: 0 | PA12: 0 | PB12: 0 | PC12: 0 | PD12: 0 | PE12: 0 | PF12: 0 | PG12: 0 | PH12: 0 | PI12: 0 | PJ12: 0 | PK12: 0 | PL12: 0 | PM12: 0 | PN12: 0 | PO12: 0 | PP12: 0 | PQ12: 0 | PR12: 0 | PS12: 0 | PT12: 0 | PU12: 0 | PV12: 0 | PW12: 0 | PX12: 0 | PY12: 0 | PZ12: 0 | QA12: 0 | QB12: 0 | QC12: 0 | QD12: 0 | QE12: 0 | QF12: 0 | QG12: 0 | QH12: 0 | QI12: 0 | QJ12: 0 | QK12: 0 | QL12: 0 | QM12: 0 | QN12: 0 | QO12: 0 | QP12: 0 | QQ12: 0 | QR12: 0 | QS12: 0 | QT12: 0 | QU12: 0 | QV12: 0 | QW12: 0 | QX12: 0 | QY12: 0 | QZ12: 0 | RA12: 0 | RB12: 0 | RC12: 0 | RD12: 0 | RE12: 0 | RF12: 0 | RG12: 0 | RH12: 0 | RI12: 0 | RJ12: 0 | RK12: 0 | RL12: 0 | RM12: 0 | RN12: 0 | RO12: 0 | RP12: 0 | RQ12: 0 | RR12: 0 | RS12: 0 | RT12: 0 | RU12: 0 | RV12: 0 | RW12: 0 | RX12: 0 | RY12: 0 | RZ12: 0 | SA12: 0 | SB12: 0 | SC12: 0 | SD12: 0 | SE12: 0 | SF12: 0 | SG12: 0 | SH12: 0 | SI12: 0 | SJ12: 0 | SK12: 0 | SL12: 0 | SM12: 0 | SN12: 0 | SO12: 0 | SP12: 0 | SQ12: 0 | SR12: 0 | SS12: 0 | ST12: 0 | SU12: 0 | SV12: 0 | SW12: 0 | SX12: 0 | SY12: 0 | SZ12: 0 | TA12: 0 | TB12: 0 | TC12: 0 | TD12: 0 | TE12: 0 | TF12: 0 | TG12: 0 | TH12: 0 | TI12: 0 | TJ12: 0 | TK12: 0 | TL12: 0 | TM12: 0 | TN12: 0 | TO12: 0 | TP12: 0 | TQ12: 0 | TR12: 0 | TS12: 0 | TT12: 0 | TU12: 0 | TV12: 0 | TW12: 0 | TX12: 0 | TY12: 0 | TZ12: 0 | UA12: 0 | UB12: 0 | UC12: 0 | UD12: 0 | UE12: 0 | UF12: 0 | UG12: 0 | UH12: 0 | UI12: 0 | UJ12: 0 | UK12: 0 | UL12: 0 | UM12: 0 | UN12: 0 | UO12: 0 | UP12: 0 | UQ12: 0 | UR12: 0 | US12: 0 | UT12: 0 | UU12: 0 | UV12: 0 | UW12: 0 | UX12: 0 | UY12: 0 | UZ12: 0 | VA12: 0 | VB12: 0 | VC12: 0 | VD12: 0 | VE12: 0 | VF12: 0 | VG12: 0 | VH12: 0 | VI12: 0 | VJ12: 0 | VK12: 0 | VL12: 0 | VM12: 0 | VN12: 0 | VO12: 0 | VP12: 0 | VQ12: 0 | VR12: 0 | VS12: 0 | VT12: 0 | VU12: 0 | VV12: 0 | VW12: 0 | VX12: 0 | VY12: 0 | VZ12: 0 | WA12: 0 | WB12: 0 | WC12: 0 | WD12: 0 | WE12: 0 | WF12: 0 | WG12: 0 | WH12: 0 | WI12: 0 | WJ12: 0 | WK12: 0 | WL12: 0 | WM12: 0 | WN12: 0 | WO12: 0 | WP12: 0 | WQ12: 0 | WR12: 0 | WS12: 0 | WT12: 0 | WU12: 0 | WV12: 0 | WW12: 0 | WX12: 0 | WY12: 0 | WZ12: 0 | XA12: 0 | XB12: 0 | XC12: 0 | XD12: 0 | XE12: 0 | XF12: 0 | XG12: 0 | XH12: 0 | XI12: 0 | XJ12: 0 | XK12: 0 | XL12: 0 | XM12: 0 | XN12: 0 | XO12: 0 | XP12: 0 | XQ12: 0 | XR12: 0 | XS12: 0 | XT12: 0 | XU12: 0 | XV12: 0 | XW12: 0 | XX12: 0 | XY12: 0 | XZ12: 0 | YA12: 0 | YB12: 0 | YC12: 0 | YD12: 0 | YE12: 0 | YF12: 0 | YG12: 0 | YH12: 0 | YI12: 0 | YJ12: 0 | YK12: 0 | YL12: 0 | YM12: 0 | YN12: 0 | YO12: 0 | YP12: 0 | YQ12: 0 | YR12: 0 | YS12: 0 | YT12: 0 | YU12: 0 | YV12: 0 | YW12: 0 | YX12: 0 | YY12: 0 | YZ12: 0 | ZA12: 0 | ZB12: 0 | ZC12: 0 | ZD12: 0 | ZE12: 0 | ZF12: 0 | ZG12: 0 | ZH12: 0 | ZI12: 0 | ZJ12: 0 | ZK12: 0 | ZL12: 0 | ZM12: 0 | ZN12: 0 | ZO12: 0 | ZP12: 0 | ZQ12: 0 | ZR12: 1 | ZS12: 3 | ZT12: 3 | ZU12: 0 | ZV12: 0 | ZW12: 0 | ZX12: 0 | ZY12: 0 | ZZ12: 0 | AAA12: 0 | AAB12: 0 | AAC12: 0 | AAD12: 0 | AAE12: 0 | AAF12: 0 | AAG12: 0 | AAH12: 0 | AAI12: 0 | AAJ12: 0 | AAK12: 0 | AAL12: 0 | AAM12: 0 | AAN12: 0 | AAO12: 0 | AAP12: 0 | AAQ12: 0 | AAR12: 0 | AAS12: 0 | AAT12: 0 | AAU12: 0 | AAV12: 0 | AAW12: 0 | AAX12: 0 | AAY12: 0 | AAZ12: 0 | ABA12: 0 | ABB12: 0 | ABC12: 0 | ABD12: 0 | ABE12: 0 | ABF12: 0 | ABG12: 0 | ABH12: 0 | ABI12: 0 | ABJ12: 0 | ABK12: 0 | ABL12: 0 | ABM12: 0 | ABN12: 0 | ABO12: 0 | ABP12: 0 | ABQ12: 0 | ABR12: 0 | ABS12: 0 | ABT12: 0 | ABU12: 0 | ABV12: 0 | ABW12: 0 | ABX12: 0 | ABY12: 0 | ABZ12: 0 | ACA12: 0 | ACB12: 0 | ACC12: 0 | ACD12: 0 | ACE12: 0 | ACF12: 0 | ACG12: 0 | ACH12: 0 | ACI12: 0 | ACJ12: 0 | ACK12: 0 | ACL12: 0 | ACM12: 0 | ACN12: 0 | ACO12: 0 | ACP12: 0 | ACQ12: 0 | ACR12: 0 | ACS12: 0 | ACT12: 0 | ACU12: 0 | ACV12: 0 | ACW12: 0 | ACX12: 0 | ACY12: 0 | ACZ12: 0 | ADA12: 0 | ADB12: 0 | ADC12: 0 | ADD12: 0 | ADE12: 0 | ADF12: 0 | ADG12: 0 | ADH12: 0 | ADI12: 0 | ADJ12: 0 | ADK12: 0 | ADL12: 0 | ADM12: 0 | ADN12: 0 | ADO12: 0 | ADP12: 0 | ADQ12: 0 | ADR12: 0 | ADS12: 0 | ADT12: 0 | ADU12: 0 | ADV12: 0 | ADW12: 0 | ADX12: 0 | ADY12: 0 | ADZ12: 0 | AEA12: 0 | AEB12: 0 | AEC12: 0 | AED12: 0 | AEE12: 0 | AEF12: 0 | AEG12: 0 | AEH12: 0 | AEI12: 0 | AEJ12: 0 | AEK12: 0 | AEL12: 0 | AEM12: 0 | AEN12: 0 | AEO12: 0 | AEP12: 0 | AEQ12: 0 | AER12: 0 | AES12: 0 | AET12: 0 | AEU12: 0 | AEV12: 0 | AEW12: 0 | AEX12: 0 | AEY12: 0 | AEZ12: 0 | AFA12: 0 | AFB12: 0 | AFC12: 0 | AFD12: 0 | AFE12: 0 | AFF12: 0 | AFG12: 0 | AFH12: 0 | AFI12: 0 | AFJ12: 0 | AFK12: 0 | AFL12: 0 | AFM12: 0 | AFN12: 0 | AFO12: 0 | AFP12: 0 | AFQ12: 0 | AFR12: 0 | AFS12: 0 | AFT12: 0 | AFU12: 0 | AFV12: 0 | AFW12: 0 | AFX12: 0 | AFY12: 0 | AFZ12: 0 | AGA12: 0 | AGB12: 0 | AGC12: 0 | AGD12: 0 | AGE12: 0 | AGF12: 0 | AGG12: 0 | AGH12: 0 | AGI12: 0 | AGJ12: 0 | AGK12: 0 | AGL12: 0 | AGM12: 0 | AGN12: 0 | AGO12: 0
