Workbook

Sheet PP001-Niño
A1: MENSUAL | G1: 1.1.1. SUB PRODUCTO 3325110: FAMILIAS CON NIÑOS(AS) MENORES DE 36 MESES Y GESTANTES RECIBEN SESIONES DEMOSTRATIVAS EN PREPARACION DE ALIMENTOS | BG1: 1.1.2. SUB PRODUCTO 3325107: FAMILIAS CON NIÑOS (AS) MENORES DE 24 MESES QUE RECIBEN CONSEJERIA A TRAVES DE LA VISITA DOMICILIARIA | CW1: 1.1.3.SUB PRODUCTO 3325112: FAMILIAS CON NIÑOS (AS) MENORES DE 12 MESES Y GESTANTES QUE RECIBEN ACOMPAÑAMIENTO A TRAVES DE LAS SESIONES DE GRUPOS DE APOYO COMUNAL | EM1: 1.2.1. COMITES MULTISECTORIALES CAPACITADOS PARA LA PROMOCIÓN DEL CUIDADO INFANTIL, LACTANCIA MATERNA EXCLUSIVA Y LA ADECUADA ALIMENTACIÓN Y PROTECCIÓN DEL MENOR DE 36 MESES EN SU DISTRITO | FM1: 1.2.2 ACTORES SOCIALES CAPACITADOS PARA LA PROMOCIÓN DEL CUIDADO INFANTIL, LACTANCIA MATERNA EXCLUSIVA Y LA ADECUADA ALIMENTACIÓN Y PROTECCIÓN DEL MENOR DE 36 MESES DEL DISTRITO. | HQ1: 1.2.3. SUB PRODUCTO 3325108: PROMOTORES EDUCATIVOS CAPACITADOS PARA LA PROMOCIÓN DEL CUIDADO INFANTIL, LACTANCIA MATERNA EXCLUSIVA Y LA ADECUADA ALIMENTACIÓN Y PROTECCIÓN DEL MENOR DE 36 MESES DEL DISTRITO
A2: AÑO | B2: MES | C2: DISTRITO | D2: MICRORED | E2: Código RENAES | F2: Departamento, Red, Provincia, Distrito y Establecimiento | G2: 1.1 En familias con niñas y niños menores de 36 meses | S2: 1.2 Sesiones Demostrativas a Gestantes. seguido de la fecha de ultima regla | AA2: 1.3 Cuando la Sesion Demostrativa se recalice en Centros de Promocion y Vigilancia Comunal | AQ2: 1.4 Cuando la Sesion Demostrativa sea Promovida Por El Gobierno Local | BG2: 2.1.Familias con niños (as) menores de 12 meses | CW2: 3.1. REUNION DE COORDINACION - IMPLEMENTACION REGISTRO Nº 16 | DA2: TALLER DE CAPACITACIÓN REGISTRO Nº 17 Y 18 | DO2: ASISTENCIA TECNICA REGISTRO Nº 19 | DS2: FUNCIONAMIENTO DE LOS GRUPOS DE APOYO REGISTRO Nº 20 | EI2: MONITOREO REGISTRO Nº 21 | EM2: REUNIONES REGISTRO Nº 22, 23, 24 Y 25 | EU2: AISTENCIA TECNICA REGISTRO Nº 26 | FI2: EVALUACION Y MONITOREO REGISTRO Nº 27 Y 28 | FM2: REUNIONES REGISTRO Nº 29 | FQ2: TALLER DE CAPACITACION A LOS AGENTES COMUNTARIOS REGISTRO Nº 30 Y 31 | FU2: Taller de capacitación a los actores sociales en protocolo de visitas domiciliarias en la promoción de prácticas saludables para el cuidado materno infantil, prevención y control de la anemia. REGISTRO Nº 32 | HC2: Revisión y validación de formatos de visitas X ACTOR SOCIAL REGISTRO Nº 33 | HF2: verificaciones con resultado Positivo y/o no se pudo verificar. REGISTRO Nº 34 | HI2: Registro de verificaciones con resultado Negativo: | HK2: Rechazo de las visitas domiciliarias realizadas por los actores sociales | HM2: Monitoreo y acompañamiento por parte del personal de salud al actor social durante el desarrollo de la V.D. REGISTRO Nº 35 | HQ2: REUNIONES REGISTRO Nº 36 Y 37. | HU2: SESIONES EDUCATIVAS REGISTRO Nº 38
BG3: Recien Nacido REGISTRO Nº 08 | BW3: LACTANCIA MATERNO REGISTRO Nº 10 | CA3: Entre 4 a 5 meses SIN AMENIA REGISTRO Nº 11 | CE3: Entre 6 a 12 meses SIN AMENIA REGISTRO Nº 12 Y 13 | CK3: Entre 6 a 12 meses CON AMENIA REGISTRO Nº 14 Y 15
G4: Familias participantes según edades de los niños y niñas | M4: Familias participantes según edades de los niños y niñas, REGISTRO Nº 01 | S4: GESTANTE (NORMA/RIESGO) | W4: GESTANTE (NORMA/RIESGO) REGISTRO Nº 02 | AA4: Familias participantes según edades de los niños y niñas | AF4: GESTANTE (NORMA/RIESGO) | AI4: Familias participantes según edades de los niños y niñas REGISTRO Nº 03 | AN4: GESTANTE (NORMA/RIESGO) REGISTRO Nº 04 | AQ4: Familias participantes según edades de los niños y niñas | AV4: GESTANTE (NORMA/RIESGO) | AY4: Familias participantes según edades de los niños y niñas REGISTRO Nº 05 | BD4: GESTANTE (NORMA/RIESGO) REGISTRO Nº 6 | BG4: Consejeria en lactancia Materna exclusiva | BK4: Consejeria en Corte y cuidado del cordon umbilical | BO4: Consejeria en Higiene del recien nacido y cuidado en el hogar | BS4: Consejeria en Identificacion de signos de alarma | BW4: 2 y 3 meses LACTANCIA MATERNA | CA4: Consejeria en Suplementacion con Hierro | CE4: Consejeria en Suplementacion con Hierro | CK4: Consejeria en Tratamiento de la Anemia | CW4: 1: Implementación de grupos de apoyo | CY4: 2: Reactivación o continuidad de grupos de apoyo | DA4: Sesión 1 | DC4: Sesión 2 | DE4: Sesión 3 | DG4: Sesión 4 | DI4: Sesión 5 | DK4: Sesión 6 | DM4: Sesión 7 | DO4: 1º Asistencia Tecnica | DS4: Sesión 1 | DW4: Ssesion 2 | EA4: Sesion 3 | EE4: Sesion 4 | EI4: Reunion 1 | EK4: Reunion 2 | EM4: Reunion de coordinacion con la Municipalidad | EO4: Reunion tecnica con la Municipalidad para la conformacion del comité Multisectorila | EQ4: Reunion de socializacion de la informacion para el analisis de anemia y DCI | ES4: Taller de planificacion para la elaboracion del plan de trabajo Multisectorial para contribuir en la reducion de la anemia y DCI en el distrito | EU4: Sala situacion Municipal | EW4: Implementacion de politicas publicas (Ordenanzas municipales) | EY4: Implementacion de visitas domiciliarias por actores sociales para la prevención, reducción y control de anemia y desnutrición infantil. | FA4: Programacion multianual y formulacion anual del presupuesto en PAN | FC4: Actualización y homologación del padrón nominal del menor de 6 años. | FE4: Implementación y funcionamiento de los CPVC | FG4: Implementación y funcionamiento de los EPSJ | FI4: Reunion de monitoreo 1 | FJ4: Reunion de monitoreo 2 | FK4: Reunion de evaluacion | FM4: Reunion de coordinacion con la comunidad | FO4: Reunion de coordinacion con la municipalidad | FQ4: Vigilancia Comunitaria | FS4: Sesiones demostrativas de preparacion de alimentos | FU4: * SIEMPRE APP138 para Agentes Comunitarios de Salud 1º casillero Sesión educativa (C0009) En el casillero Lab 1: registrar el número de actores sociales participantes En el casillero Lab 2 y Lab 3: registrar la temática del taller de capacitación, según corresponda En el 2º casillero Taller para Municipios (C0004) | HC4: APP138 CON EL CODIGO (C7004) + Lab 1: registre el número de fichas revisadas + Lab 2: registre el número de fichas validadas + Lab 3: registrar el número la sigla “GL” | HF4: APP138 con DX (C7002) Lab 1: número de niños y gestantes a ser verificados según aplicativo de visitas domiciliarias. Lab 2: registrar el número de niños y gestantes verificados con resultado Positivo y/o no se pudo verificar. Lab 3: registrar el número la sigla “GL” | HI4: DNI del niño(o) o gestante con codigo (C7002) Lab 1: registrar siempre la sigla “GL” Lab 2: registre la letra “N” de verificación negativa | HK4: DNI del niño(o) o gestante con codigo (C7001) + Lab 1: registrar siempre la sigla “GL” + Lab 2: registre la letra “REC” de rechazo de la VD por AS | HM4: APP138 con el DX. (C7001) + Lab 1: registrar el número de actores de sociales con acompañamiento en el mes, Lab 2: registrar el número de visita con acompañamiento 1 ó 2 según corresponda, Lab 3: registrar el número la sigla “GL” | HQ4: Reunion de coordinacion con la Red Educativa/Coordinacion Educativa (COE) de la UGEL | HS4: Reunion de concertacion con Red Educativa/COE (UGEL), para socializar la situacion de anemia y DCI y establecer la capacitacion | HU4: Importancia de los servicios basicos de la salud | HW4: Alimentacion complementaria con enfasis en el consumo de AOA | HY4: Alimentacion responsiva
G5: Lactancia Materna Exclusiva | M5: Preparación de alimentos | S5: Lactancia Materna Exclusiva | W5: Preparación de alimentos | AA5: Lactancia Materna Exclusiva | AI5: Preparación de alimentos | AQ5: Lactancia Materna Exclusiva | AY5: Preparación de alimentos | BG5: VISITA DOMICILIARIA MENORES DE 28 | BI5: TELESALUD MENORES DE 28 DIAS | BK5: VISITA DOMICILIARIA MENORES DE 28 | BM5: TELESALUD MENORES DE 28 DIAS | BO5: VISITA DOMICILIARIA MENORES DE 28 | BQ5: TELESALUD MENORES DE 28 DIAS | BS5: VISITA DOMICILIARIA MENORES DE 28 | BU5: TELESALUD MENORES DE 28 DIAS | BW5: VISITA DOMICILIARIA 1ER MOMENTO | BY5: TELESALUD | CA5: VISITA DOMICILIARIA 2DO MOMENTO | CC5: TELESALUD | CE5: VISITA DOMICILIARIA | CH5: TELESALUD | CK5: VISITA DOMICILIARIA | CQ5: TELESALUD | DA5: LME | DC5: LME | DE5: LME | DG5: LME | DI5: ALI | DK5: ALI | DM5: ALI | DO5: LME | DQ5: ALI | DS5: LME | DU5: ALI | DW5: LME | DY5: ALI | EA5: LME | EC5: ALI | EE5: LME | EG5: ALI | FM5: APP108 (ACTIVIDADES CON COMUNIDAD), CODIGO C0003 (REUNION CON COMUNIDAD), Lab.1 (NUMERO DE PARTICIPANTES) + lab.2(COO) + lab.3(001)"PROGRAMA DE ARTICULADO NUTRICIONAL"/ tipo de diagnostico es la D (DEFINITIVO) REGISTRO N°30 | FO5: APP104 (ACTIVIDADES CON MUNICIPIOS), CODIGO C0003 (REUNION CON COMUNIDAD), Lab.1 (NUMERO DE PARTICIPANTES) + lab.2(COO) + lab.3(001)"PROGRAMA DE ARTICULADO NUTRICIONAL"/ tipo de diagnostico es la D (DEFINITIVO) REGISTRO N°30 | FQ5: APP138 (ACTIVIDADES AGENTES COMUNITARIOS DE SALUD), CODIGO C0009 (SESION EDUCATIVA), Lab.1 (NUMERO DE PARTICIPANTES) + lab.2(VCO) + lab.3(001)"PROGRAMA DE ARTICULADO NUTRICIONAL"/ tipo de diagnostico es la D (DEFINITIVO) REGISTRO N°31 | FS5: APP138 (ACTIVIDADES AGENTES COMUNITARIOS DE SALUD), CODIGO C0010 (SESION DEMOSTRATIVA), Lab.1 (NUMERO DE PARTICIPANTES) + lab.2(ALI) + lab.3(001)"PROGRAMA DE ARTICULADO NUTRICIONAL"/ tipo de diagnostico es la D (DEFINITIVO) REGISTRO N°32 | FU5: Diagnóstico, prevención y tratamiento de anemia | FY5: Lactancia Materna Exclusiva o Prolongada | GC5: Alimentación, nutrición y cuidado infantil | GG5: Importancia de los servicios básicos de salud | GK5: El juego y la atención temprana | GM5: Cuidado de la gestante | HQ5: APP93 (ACTIVIDAD CON INSTITUCIONES EDUCATIVAS), CODIGO C0002 (REUNION EN INSTITUCIONES EDUCATIVAS), Lab.1 (NUMERO DE PARTICIPANTES) + lab.2(COO) + lab.3(001)"PROGRAMA DE ARTICULADO NUTRICIONAL"/ tipo de diagnostico es la D (DEFINITIVO) | HS5: APP93 (ACTIVIDAD CON INSTITUCIONES EDUCATIVAS), CODIGO C0002 (REUNION EN INSTITUCIONES EDUCATIVAS), Lab.1 (NUMERO DE PARTICIPANTES) + lab.2(FCO) + lab.3(001)"PROGRAMA DE ARTICULADO NUTRICIONAL"/ tipo de diagnostico es la D (DEFINITIVO) | HU5: APP144 (ACTIVIDAD CON DOCENTES), CODIGO C0009 SESION EDUCATIVA), Lab.1 (NUMERO DE PARTICIPANTES) + lab.2(SBS) + lab.3(001)"PROGRAMA DE ARTICULADO NUTRICIONAL"/ tipo de diagnostico es la D (DEFINITIVO) | HW5: APP144 (ACTIVIDAD CON DOCENTES), CODIGO C0009 SESION EDUCATIVA), Lab.1 (NUMERO DE PARTICIPANTES) + lab.2(ALI) + lab.3(001)"PROGRAMA DE ARTICULADO NUTRICIONAL"/ tipo de diagnostico es la D (DEFINITIVO) | HY5: APP144 (ACTIVIDAD CON DOCENTES), CODIGO C0009 SESION EDUCATIVA), Lab.1 (NUMERO DE PARTICIPANTES) + lab.2(AA) + lab.3(001)"PROGRAMA DE ARTICULADO NUTRICIONAL"/ tipo de diagnostico es la D (DEFINITIVO)
G6: Total de Participantes | H6: RN | I6: 1 - 5 meses | J6: 6 - 8 meses | K6: 9 - 11 meses | L6: S/D | M6: Total de Participantes | N6: RN | O6: 1 - 5 meses | P6: 6 - 8 meses | Q6: 9 - 11 meses | R6: S/D | S6: Total de Participantes | T6: I TRIMESTRE | U6: II TRIMESTRE | V6: III TRIMESTRE | W6: Total de Participantes | X6: I TRIMESTRE | Y6: II TRIMESTRE | Z6: III TRIMESTRE | AA6: RN | AB6: 1 - 5 meses | AC6: 6 - 8 meses | AD6: 9 - 11 meses | AE6: S/D | AF6: I TRIMESTRE | AG6: II TRIMESTRE | AH6: III TRIMESTRE | AI6: RN | AJ6: 1 - 5 meses | AK6: 6 - 8 meses | AL6: 9 - 11 meses | AM6: S/D | AN6: I TRIMESTRE | AO6: II TRIMESTRE | AP6: III TRIMESTRE | AQ6: RN | AR6: 1 - 5 meses | AS6: 6 - 8 meses | AT6: 9 - 11 meses | AU6: S/D | AV6: I TRIMESTRE | AW6: II TRIMESTRE | AX6: III TRIMESTRE | AY6: RN | AZ6: 1 - 5 meses | BA6: 6 - 8 meses | BB6: 9 - 11 meses | BC6: S/D | BD6: I TRIMESTRE | BE6: II TRIMESTRE | BF6: III TRIMESTRE | BG6: DX1=99401.03 "CONSEJERIA DE LACTANCIA MATERNA EXLUSIVA" DX2=C0011 "VISITA FAMILIAR INTEGRAL" | BI6: DX1=99401.03 "CONSEJERIA DE LACTANCIA MATERNA EXLUSIVA" DX2=99499.08 "TELEORIENTACION" | BK6: DX1=99401.04 "CONSEJERIA CORTE Y CUIDADO DEL CORDON UMBILICAL" DX2=C0011 "VISITA FAMILIAR INTEGRAL" | BM6: DX1=99401.04 "CONSEJERIA DE LACTANCIA MATERNA EXLUSIVA" DX2=99499.08 "TELEORIENTACION" | BO6: DX1=99401.10 "CONSEJERIA EN HIGIENE DEL RECIEN NACIDO Y CUIDADO EN EL HOGAR" DX2=C0011 "VISITA FAMILIAR INTEGRAL" | BQ6: DX1=99401.10 "CONSEJERIA DE LACTANCIA MATERNA EXLUSIVA" DX2=99499.08 "TELEORIENTACION" | BS6: DX1=99401.08 "CONSEJERIA DE IDENTIFICACIÓN DE SIGNOS DE ALARMA" DX2=C0011 "VISITA FAMILIAR INTEGRAL" | BU6: DX1=99401.08 "CONSEJERIA DE LACTANCIA MATERNA EXLUSIVA" DX2=99499.08 "TELEORIENTACION" | BW6: DX1=99401 "CONSEJERIA INTEGRAL " DIAG="D" LAB="EN BLANCO" DX2=C0011 "VISITA FAMILIAR INTEGRAL" DIAG="D" LAB="EN BLANCO" | BY6: DX1=99401 "CONSEJERIA INTEGRAL " DIAG="D" LAB="EN BLANCO" | CA6: En la 1° Fila: 99199.17 (suplementación preventiva) En la 2° Fila: 99401 (Consejería Integral)En la 3° Fila: C0011: (Visita familiar integral) | CC6: DX1=99401 "CONSEJERIA INTEGRAL " DIAG="D" LAB="EN BLANCO" DX2=99499.08 "TELEORIENTACION" DIAG="D" LAB="EN BLANCO" | CE6: DX1=99401 "CONSEJERIA INTEGRAL " DIAG="D" LAB="EN BLANCO" DX2=C0011 "VISITA FAMILIAR INTEGRAL" DIAG="D" LAB="EN BLANCO" | CH6: DX1=99401 "CONSEJERIA INTEGRAL " DIAG="D" LAB="EN BLANCO" DX2=99499.08 "VISITA FAMILIAR INTEGRAL" DIAG="D" LAB="EN BLANCO" | CK6: PRIMER CODIGO ES D509 "ANEMIA" DIAGNOSTICO="R" LAB="LEV,SEV,MOD(SEGÚN CORRESPONDA)" SEGUNDO CODIGO ES 99401 "CONSEJERIA INTEGRAL " DIAG="D" LAB="EN BLANCO" TERCER CODIGO ES C0011 "VISITA FAMILIAR INTEGRAL" DIAG= "D"LAB="EN BLANCO" | CQ6: PRIMER CODIGO ES D509 "ANEMIA" DIAGNOSTICO="R" LAB="LEV,SEV,MOD(SEGÚN CORRESPONDA)" SEGUNDO CODIGO ES 99401 "CONSEJERIA INTEGRAL " DIAG="D" LAB="EN BLANCO" TERCER CODIGO ES 99499.08 "TELEORIENTACION" DIAG= "D"LAB="EN BLANCO" | CW6: APP108 (ACTIVIDAD CON LA COMUNIDAD), CODIGO C0003 (REUNION EN COMUNIDAD), Lab.1 ( NÚMERO DE PARTICIPANTES), Lab.2 (1)"Implementación de grupos de apoyo"+lab.3(001)"PROGRAMA DE ARTICULADO NUTRICIONAL"/ tipoo de diagnostico es la D (DEFINITIVO) REGISTRO N°17 | CY6: APP108 (ACTIVIDAD CON LA COMUNIDAD), CODIGO C0003 (REUNION EN COMUNIDAD), Lab.1 ( NÚMERO DE PARTICIPANTES), Lab.2 (2)"Reactivación o continuidad de grupos de apoyo"+lab.3(001)"PROGRAMA DE ARTICULADO NUTRICIONAL"/ tipoo de diagnostico es la D (DEFINITIVO) REGISTRO N°17 | DA6: APP151 (ACTIVIDADES CON MUJERES), CODIGO C0009 (SESION EDUCATIVA), Lab.1 ( NÚMERO DE PARTICIPANTES), Lab.2 (NÚMERO DE SESIÓN "1,2,3 O 4")+lab.3(001)"PROGRAMA DE ARTICULADO NUTRICIONAL"/ tipoo de diagnostico es la D (DEFINITIVO) REGISTRO N°18 | DI6: APP151 (ACTIVIDADES CON MUJERES), CODIGO C0009 (SESION EDUCATIVA), Lab.1 ( NÚMERO DE PARTICIPANTES), Lab.2 (NÚMERO DE SESIÓN "5,6 O 7")+lab.3(001)"PROGRAMA DE ARTICULADO NUTRICIONAL"/ tipoo de diagnostico es la D (DEFINITIVO) | DO6: APP151 (ACTIVIDADES CON MUJERES), CODIGO C7004 (ASISTENCIA TECNICA), Lab.1 ( NÚMERO DE PARTICIPANTES), Lab.2 (LME ó ALI )+lab.3(001)"PROGRAMA DE ARTICULADO NUTRICIONAL"/ tipo de diagnostico es la D (DEFINITIVO) SE CONSIDERAN 2 ASISTENCIAS TECNICAS REGISTRO N°20 | DS6: APP151 (ACTIVIDADES CON MUJERES), CODIGO C0012 (SESIÓN DE GRUPOS DE AYUDA MUTUA), Lab.1 ( NÚMERO DE PARTICIPANTES), Lab.2 (LME ó ALI )+lab.3(001)"PROGRAMA DE ARTICULADO NUTRICIONAL"/ tipo de diagnostico es la D (DEFINITIVO) SE CONSIDERAN 4 SESIONES | EI6: APP151 (ACTIVIDADES CON MUJERES), CODIGO C7001 (REUNION DE MONITOREO), Lab.1 ( NÚMERO DE PARTICIPANTES), Lab.2 ("1 ó 2"NUMERO DE VISITA O MONITOREO)+lab.3(001)"PROGRAMA DE ARTICULADO NUTRICIONAL"/ tipo de diagnostico es la D REGISTRO N°22 | EM6: APP104 (ACTIVIDADES CON MUNICIPIOS), CODIGO C0001 (REUNION EN MUNICIPIOS), Lab.1 ( NÚMERO DE PARTICIPANTES), Lab.2 (COO) "REUNION EN COORDINACIÓN" +lab.3(001)"PROGRAMA DE ARTICULADO NUTRICIONAL"/ tipo de diagnostico es la D (DEFINITIVO) REGISTRO N°23 | EO6: APP104 (ACTIVIDADES CON MUNICIPIOS), CODIGO C0001 (REUNION EN MUNICIPIOS), Lab.1 ( NÚMERO DE PARTICIPANTES), Lab.2 (FO) "REUNION DE ORGANIZACIÓN" +lab.3(001)"PROGRAMA DE ARTICULADO NUTRICIONAL"/ tipo de diagnostico es la D (DEFINITIVO) REGISTRO N°24 | EQ6: APP96 (ACTIVIDADES CON COMITÉ MULTISECTORIAL), CODIGO C0001 (REUNION EN MUNICIPIOS), Lab.1 ( NÚMERO DE PARTICIPANTES), Lab.2 (FSE) "FASE DE SENSIBILIZACIÓN" +lab.3(001)"PROGRAMA DE ARTICULADO NUTRICIONAL"/ tipo de diagnostico es la D (DEFINITIVO) REGISTRO N°25 | ES6: APP96 (ACTIVIDADES CON COMITÉ MULTISECTORIAL), CODIGO C0004 (TALLER PARA MUNICIPIOS), Lab.1 ( NÚMERO DE PARTICIPANTES), Lab.2 (PP) "TALLER DE PLANIFICACIÓN" +lab.3(001)"PROGRAMA DE ARTICULADO NUTRICIONAL"/ tipo de diagnostico es la D (DEFINITIVO) REGISTRO N°26 | EU6: APP96 (ACTIVIDADES CON COMITÉ MULTISECTORIAL), CODIGO C7004 (ASISTENCIA TECNICA), Lab.1 ( NÚMERO DE PARTICIPANTES), Lab.2 (1) + lab.3(001)"PROGRAMA DE ARTICULADO NUTRICIONAL"/ tipo de diagnostico es la D (DEFINITIVO) | EW6: APP96 (ACTIVIDADES CON COMITÉ MULTISECTORIAL), CODIGO C7004 (ASISTENCIA TECNICA), Lab.1 ( NÚMERO DE PARTICIPANTES), Lab.2 (2) + lab.3(001)"PROGRAMA DE ARTICULADO NUTRICIONAL"/ tipo de diagnostico es la D (DEFINITIVO) | EY6: APP96 (ACTIVIDADES CON COMITÉ MULTISECTORIAL), CODIGO C7004 (ASISTENCIA TECNICA), Lab.1 ( NÚMERO DE PARTICIPANTES), Lab.2 (3) + lab.3(001)"PROGRAMA DE ARTICULADO NUTRICIONAL"/ tipo de diagnostico es la D (DEFINITIVO) | FA6: APP96 (ACTIVIDADES CON COMITÉ MULTISECTORIAL), CODIGO C7004 (ASISTENCIA TECNICA), Lab.1 ( NÚMERO DE PARTICIPANTES), Lab.2 (4) + lab.3(001)"PROGRAMA DE ARTICULADO NUTRICIONAL"/ tipo de diagnostico es la D (DEFINITIVO) | FC6: APP96 (ACTIVIDADES CON COMITÉ MULTISECTORIAL), CODIGO C7004 (ASISTENCIA TECNICA), Lab.1 ( NÚMERO DE PARTICIPANTES), Lab.2 (5) + lab.3(001)"PROGRAMA DE ARTICULADO NUTRICIONAL"/ tipo de diagnostico es la D (DEFINITIVO) | FE6: APP96 (ACTIVIDADES CON COMITÉ MULTISECTORIAL), CODIGO C7004 (ASISTENCIA TECNICA), Lab.1 ( NÚMERO DE PARTICIPANTES), Lab.2 (6) + lab.3(001)"PROGRAMA DE ARTICULADO NUTRICIONAL"/ tipo de diagnostico es la D (DEFINITIVO) | FG6: APP96 (ACTIVIDADES CON COMITÉ MULTISECTORIAL), CODIGO C7004 (ASISTENCIA TECNICA), Lab.1 ( NÚMERO DE PARTICIPANTES), Lab.2 (7) + lab.3(001)"PROGRAMA DE ARTICULADO NUTRICIONAL"/ tipo de diagnostico es la D (DEFINITIVO) | FI6: APP96 (ACTIVIDADES CON COMITÉ MULTISECTORIAL), CODIGO C7001 (REUNION DE MONITOREO), Lab.1 (1) + lab.2(001)"PROGRAMA DE ARTICULADO NUTRICIONAL"/ tipo de diagnostico es la D (DEFINITIVO) | FJ6: APP96 (ACTIVIDADES CON COMITÉ MULTISECTORIAL), CODIGO C7001 (REUNION DE MONITOREO), Lab.1 (2) + lab.2(001)"PROGRAMA DE ARTICULADO NUTRICIONAL"/ tipo de diagnostico es la D (DEFINITIVO) | FK6: APP96 (ACTIVIDADES CON COMITÉ MULTISECTORIAL), CODIGO C7003 (REUNION DE MONITOREO), Lab.1 (NUMERO DE PARTICIPANTES) + lab.2(001)"PROGRAMA DE ARTICULADO NUTRICIONAL"/ tipo de diagnostico es la D (DEFINITIVO) | FU6: DXA 1 | FW6: DXA 2 | FY6: LME 1 | GA6: LME 2 | GC6: ALI 1 | GE6: ALI 2 | GG6: SBS 1 | GI6: SBS 2 | GK6: *A* El juego y la atención temprana | GM6: G 1 | GO6: G 2 | GQ6: G 3 | GS6: G4 | GU6: G5 | GW6: G6 | GY6: G7 | HA6: G8 | HM6: PRIMER ACOMPAÑAMIENTO | HO6: SEGUNDO ACOMPAÑAMIENTO
G7: CÓDIGO HIS: C0010, Lab 1: LME | M7: CÓDIGO HIS: C0010, Lab 1 = ALI | S7: CÓDIGO HIS: C0010, LAB 1 = LME | W7: CÓDIGO HIS: C0010, LAB 1 = ALI | AA7: CÓDIGO HIS: C0010 ,LAB 1 = LME, LAB2 : AE | AI7: CÓDIGO HIS: C0010 ,LAB 1 = ALI, LAB2 : AE | AQ7: CÓDIGO HIS: C0010 ,LAB 1 = LME, LAB2=GL | AY7: CÓDIGO HIS: C0010 ,LAB 1 = ALI, LAB2 : GL | BG7: Oportuno de 1 a 7 dias | BH7: Inoportuno >= 8 dias | BI7: Oportuno de 1 a 7 dias | BJ7: Inoportuno >= 8 dias | BK7: Oportuno de 1 a 7 dias | BL7: Inoportuno >= 8 dias | BM7: Oportuno de 1 a 7 dias | BN7: Inoportuno >= 8 dias | BO7: Oportuno de 1 a 7 dias | BP7: Inoportuno >= 8 dias | BQ7: Oportuno de 1 a 7 dias | BR7: Inoportuno >= 8 dias | BS7: Oportuno de 1 a 7 dias | BT7: Inoportuno >= 8 dias | BU7: Oportuno de 1 a 7 dias | BV7: Inoportuno >= 8 dias | BW7: 2 meses | BX7: 3 meses | BY7: 2 meses | BZ7: 3 meses | CA7: 4 meses | CB7: 5 meses | CC7: 4 meses | CD7: 5 meses | CE7: 6-7 meses | CF7: 8-9 meses | CG7: 10-11 meses | CH7: 6-7 meses | CI7: 8-9 meses | CJ7: 10-12 meses | CK7: 6 meses | CL7: 7 meses | CM7: 8 meses | CN7: 9 meses | CO7: 10 meses | CP7: 11 meses | CQ7: 6 meses | CR7: 7 meses | CS7: 8 meses | CT7: 9 meses | CU7: 10 meses | CV7: 11 meses | CW7: Nº | CX7: PART. | CY7: Nº | CZ7: PART. | DA7: Nº DE ASISTENCIA TECNICA | DB7: Nº PARTICIPANTES | DC7: Nº DE ASISTENCIA TECNICA | DD7: Nº PARTICIPANTES | DE7: Nº DE ASISTENCIA TECNICA | DF7: Nº PARTICIPANTES | DG7: Nº DE ASISTENCIA TECNICA | DH7: Nº PARTICIPANTES | DI7: Nº DE ASISTENCIA TECNICA | DJ7: Nº PARTICIPANTES | DK7: Nº DE ASISTENCIA TECNICA | DL7: Nº PARTICIPANTES | DM7: Nº DE ASISTENCIA TECNICA | DN7: Nº PARTICIPANTES | DO7: Nº DE ASISTENCIA TECNICA | DP7: Nº PARTICIPANTES | DQ7: Nº DE ASISTENCIA TECNICA | DR7: Nº PARTICIPANTES | DS7: Nº DE SESION | DT7: Nº PARTICIPANTES | DU7: Nº DE SESION | DV7: Nº PARTICIPANTES | DW7: Nº DE SESION | DX7: Nº PARTICIPANTES | DY7: Nº DE SESION | DZ7: Nº PARTICIPANTES | EA7: Nº DE SESION | EB7: Nº PARTICIPANTES | EC7: Nº DE SESION | ED7: Nº PARTICIPANTES | EE7: Nº DE SESION | EF7: Nº PARTICIPANTES | EG7: Nº DE ASISTENCIA TECNICA | EH7: Nº PARTICIPANTES | EI7: Nº DE SESION | EJ7: PARTICIPANTES | EK7: Nº DE SESION | EL7: PARTICIPANTES | EM7: REUNIONES | EN7: PARTICIPANTES | EO7: REUNIONES | EP7: PARTICIPANTES | EQ7: REUNIONES | ER7: PARTICIPANTES | ES7: REUNIONES | ET7: PARTICIPANTES | EU7: ASISTENCIA TECNICA | EV7: PARTICIPANTES | EW7: ASISTENCIA TECNICA | EX7: PARTICIPANTES | EY7: ASISTENCIA TECNICA | EZ7: PARTICIPANTES | FA7: ASISTENCIA TECNICA | FB7: PARTICIPANTES | FC7: ASISTENCIA TECNICA | FD7: PARTICIPANTES | FE7: ASISTENCIA TECNICA | FF7: PARTICIPANTES | FG7: ASISTENCIA TECNICA | FH7: PARTICIPANTES | FI7: ASISTENCIA TECNICA | FJ7: ASISTENCIA TECNICA | FK7: ASISTENCIA TECNICA | FL7: PARTICIPANTES | FM7: REUNIONES | FN7: PARTICIPANTES | FO7: REUNIONES | FP7: PARTICIPANTES | FQ7: TALLER DE CAPACITACION | FR7: PARTICIPANTES | FS7: TALLER DE CAPACITACION | FT7: PARTICIPANTES | FU7: TALLER DE CAPACITACION | FV7: PARTICIPANTES | FW7: TALLER DE CAPACITACION | FX7: PARTICIPANTES | FY7: TALLER DE CAPACITACION | FZ7: PARTICIPANTES | GA7: TALLER DE CAPACITACION | GB7: PARTICIPANTES | GC7: TALLER DE CAPACITACION | GD7: PARTICIPANTES | GE7: TALLER DE CAPACITACION | GF7: PARTICIPANTES | GG7: TALLER DE CAPACITACION | GH7: PARTICIPANTES | GI7: TALLER DE CAPACITACION | GJ7: PARTICIPANTES | GK7: TALLER DE CAPACITACION | GL7: PARTICIPANTES | GM7: TALLER DE CAPACITACION | GN7: PARTICIPANTES | GO7: TALLER DE CAPACITACION | GP7: PARTICIPANTES | GQ7: TALLER DE CAPACITACION | GR7: PARTICIPANTES | GS7: TALLER DE CAPACITACION | GT7: PARTICIPANTES | GU7: TALLER DE CAPACITACION | GV7: PARTICIPANTES | GW7: TALLER DE CAPACITACION | GX7: PARTICIPANTES | GY7: TALLER DE CAPACITACION | GZ7: PARTICIPANTES | HA7: TALLER DE CAPACITACION | HB7: PARTICIPANTES | HC7: ASISTENCIAS TECNICAS | HD7: FICHAS REVISADAS | HE7: FICHAS VALIDADAS | HF7: SUPERVISIONES | HG7: A SER VERIFICADOS | HH7: VERIFICADOS | HI7: NIÑOS 0 a 11 años | HJ7: GESTANTES | HK7: NIÑOS 0 a 11 años | HL7: GESTANTES | HM7: Nº ACOMPAÑAMIENTO | HN7: Nº AGENTES COMUNITARIOS | HO7: Nº ACOMPAÑAMIENTO | HP7: Nº AGENTES COMUNITARIOS | HQ7: N° | HR7: PART. | HS7: N° | HT7: PART. | HU7: N° | HV7: PART. | HW7: N° | HX7: PART. | HY7: N° | HZ7: PART.
G8: =G9 -> 17 | H8: =H9 -> 17 | I8: =I9 -> 0 | J8: =J9 -> 0 | K8: =K9 -> 0 | L8: =L9 -> 0 | M8: =M9 -> 0 | N8: =N9 -> 0 | ... HZ8: =HZ9 -> 20
A9: AÑO | B9: MES | C9: DISTRITO | D9: MICRORED | E9: RENAES | F9: MICRORED MAZAMARI | G9: =SUM(G10:G24) -> 17 | H9: =SUM(H10:H24) -> 17 | I9: =SUM(I10:I24) -> 0 | J9: =SUM(J10:J24) -> 0 | K9: =SUM(K10:K24) -> 0 | L9: =SUM(L10:L24) -> 0 | M9: =SUM(M10:M24) -> 0 | N9: =SUM(N10:N24) -> 0 | ... HZ9: =SUM(HZ10:HZ24) -> 20
A10: 2026 | B10: 9 | C10: LLAYLLA | D10: MAZAMARI | E10: 433 | F10: BELEN | G10: 0 | H10: 0 | I10: 0 | J10: 0 | K10: 0 | L10: 0 | M10: 0 | N10: 0 | O10: 0 | P10: 0 | Q10: 0 | R10: 0 | S10: 0 | T10: 0 | U10: 0 | V10: 0 | W10: 0 | X10: 0 | Y10: 0 | Z10: 0 | AA10: 0 | AB10: 0 | AC10: 0 | AD10: 0 | AE10: 0 | AF10: 0 | AG10: 0 | AH10: 0 | AI10: 0 | AJ10: 0 | AK10: 0 | AL10: 0 | AM10: 0 | AN10: 0 | AO10: 0 | AP10: 0 | AQ10: 0 | AR10: 0 | AS10: 0 | AT10: 0 | AU10: 0 | AV10: 0 | AW10: 0 | AX10: 0 | AY10: 0 | AZ10: 0 | BA10: 2 | BB10: 4 | BC10: 0 | BD10: 0 | BE10: 0 | BF10: 0 | BG10: 2 | BH10: 0 | BI10: 0 | BJ10: 0 | BK10: 2 | BL10: 0 | BM10: 0 | BN10: 0 | BO10: 1 | BP10: 0 | BQ10: 0 | BR10: 0 | BS10: 0 | BT10: 0 | BU10: 0 | BV10: 0 | BW10: 0 | BX10: 0 | BY10: 0 | BZ10: 0 | CA10: 0 | CB10: 0 | CC10: 0 | CD10: 0 | CE10: 0 | CF10: 0 | CG10: 0 | CH10: 0 | CI10: 0 | CJ10: 0 | CK10: 0 | CL10: 0 | CM10: 0 | CN10: 0 | CO10: 0 | CP10: 0 | CQ10: 0 | CR10: 0 | CS10: 0 | CT10: 0 | CU10: 0 | CV10: 0 | CW10: 1 | CX10: 7 | CY10: 0 | CZ10: 0 | DA10: 1 | DB10: 7 | DC10: 1 | DD10: 7 | DE10: 0 | DF10: 0 | DG10: 1 | DH10: 7 | DI10: 0 | DJ10: 0 | DK10: 0 | DL10: 0 | DM10: 0 | DN10: 0 | DO10: 0 | DP10: 0 | DQ10: 0 | DR10: 0 | DS10: 0 | DT10: 0 | DU10: 0 | DV10: 0 | DW10: 0 | DX10: 0 | DY10: 0 | DZ10: 0 | EA10: 0 | EB10: 0 | EC10: 0 | ED10: 0 | EE10: 0 | EF10: 0 | EG10: 0 | EH10: 0 | EI10: 0 | EJ10: 0 | EK10: 0 | EL10: 0 | EM10: 0 | EN10: 0 | EO10: 0 | EP10: 0 | EQ10: 0 | ER10: 0 | ES10: 0 | ET10: 0 | EU10: 0 | EV10: 0 | EW10: 0 | EX10: 0 | EY10: 0 | EZ10: 0 | FA10: 0 | FB10: 0 | FC10: 0 | FD10: 0 | FE10: 0 | FF10: 0 | FG10: 0 | FH10: 0 | FI10: 0 | FJ10: 0 | FK10: 0 | FL10: 0 | FM10: 0 | FN10: 0 | FO10: 0 | FP10: 0 | FQ10: 0 | FR10: 0 | FS10: 0 | FT10: 0 | FU10: 0 | FV10: 0 | FW10: 0 | FX10: 0 | FY10: 0 | FZ10: 0 | GA10: 0 | GB10: 0 | GC10: 0 | GD10: 0 | GE10: 0 | GF10: 0 | GG10: 0 | GH10: 0 | GI10: 0 | GJ10: 0 | GK10: 0 | GL10: 0 | GM10: 0 | GN10: 0 | GO10: 0 | GP10: 0 | GQ10: 0 | GR10: 0 | GS10: 0 | GT10: 0 | GU10: 0 | GV10: 0 | GW10: 0 | GX10: 0 | GY10: 0 | GZ10: 0 | HA10: 0 | HB10: 0 | HC10: 1 | HD10: 9 | HE10: 8 | HF10: 1 | HG10: 9 | HH10: 9 | HI10: 0 | HJ10: 0 | HK10: 0 | HL10: 0 | HM10: 0 | HN10: 0 | HO10: 0 | HP10: 0 | HQ10: 1 | HR10: 5 | HS10: 1 | HT10: 5 | HU10: 2 | HV10: 10 | HW10: 1 | HX10: 5 | HY10: 1 | HZ10: 5
A11: 2026 | B11: 9 | C11: LLAYLLA | D11: MAZAMARI | E11: 491 | F11: HERMOSA PAMPA | G11: 0 | H11: 0 | I11: 0 | J11: 0 | K11: 0 | L11: 0 | M11: 0 | N11: 0 | O11: 0 | P11: 0 | Q11: 0 | R11: 0 | S11: 0 | T11: 0 | U11: 0 | V11: 0 | W11: 0 | X11: 0 | Y11: 0 | Z11: 0 | AA11: 0 | AB11: 0 | AC11: 0 | AD11: 0 | AE11: 0 | AF11: 0 | AG11: 0 | AH11: 0 | AI11: 0 | AJ11: 0 | AK11: 0 | AL11: 0 | AM11: 0 | AN11: 0 | AO11: 0 | AP11: 0 | AQ11: 0 | AR11: 0 | AS11: 0 | AT11: 0 | AU11: 0 | AV11: 0 | AW11: 0 | AX11: 0 | AY11: 0 | AZ11: 0 | BA11: 4 | BB11: 1 | BC11: 0 | BD11: 1 | BE11: 2 | BF11: 2 | BG11: 1 | BH11: 0 | BI11: 0 | BJ11: 0 | BK11: 1 | BL11: 0 | BM11: 0 | BN11: 0 | BO11: 0 | BP11: 0 | BQ11: 0 | BR11: 0 | BS11: 0 | BT11: 0 | BU11: 0 | BV11: 0 | BW11: 0 | BX11: 0 | BY11: 0 | BZ11: 0 | CA11: 1 | CB11: 0 | CC11: 0 | CD11: 0 | CE11: 1 | CF11: 1 | CG11: 0 | CH11: 0 | CI11: 0 | CJ11: 0 | CK11: 0 | CL11: 0 | CM11: 0 | CN11: 0 | CO11: 0 | CP11: 0 | CQ11: 0 | CR11: 0 | CS11: 0 | CT11: 0 | CU11: 0 | CV11: 0 | CW11: 0 | CX11: 0 | CY11: 0 | CZ11: 0 | DA11: 0 | DB11: 0 | DC11: 0 | DD11: 0 | DE11: 0 | DF11: 0 | DG11: 0 | DH11: 0 | DI11: 0 | DJ11: 0 | DK11: 0 | DL11: 0 | DM11: 0 | DN11: 0 | DO11: 0 | DP11: 0 | DQ11: 0 | DR11: 0 | DS11: 0 | DT11: 0 | DU11: 0 | DV11: 0 | DW11: 0 | DX11: 0 | DY11: 0 | DZ11: 0 | EA11: 0 | EB11: 0 | EC11: 0 | ED11: 0 | EE11: 0 | EF11: 0 | EG11: 0 | EH11: 0 | EI11: 0 | EJ11: 0 | EK11: 0 | EL11: 0 | EM11: 0 | EN11: 0 | EO11: 0 | EP11: 0 | EQ11: 0 | ER11: 0 | ES11: 0 | ET11: 0 | EU11: 0 | EV11: 0 | EW11: 0 | EX11: 0 | EY11: 0 | EZ11: 0 | FA11: 0 | FB11: 0 | FC11: 0 | FD11: 0 | FE11: 0 | FF11: 0 | FG11: 0 | FH11: 0 | FI11: 0 | FJ11: 0 | FK11: 0 | FL11: 0 | FM11: 0 | FN11: 0 | FO11: 0 | FP11: 0 | FQ11: 0 | FR11: 0 | FS11: 0 | FT11: 0 | FU11: 0 | FV11: 0 | FW11: 0 | FX11: 0 | FY11: 0 | FZ11: 0 | GA11: 0 | GB11: 0 | GC11: 0 | GD11: 0 | GE11: 0 | GF11: 0 | GG11: 0 | GH11: 0 | GI11: 0 | GJ11: 0 | GK11: 0 | GL11: 0 | GM11: 0 | GN11: 0 | GO11: 0 | GP11: 0 | GQ11: 0 | GR11: 0 | GS11: 0 | GT11: 0 | GU11: 0 | GV11: 0 | GW11: 0 | GX11: 0 | GY11: 0 | GZ11: 0 | HA11: 0 | HB11: 0 | HC11: 1 | HD11: 10 | HE11: 10 | HF11: 1 | HG11: 3 | HH11: 3 | HI11: 0 | HJ11: 0 | HK11: 0 | HL11: 0 | HM11: 0 | HN11: 0 | HO11: 0 | HP11: 0 | HQ11: 0 | HR11: 0 | HS11: 0 | HT11: 0 | HU11: 0 | HV11: 0 | HW11: 0 | HX11: 0 | HY11: 0 | HZ11: 0
A12: 2026 | B12: 9 | C12: LLAYLLA | D12: MAZAMARI | E12: 490 | F12: LLAYLLA | G12: 0 | H12: 0 | I12: 0 | J12: 0 | K12: 0 | L12: 0 | M12: 0 | N12: 0 | O12: 0 | P12: 0 | Q12: 0 | R12: 0 | S12: 0 | T12: 0 | U12: 0 | V12: 0 | W12: 0 | X12: 0 | Y12: 0 | Z12: 0 | AA12: 0 | AB12: 0 | AC12: 0 | AD12: 0 | AE12: 0 | AF12: 0 | AG12: 0 | AH12: 0 | AI12: 0 | AJ12: 0 | AK12: 0 | AL12: 0 | AM12: 0 | AN12: 0 | AO12: 0 | AP12: 0 | AQ12: 0 | AR12: 0 | AS12: 0 | AT12: 0 | AU12: 0 | AV12: 0 | AW12: 0 | AX12: 0 | AY12: 0 | AZ12: 0 | BA12: 1 | BB12: 0 | BC12: 0 | BD12: 0 | BE12: 0 | BF12: 0 | BG12: 1 | BH12: 0 | BI12: 0 | BJ12: 0 | BK12: 1 | BL12: 0 | BM12: 0 | BN12: 0 | BO12: 1 | BP12: 0 | BQ12: 0 | BR12: 0 | BS12: 1 | BT12: 0 | BU12: 0 | BV12: 0 | BW12: 0 | BX12: 0 | BY12: 0 | BZ12: 0 | CA12: 4 | CB12: 0 | CC12: 0 | CD12: 0 | CE12: 1 | CF12: 2 | CG12: 0 | CH12: 0 | CI12: 0 | CJ12: 0 | CK12: 0 | CL12: 0 | CM12: 0 | CN12: 0 | CO12: 0 | CP12: 0 | CQ12: 0 | CR12: 0 | CS12: 0 | CT12: 0 | CU12: 0 | CV12: 0 | CW12: 0 | CX12: 0 | CY12: 0 | CZ12: 0 | DA12: 0 | DB12: 0 | DC12: 0 | DD12: 0 | DE12: 0 | DF12: 0 | DG12: 0 | DH12: 0 | DI12: 0 | DJ12: 0 | DK12: 0 | DL12: 0 | DM12: 0 | DN12: 0 | DO12: 0 | DP12: 0 | DQ12: 0 | DR12: 0 | DS12: 0 | DT12: 0 | DU12: 0 | DV12: 0 | DW12: 0 | DX12: 0 | DY12: 0 | DZ12: 0 | EA12: 0 | EB12: 0 | EC12: 0 | ED12: 0 | EE12: 0 | EF12: 0 | EG12: 0 | EH12: 0 | EI12: 0 | EJ12: 0 | EK12: 0 | EL12: 0 | EM12: 0 | EN12: 0 | EO12: 0 | EP12: 0 | EQ12: 0 | ER12: 0 | ES12: 0 | ET12: 0 | EU12: 0 | EV12: 0 | EW12: 0 | EX12: 0 | EY12: 0 | EZ12: 0 | FA12: 0 | FB12: 0 | FC12: 0 | FD12: 0 | FE12: 0 | FF12: 0 | FG12: 0 | FH12: 0 | FI12: 0 | FJ12: 0 | FK12: 0 | FL12: 0 | FM12: 0 | FN12: 0 | FO12: 0 | FP12: 0 | FQ12: 0 | FR12: 0 | FS12: 0 | FT12: 0 | FU12: 0 | FV12: 0 | FW12: 0 | FX12: 0 | FY12: 0 | FZ12: 0 | GA12: 0 | GB12: 0 | GC12: 0 | GD12: 0 | GE12: 0 | GF12: 0 | GG12: 0 | GH12: 0 | GI12: 0 | GJ12: 0 | GK12: 0 | GL12: 0 | GM12: 0 | GN12: 0 | GO12: 0 | GP12: 0 | GQ12: 0 | GR12: 0 | GS12: 0 | GT12: 0 | GU12: 0 | GV12: 0 | GW12: 0 | GX12: 0 | GY12: 0 | GZ12: 0 | HA12: 0 | HB12: 0 | HC12: 1 | HD12: 26 | HE12: 26 | HF12: 1 | HG12: 5 | HH12: 5 | HI12: 0 | HJ12: 0 | HK12: 0 | HL12: 0 | HM12: 0 | HN12: 0 | HO12: 0 | HP12: 0 | HQ12: 0 | HR12: 0 | HS12: 0 | HT12: 0 | HU12: 0 | HV12: 0 | HW12: 0 | HX12: 0 | HY12: 0 | HZ12: 0
A13: 2026 | B13: 9 | C13: MAZAMARI | D13: MAZAMARI | E13: 16911 | F13: BUENOS AIRES -TZIRIARI | G13: 0 | H13: 0 | I13: 0 | J13: 0 | K13: 0 | L13: 0 | M13: 0 | N13: 0 | O13: 0 | P13: 0 | Q13: 0 | R13: 0 | S13: 0 | T13: 0 | U13: 0 | V13: 0 | W13: 0 | X13: 0 | Y13: 0 | Z13: 0 | AA13: 0 | AB13: 0 | AC13: 0 | AD13: 0 | AE13: 0 | AF13: 0 | AG13: 0 | AH13: 0 | AI13: 0 | AJ13: 0 | AK13: 0 | AL13: 0 | AM13: 0 | AN13: 0 | AO13: 0 | AP13: 0 | AQ13: 0 | AR13: 0 | AS13: 0 | AT13: 0 | AU13: 0 | AV13: 0 | AW13: 0 | AX13: 0 | AY13: 0 | AZ13: 0 | BA13: 0 | BB13: 2 | BC13: 0 | BD13: 0 | BE13: 4 | BF13: 0 | BG13: 0 | BH13: 0 | BI13: 0 | BJ13: 0 | BK13: 0 | BL13: 0 | BM13: 0 | BN13: 0 | BO13: 0 | BP13: 0 | BQ13: 0 | BR13: 0 | BS13: 0 | BT13: 0 | BU13: 0 | BV13: 0 | BW13: 0 | BX13: 0 | BY13: 0 | BZ13: 0 | CA13: 0 | CB13: 0 | CC13: 0 | CD13: 0 | CE13: 0 | CF13: 1 | CG13: 0 | CH13: 0 | CI13: 0 | CJ13: 0 | CK13: 0 | CL13: 0 | CM13: 0 | CN13: 0 | CO13: 0 | CP13: 0 | CQ13: 0 | CR13: 0 | CS13: 0 | CT13: 0 | CU13: 0 | CV13: 0 | CW13: 0 | CX13: 0 | CY13: 0 | CZ13: 0 | DA13: 0 | DB13: 0 | DC13: 0 | DD13: 0 | DE13: 0 | DF13: 0 | DG13: 0 | DH13: 0 | DI13: 0 | DJ13: 0 | DK13: 0 | DL13: 0 | DM13: 0 | DN13: 0 | DO13: 1 | DP13: 3 | DQ13: 0 | DR13: 0 | DS13: 1 | DT13: 3 | DU13: 0 | DV13: 0 | DW13: 1 | DX13: 3 | DY13: 0 | DZ13: 0 | EA13: 1 | EB13: 3 | EC13: 0 | ED13: 0 | EE13: 1 | EF13: 3 | EG13: 0 | EH13: 0 | EI13: 0 | EJ13: 0 | EK13: 0 | EL13: 0 | EM13: 0 | EN13: 0 | EO13: 0 | EP13: 0 | EQ13: 0 | ER13: 0 | ES13: 0 | ET13: 0 | EU13: 0 | EV13: 0 | EW13: 0 | EX13: 0 | EY13: 0 | EZ13: 0 | FA13: 0 | FB13: 0 | FC13: 0 | FD13: 0 | FE13: 0 | FF13: 0 | FG13: 0 | FH13: 0 | FI13: 0 | FJ13: 0 | FK13: 0 | FL13: 0 | FM13: 0 | FN13: 0 | FO13: 0 | FP13: 0 | FQ13: 0 | FR13: 0 | FS13: 0 | FT13: 0 | FU13: 0 | FV13: 0 | FW13: 0 | FX13: 0 | FY13: 0 | FZ13: 0 | GA13: 0 | GB13: 0 | GC13: 0 | GD13: 0 | GE13: 0 | GF13: 0 | GG13: 0 | GH13: 0 | GI13: 0 | GJ13: 0 | GK13: 0 | GL13: 0 | GM13: 0 | GN13: 0 | GO13: 0 | GP13: 0 | GQ13: 0 | GR13: 0 | GS13: 0 | GT13: 0 | GU13: 0 | GV13: 0 | GW13: 0 | GX13: 0 | GY13: 0 | GZ13: 0 | HA13: 0 | HB13: 0 | HC13: 1 | HD13: 7 | HE13: 7 | HF13: 1 | HG13: 1 | HH13: 1 | HI13: 0 | HJ13: 0 | HK13: 0 | HL13: 0 | HM13: 0 | HN13: 0 | HO13: 0 | HP13: 0 | HQ13: 0 | HR13: 0 | HS13: 0 | HT13: 0 | HU13: 0 | HV13: 0 | HW13: 0 | HX13: 0 | HY13: 0 | HZ13: 0
A14: 2026 | B14: 9 | C14: MAZAMARI | D14: MAZAMARI | E14: 435 | F14: CAPIRUSHARI | G14: 0 | H14: 0 | I14: 0 | J14: 0 | K14: 0 | L14: 0 | M14: 0 | N14: 0 | O14: 0 | P14: 0 | Q14: 0 | R14: 0 | S14: 0 | T14: 0 | U14: 0 | V14: 0 | W14: 0 | X14: 0 | Y14: 0 | Z14: 0 | AA14: 0 | AB14: 0 | AC14: 0 | AD14: 0 | AE14: 0 | AF14: 0 | AG14: 0 | AH14: 0 | AI14: 0 | AJ14: 0 | AK14: 0 | AL14: 0 | AM14: 0 | AN14: 0 | AO14: 0 | AP14: 0 | AQ14: 0 | AR14: 0 | AS14: 0 | AT14: 0 | AU14: 0 | AV14: 0 | AW14: 0 | AX14: 0 | AY14: 0 | AZ14: 0 | BA14: 5 | BB14: 3 | BC14: 0 | BD14: 2 | BE14: 3 | BF14: 0 | BG14: 0 | BH14: 0 | BI14: 0 | BJ14: 0 | BK14: 3 | BL14: 0 | BM14: 0 | BN14: 0 | BO14: 3 | BP14: 0 | BQ14: 0 | BR14: 0 | BS14: 0 | BT14: 0 | BU14: 0 | BV14: 0 | BW14: 0 | BX14: 0 | BY14: 0 | BZ14: 0 | CA14: 1 | CB14: 0 | CC14: 0 | CD14: 0 | CE14: 4 | CF14: 2 | CG14: 3 | CH14: 0 | CI14: 0 | CJ14: 0 | CK14: 0 | CL14: 0 | CM14: 0 | CN14: 0 | CO14: 0 | CP14: 0 | CQ14: 0 | CR14: 0 | CS14: 0 | CT14: 0 | CU14: 0 | CV14: 0 | CW14: 0 | CX14: 0 | CY14: 0 | CZ14: 0 | DA14: 0 | DB14: 0 | DC14: 0 | DD14: 0 | DE14: 0 | DF14: 0 | DG14: 0 | DH14: 0 | DI14: 0 | DJ14: 0 | DK14: 0 | DL14: 0 | DM14: 0 | DN14: 0 | DO14: 0 | DP14: 0 | DQ14: 0 | DR14: 0 | DS14: 0 | DT14: 0 | DU14: 0 | DV14: 0 | DW14: 0 | DX14: 0 | DY14: 0 | DZ14: 0 | EA14: 0 | EB14: 0 | EC14: 0 | ED14: 0 | EE14: 0 | EF14: 0 | EG14: 0 | EH14: 0 | EI14: 0 | EJ14: 0 | EK14: 0 | EL14: 0 | EM14: 0 | EN14: 0 | EO14: 0 | EP14: 0 | EQ14: 0 | ER14: 0 | ES14: 0 | ET14: 0 | EU14: 0 | EV14: 0 | EW14: 0 | EX14: 0 | EY14: 0 | EZ14: 0 | FA14: 0 | FB14: 0 | FC14: 0 | FD14: 0 | FE14: 0 | FF14: 0 | FG14: 0 | FH14: 0 | FI14: 0 | FJ14: 0 | FK14: 0 | FL14: 0 | FM14: 0 | FN14: 0 | FO14: 0 | FP14: 0 | FQ14: 0 | FR14: 0 | FS14: 0 | FT14: 0 | FU14: 0 | FV14: 0 | FW14: 0 | FX14: 0 | FY14: 0 | FZ14: 0 | GA14: 0 | GB14: 0 | GC14: 0 | GD14: 0 | GE14: 0 | GF14: 0 | GG14: 0 | GH14: 0 | GI14: 0 | GJ14: 0 | GK14: 0 | GL14: 0 | GM14: 0 | GN14: 0 | GO14: 0 | GP14: 0 | GQ14: 0 | GR14: 0 | GS14: 0 | GT14: 0 | GU14: 0 | GV14: 0 | GW14: 0 | GX14: 0 | GY14: 0 | GZ14: 0 | HA14: 0 | HB14: 0 | HC14: 2 | HD14: 43 | HE14: 43 | HF14: 1 | HG14: 3 | HH14: 3 | HI14: 0 | HJ14: 0 | HK14: 0 | HL14: 0 | HM14: 0 | HN14: 0 | HO14: 0 | HP14: 0 | HQ14: 0 | HR14: 0 | HS14: 0 | HT14: 0 | HU14: 0 | HV14: 0 | HW14: 0 | HX14: 0 | HY14: 0 | HZ14: 0
A15: 2026 | B15: 9 | C15: MAZAMARI | D15: MAZAMARI | E15: 437 | F15: COMUNIDAD NATIVA DE PANGA | G15: 0 | H15: 0 | I15: 0 | J15: 0 | K15: 0 | L15: 0 | M15: 0 | N15: 0 | O15: 0 | P15: 0 | Q15: 0 | R15: 0 | S15: 0 | T15: 0 | U15: 0 | V15: 0 | W15: 0 | X15: 0 | Y15: 0 | Z15: 0 | AA15: 0 | AB15: 0 | AC15: 0 | AD15: 0 | AE15: 0 | AF15: 0 | AG15: 0 | AH15: 0 | AI15: 0 | AJ15: 0 | AK15: 0 | AL15: 0 | AM15: 0 | AN15: 0 | AO15: 0 | AP15: 0 | AQ15: 0 | AR15: 0 | AS15: 0 | AT15: 0 | AU15: 0 | AV15: 0 | AW15: 0 | AX15: 0 | AY15: 0 | AZ15: 0 | BA15: 6 | BB15: 6 | BC15: 0 | BD15: 0 | BE15: 0 | BF15: 0 | BG15: 0 | BH15: 0 | BI15: 0 | BJ15: 0 | BK15: 1 | BL15: 0 | BM15: 0 | BN15: 0 | BO15: 1 | BP15: 0 | BQ15: 0 | BR15: 0 | BS15: 0 | BT15: 0 | BU15: 0 | BV15: 0 | BW15: 0 | BX15: 0 | BY15: 0 | BZ15: 0 | CA15: 0 | CB15: 0 | CC15: 0 | CD15: 0 | CE15: 1 | CF15: 6 | CG15: 4 | CH15: 0 | CI15: 0 | CJ15: 0 | CK15: 0 | CL15: 0 | CM15: 0 | CN15: 0 | CO15: 0 | CP15: 0 | CQ15: 0 | CR15: 0 | CS15: 0 | CT15: 0 | CU15: 0 | CV15: 0 | CW15: 0 | CX15: 0 | CY15: 0 | CZ15: 0 | DA15: 1 | DB15: 5 | DC15: 1 | DD15: 5 | DE15: 0 | DF15: 0 | DG15: 0 | DH15: 0 | DI15: 0 | DJ15: 0 | DK15: 0 | DL15: 0 | DM15: 0 | DN15: 0 | DO15: 0 | DP15: 0 | DQ15: 0 | DR15: 0 | DS15: 0 | DT15: 0 | DU15: 0 | DV15: 0 | DW15: 0 | DX15: 0 | DY15: 0 | DZ15: 0 | EA15: 0 | EB15: 0 | EC15: 0 | ED15: 0 | EE15: 0 | EF15: 0 | EG15: 0 | EH15: 0 | EI15: 0 | EJ15: 0 | EK15: 0 | EL15: 0 | EM15: 0 | EN15: 0 | EO15: 0 | EP15: 0 | EQ15: 0 | ER15: 0 | ES15: 0 | ET15: 0 | EU15: 0 | EV15: 0 | EW15: 0 | EX15: 0 | EY15: 0 | EZ15: 0 | FA15: 0 | FB15: 0 | FC15: 0 | FD15: 0 | FE15: 0 | FF15: 0 | FG15: 0 | FH15: 0 | FI15: 0 | FJ15: 0 | FK15: 0 | FL15: 0 | FM15: 0 | FN15: 0 | FO15: 0 | FP15: 0 | FQ15: 0 | FR15: 0 | FS15: 0 | FT15: 0 | FU15: 0 | FV15: 0 | FW15: 0 | FX15: 0 | FY15: 0 | FZ15: 0 | GA15: 0 | GB15: 0 | GC15: 0 | GD15: 0 | GE15: 0 | GF15: 0 | GG15: 0 | GH15: 0 | GI15: 0 | GJ15: 0 | GK15: 0 | GL15: 0 | GM15: 0 | GN15: 0 | GO15: 0 | GP15: 0 | GQ15: 0 | GR15: 0 | GS15: 0 | GT15: 0 | GU15: 0 | GV15: 0 | GW15: 0 | GX15: 0 | GY15: 0 | GZ15: 0 | HA15: 0 | HB15: 0 | HC15: 1 | HD15: 24 | HE15: 24 | HF15: 1 | HG15: 3 | HH15: 3 | HI15: 0 | HJ15: 0 | HK15: 0 | HL15: 0 | HM15: 0 | HN15: 0 | HO15: 0 | HP15: 0 | HQ15: 0 | HR15: 0 | HS15: 0 | HT15: 0 | HU15: 0 | HV15: 0 | HW15: 0 | HX15: 0 | HY15: 0 | HZ15: 0
A16: 2026 | B16: 9 | C16: MAZAMARI | D16: MAZAMARI | E16: 16908 | F16: GLORIABAMBA | G16: 0 | H16: 0 | I16: 0 | J16: 0 | K16: 0 | L16: 0 | M16: 0 | N16: 0 | O16: 0 | P16: 0 | Q16: 0 | R16: 0 | S16: 0 | T16: 0 | U16: 0 | V16: 0 | W16: 0 | X16: 0 | Y16: 0 | Z16: 0 | AA16: 0 | AB16: 0 | AC16: 0 | AD16: 0 | AE16: 0 | AF16: 0 | AG16: 0 | AH16: 0 | AI16: 0 | AJ16: 0 | AK16: 0 | AL16: 0 | AM16: 0 | AN16: 0 | AO16: 0 | AP16: 0 | AQ16: 0 | AR16: 0 | AS16: 0 | AT16: 0 | AU16: 0 | AV16: 0 | AW16: 0 | AX16: 0 | AY16: 0 | AZ16: 0 | BA16: 4 | BB16: 2 | BC16: 0 | BD16: 1 | BE16: 1 | BF16: 1 | BG16: 3 | BH16: 0 | BI16: 0 | BJ16: 0 | BK16: 3 | BL16: 1 | BM16: 0 | BN16: 0 | BO16: 0 | BP16: 4 | BQ16: 0 | BR16: 0 | BS16: 0 | BT16: 0 | BU16: 0 | BV16: 0 | BW16: 1 | BX16: 0 | BY16: 0 | BZ16: 0 | CA16: 1 | CB16: 2 | CC16: 0 | CD16: 0 | CE16: 2 | CF16: 1 | CG16: 1 | CH16: 0 | CI16: 0 | CJ16: 0 | CK16: 0 | CL16: 0 | CM16: 0 | CN16: 0 | CO16: 1 | CP16: 0 | CQ16: 0 | CR16: 0 | CS16: 0 | CT16: 0 | CU16: 0 | CV16: 0 | CW16: 0 | CX16: 0 | CY16: 0 | CZ16: 0 | DA16: 0 | DB16: 0 | DC16: 0 | DD16: 0 | DE16: 0 | DF16: 0 | DG16: 0 | DH16: 0 | DI16: 0 | DJ16: 0 | DK16: 0 | DL16: 0 | DM16: 0 | DN16: 0 | DO16: 0 | DP16: 0 | DQ16: 0 | DR16: 0 | DS16: 0 | DT16: 0 | DU16: 0 | DV16: 0 | DW16: 0 | DX16: 0 | DY16: 0 | DZ16: 0 | EA16: 0 | EB16: 0 | EC16: 0 | ED16: 0 | EE16: 0 | EF16: 0 | EG16: 0 | EH16: 0 | EI16: 0 | EJ16: 0 | EK16: 0 | EL16: 0 | EM16: 0 | EN16: 0 | EO16: 0 | EP16: 0 | EQ16: 0 | ER16: 0 | ES16: 0 | ET16: 0 | EU16: 0 | EV16: 0 | EW16: 0 | EX16: 0 | EY16: 0 | EZ16: 0 | FA16: 0 | FB16: 0 | FC16: 0 | FD16: 0 | FE16: 0 | FF16: 0 | FG16: 0 | FH16: 0 | FI16: 0 | FJ16: 0 | FK16: 0 | FL16: 0 | FM16: 0 | FN16: 0 | FO16: 0 | FP16: 0 | FQ16: 0 | FR16: 0 | FS16: 0 | FT16: 0 | FU16: 0 | FV16: 0 | FW16: 0 | FX16: 0 | FY16: 0 | FZ16: 0 | GA16: 0 | GB16: 0 | GC16: 0 | GD16: 0 | GE16: 0 | GF16: 0 | GG16: 0 | GH16: 0 | GI16: 0 | GJ16: 0 | GK16: 0 | GL16: 0 | GM16: 0 | GN16: 0 | GO16: 0 | GP16: 0 | GQ16: 0 | GR16: 0 | GS16: 0 | GT16: 0 | GU16: 0 | GV16: 0 | GW16: 0 | GX16: 0 | GY16: 0 | GZ16: 0 | HA16: 0 | HB16: 0 | HC16: 2 | HD16: 18 | HE16: 18 | HF16: 1 | HG16: 2 | HH16: 2 | HI16: 0 | HJ16: 0 | HK16: 0 | HL16: 0 | HM16: 0 | HN16: 0 | HO16: 0 | HP16: 0 | HQ16: 0 | HR16: 0 | HS16: 0 | HT16: 0 | HU16: 0 | HV16: 0 | HW16: 0 | HX16: 0 | HY16: 0 | HZ16: 0
A17: 2026 | B17: 9 | C17: MAZAMARI | D17: MAZAMARI | E17: 34721 | F17: LURINCHINCHA | G17: 0 | H17: 0 | I17: 0 | J17: 0 | K17: 0 | L17: 0 | M17: 0 | N17: 0 | O17: 0 | P17: 0 | Q17: 0 | R17: 0 | S17: 0 | T17: 0 | U17: 0 | V17: 0 | W17: 0 | X17: 0 | Y17: 0 | Z17: 0 | AA17: 0 | AB17: 0 | AC17: 0 | AD17: 0 | AE17: 0 | AF17: 0 | AG17: 0 | AH17: 0 | AI17: 0 | AJ17: 0 | AK17: 0 | AL17: 0 | AM17: 0 | AN17: 0 | AO17: 0 | AP17: 0 | AQ17: 0 | AR17: 0 | AS17: 0 | AT17: 0 | AU17: 0 | AV17: 0 | AW17: 0 | AX17: 0 | AY17: 0 | AZ17: 0 | BA17: 0 | BB17: 0 | BC17: 0 | BD17: 0 | BE17: 0 | BF17: 0 | BG17: 0 | BH17: 0 | BI17: 0 | BJ17: 0 | BK17: 0 | BL17: 0 | BM17: 0 | BN17: 0 | BO17: 0 | BP17: 0 | BQ17: 0 | BR17: 0 | BS17: 0 | BT17: 0 | BU17: 0 | BV17: 0 | BW17: 0 | BX17: 0 | BY17: 0 | BZ17: 0 | CA17: 4 | CB17: 0 | CC17: 0 | CD17: 0 | CE17: 0 | CF17: 0 | CG17: 0 | CH17: 0 | CI17: 0 | CJ17: 0 | CK17: 1 | CL17: 0 | CM17: 0 | CN17: 0 | CO17: 0 | CP17: 0 | CQ17: 0 | CR17: 0 | CS17: 0 | CT17: 0 | CU17: 0 | CV17: 0 | CW17: 0 | CX17: 0 | CY17: 0 | CZ17: 0 | DA17: 0 | DB17: 0 | DC17: 0 | DD17: 0 | DE17: 0 | DF17: 0 | DG17: 0 | DH17: 0 | DI17: 0 | DJ17: 0 | DK17: 0 | DL17: 0 | DM17: 0 | DN17: 0 | DO17: 0 | DP17: 0 | DQ17: 0 | DR17: 0 | DS17: 0 | DT17: 0 | DU17: 0 | DV17: 0 | DW17: 0 | DX17: 0 | DY17: 0 | DZ17: 0 | EA17: 0 | EB17: 0 | EC17: 0 | ED17: 0 | EE17: 0 | EF17: 0 | EG17: 0 | EH17: 0 | EI17: 0 | EJ17: 0 | EK17: 0 | EL17: 0 | EM17: 0 | EN17: 0 | EO17: 0 | EP17: 0 | EQ17: 0 | ER17: 0 | ES17: 0 | ET17: 0 | EU17: 0 | EV17: 0 | EW17: 0 | EX17: 0 | EY17: 0 | EZ17: 0 | FA17: 0 | FB17: 0 | FC17: 0 | FD17: 0 | FE17: 0 | FF17: 0 | FG17: 0 | FH17: 0 | FI17: 0 | FJ17: 0 | FK17: 0 | FL17: 0 | FM17: 0 | FN17: 0 | FO17: 0 | FP17: 0 | FQ17: 0 | FR17: 0 | FS17: 0 | FT17: 0 | FU17: 0 | FV17: 0 | FW17: 0 | FX17: 0 | FY17: 0 | FZ17: 0 | GA17: 0 | GB17: 0 | GC17: 0 | GD17: 0 | GE17: 0 | GF17: 0 | GG17: 0 | GH17: 0 | GI17: 0 | GJ17: 0 | GK17: 0 | GL17: 0 | GM17: 0 | GN17: 0 | GO17: 0 | GP17: 0 | GQ17: 0 | GR17: 0 | GS17: 0 | GT17: 0 | GU17: 0 | GV17: 0 | GW17: 0 | GX17: 0 | GY17: 0 | GZ17: 0 | HA17: 0 | HB17: 0 | HC17: 2 | HD17: 14 | HE17: 14 | HF17: 0 | HG17: 0 | HH17: 0 | HI17: 0 | HJ17: 0 | HK17: 0 | HL17: 0 | HM17: 0 | HN17: 0 | HO17: 0 | HP17: 0 | HQ17: 1 | HR17: 1 | HS17: 0 | HT17: 0 | HU17: 1 | HV17: 5 | HW17: 1 | HX17: 5 | HY17: 1 | HZ17: 5
A18: 2026 | B18: 9 | C18: MAZAMARI | D18: MAZAMARI | E18: 434 | F18: MAZAMARI | G18: 17 | H18: 17 | I18: 0 | J18: 0 | K18: 0 | L18: 0 | M18: 0 | N18: 0 | O18: 0 | P18: 0 | Q18: 0 | R18: 0 | S18: 0 | T18: 0 | U18: 0 | V18: 0 | W18: 0 | X18: 0 | Y18: 0 | Z18: 0 | AA18: 0 | AB18: 0 | AC18: 0 | AD18: 0 | AE18: 0 | AF18: 0 | AG18: 0 | AH18: 0 | AI18: 0 | AJ18: 0 | AK18: 0 | AL18: 0 | AM18: 0 | AN18: 0 | AO18: 0 | AP18: 0 | AQ18: 0 | AR18: 0 | AS18: 0 | AT18: 0 | AU18: 0 | AV18: 0 | AW18: 0 | AX18: 0 | AY18: 0 | AZ18: 0 | BA18: 12 | BB18: 8 | BC18: 0 | BD18: 0 | BE18: 0 | BF18: 0 | BG18: 14 | BH18: 3 | BI18: 0 | BJ18: 0 | BK18: 14 | BL18: 3 | BM18: 0 | BN18: 0 | BO18: 0 | BP18: 0 | BQ18: 0 | BR18: 0 | BS18: 0 | BT18: 0 | BU18: 0 | BV18: 0 | BW18: 0 | BX18: 0 | BY18: 0 | BZ18: 0 | CA18: 10 | CB18: 8 | CC18: 0 | CD18: 0 | CE18: 2 | CF18: 3 | CG18: 0 | CH18: 0 | CI18: 0 | CJ18: 0 | CK18: 0 | CL18: 0 | CM18: 0 | CN18: 4 | CO18: 0 | CP18: 0 | CQ18: 0 | CR18: 0 | CS18: 0 | CT18: 0 | CU18: 0 | CV18: 0 | CW18: 0 | CX18: 0 | CY18: 0 | CZ18: 0 | DA18: 0 | DB18: 0 | DC18: 0 | DD18: 0 | DE18: 0 | DF18: 0 | DG18: 0 | DH18: 0 | DI18: 0 | DJ18: 0 | DK18: 0 | DL18: 0 | DM18: 0 | DN18: 0 | DO18: 0 | DP18: 0 | DQ18: 0 | DR18: 0 | DS18: 0 | DT18: 0 | DU18: 0 | DV18: 0 | DW18: 0 | DX18: 0 | DY18: 0 | DZ18: 0 | EA18: 0 | EB18: 0 | EC18: 0 | ED18: 0 | EE18: 0 | EF18: 0 | EG18: 0 | EH18: 0 | EI18: 0 | EJ18: 0 | EK18: 0 | EL18: 0 | EM18: 0 | EN18: 0 | EO18: 0 | EP18: 0 | EQ18: 0 | ER18: 0 | ES18: 0 | ET18: 0 | EU18: 0 | EV18: 0 | EW18: 0 | EX18: 0 | EY18: 0 | EZ18: 0 | FA18: 0 | FB18: 0 | FC18: 0 | FD18: 0 | FE18: 0 | FF18: 0 | FG18: 0 | FH18: 0 | FI18: 0 | FJ18: 0 | FK18: 0 | FL18: 0 | FM18: 0 | FN18: 0 | FO18: 0 | FP18: 0 | FQ18: 0 | FR18: 0 | FS18: 0 | FT18: 0 | FU18: 0 | FV18: 0 | FW18: 0 | FX18: 0 | FY18: 0 | FZ18: 0 | GA18: 0 | GB18: 0 | GC18: 0 | GD18: 0 | GE18: 0 | GF18: 0 | GG18: 0 | GH18: 0 | GI18: 0 | GJ18: 0 | GK18: 0 | GL18: 0 | GM18: 0 | GN18: 0 | GO18: 0 | GP18: 0 | GQ18: 0 | GR18: 0 | GS18: 0 | GT18: 0 | GU18: 0 | GV18: 0 | GW18: 0 | GX18: 0 | GY18: 0 | GZ18: 0 | HA18: 0 | HB18: 0 | HC18: 0 | HD18: 0 | HE18: 0 | HF18: 2 | HG18: 10 | HH18: 10 | HI18: 0 | HJ18: 0 | HK18: 0 | HL18: 0 | HM18: 0 | HN18: 0 | HO18: 0 | HP18: 0 | HQ18: 0 | HR18: 0 | HS18: 0 | HT18: 0 | HU18: 0 | HV18: 0 | HW18: 0 | HX18: 0 | HY18: 0 | HZ18: 0
A19: 2026 | B19: 9 | C19: MAZAMARI | D19: MAZAMARI | E19: 436 | F19: PUEBLO LIBRE DE PAURIALI | G19: 0 | H19: 0 | I19: 0 | J19: 0 | K19: 0 | L19: 0 | M19: 0 | N19: 0 | O19: 0 | P19: 0 | Q19: 0 | R19: 0 | S19: 0 | T19: 0 | U19: 0 | V19: 0 | W19: 0 | X19: 0 | Y19: 0 | Z19: 0 | AA19: 0 | AB19: 0 | AC19: 0 | AD19: 0 | AE19: 0 | AF19: 0 | AG19: 0 | AH19: 0 | AI19: 0 | AJ19: 0 | AK19: 0 | AL19: 0 | AM19: 0 | AN19: 0 | AO19: 0 | AP19: 0 | AQ19: 0 | AR19: 0 | AS19: 0 | AT19: 0 | AU19: 0 | AV19: 0 | AW19: 0 | AX19: 0 | AY19: 0 | AZ19: 0 | BA19: 8 | BB19: 1 | BC19: 0 | BD19: 2 | BE19: 0 | BF19: 0 | BG19: 3 | BH19: 0 | BI19: 0 | BJ19: 0 | BK19: 3 | BL19: 0 | BM19: 0 | BN19: 0 | BO19: 3 | BP19: 0 | BQ19: 0 | BR19: 0 | BS19: 0 | BT19: 0 | BU19: 0 | BV19: 0 | BW19: 0 | BX19: 0 | BY19: 0 | BZ19: 0 | CA19: 0 | CB19: 0 | CC19: 0 | CD19: 0 | CE19: 2 | CF19: 2 | CG19: 0 | CH19: 0 | CI19: 0 | CJ19: 0 | CK19: 0 | CL19: 0 | CM19: 0 | CN19: 0 | CO19: 0 | CP19: 0 | CQ19: 0 | CR19: 0 | CS19: 0 | CT19: 0 | CU19: 0 | CV19: 0 | CW19: 0 | CX19: 0 | CY19: 0 | CZ19: 0 | DA19: 0 | DB19: 0 | DC19: 0 | DD19: 0 | DE19: 0 | DF19: 0 | DG19: 0 | DH19: 0 | DI19: 0 | DJ19: 0 | DK19: 0 | DL19: 0 | DM19: 0 | DN19: 0 | DO19: 0 | DP19: 0 | DQ19: 0 | DR19: 0 | DS19: 0 | DT19: 0 | DU19: 0 | DV19: 0 | DW19: 0 | DX19: 0 | DY19: 0 | DZ19: 0 | EA19: 0 | EB19: 0 | EC19: 0 | ED19: 0 | EE19: 0 | EF19: 0 | EG19: 0 | EH19: 0 | EI19: 0 | EJ19: 0 | EK19: 0 | EL19: 0 | EM19: 0 | EN19: 0 | EO19: 0 | EP19: 0 | EQ19: 0 | ER19: 0 | ES19: 0 | ET19: 0 | EU19: 0 | EV19: 0 | EW19: 0 | EX19: 0 | EY19: 0 | EZ19: 0 | FA19: 0 | FB19: 0 | FC19: 0 | FD19: 0 | FE19: 0 | FF19: 0 | FG19: 0 | FH19: 0 | FI19: 0 | FJ19: 0 | FK19: 0 | FL19: 0 | FM19: 0 | FN19: 0 | FO19: 0 | FP19: 0 | FQ19: 0 | FR19: 0 | FS19: 0 | FT19: 0 | FU19: 0 | FV19: 0 | FW19: 0 | FX19: 0 | FY19: 0 | FZ19: 0 | GA19: 0 | GB19: 0 | GC19: 0 | GD19: 0 | GE19: 0 | GF19: 0 | GG19: 0 | GH19: 0 | GI19: 0 | GJ19: 0 | GK19: 0 | GL19: 0 | GM19: 0 | GN19: 0 | GO19: 0 | GP19: 0 | GQ19: 0 | GR19: 0 | GS19: 0 | GT19: 0 | GU19: 0 | GV19: 0 | GW19: 0 | GX19: 0 | GY19: 0 | GZ19: 0 | HA19: 0 | HB19: 0 | HC19: 2 | HD19: 29 | HE19: 29 | HF19: 2 | HG19: 3 | HH19: 3 | HI19: 0 | HJ19: 0 | HK19: 0 | HL19: 0 | HM19: 0 | HN19: 0 | HO19: 0 | HP19: 0 | HQ19: 0 | HR19: 0 | HS19: 0 | HT19: 0 | HU19: 0 | HV19: 0 | HW19: 0 | HX19: 0 | HY19: 0 | HZ19: 0
A20: 2026 | B20: 9 | C20: MAZAMARI | D20: MAZAMARI | E20: 34003 | F20: SAN FRANCISCO DE CUBARO | G20: 0 | H20: 0 | I20: 0 | J20: 0 | K20: 0 | L20: 0 | M20: 0 | N20: 0 | O20: 0 | P20: 0 | Q20: 0 | R20: 0 | S20: 0 | T20: 0 | U20: 0 | V20: 0 | W20: 0 | X20: 0 | Y20: 0 | Z20: 0 | AA20: 0 | AB20: 0 | AC20: 0 | AD20: 0 | AE20: 0 | AF20: 0 | AG20: 0 | AH20: 0 | AI20: 0 | AJ20: 0 | AK20: 0 | AL20: 0 | AM20: 0 | AN20: 0 | AO20: 0 | AP20: 0 | AQ20: 0 | AR20: 0 | AS20: 0 | AT20: 0 | AU20: 0 | AV20: 0 | AW20: 0 | AX20: 0 | AY20: 0 | AZ20: 0 | BA20: 3 | BB20: 0 | BC20: 0 | BD20: 0 | BE20: 3 | BF20: 1 | BG20: 2 | BH20: 0 | BI20: 0 | BJ20: 0 | BK20: 2 | BL20: 0 | BM20: 0 | BN20: 0 | BO20: 0 | BP20: 0 | BQ20: 0 | BR20: 0 | BS20: 0 | BT20: 0 | BU20: 0 | BV20: 0 | BW20: 0 | BX20: 0 | BY20: 0 | BZ20: 0 | CA20: 1 | CB20: 0 | CC20: 0 | CD20: 0 | CE20: 0 | CF20: 1 | CG20: 0 | CH20: 0 | CI20: 0 | CJ20: 0 | CK20: 0 | CL20: 0 | CM20: 0 | CN20: 0 | CO20: 0 | CP20: 0 | CQ20: 0 | CR20: 0 | CS20: 0 | CT20: 0 | CU20: 0 | CV20: 0 | CW20: 0 | CX20: 0 | CY20: 0 | CZ20: 0 | DA20: 0 | DB20: 0 | DC20: 0 | DD20: 0 | DE20: 0 | DF20: 0 | DG20: 0 | DH20: 0 | DI20: 0 | DJ20: 0 | DK20: 0 | DL20: 0 | DM20: 0 | DN20: 0 | DO20: 0 | DP20: 0 | DQ20: 0 | DR20: 0 | DS20: 0 | DT20: 0 | DU20: 0 | DV20: 0 | DW20: 0 | DX20: 0 | DY20: 0 | DZ20: 0 | EA20: 0 | EB20: 0 | EC20: 0 | ED20: 0 | EE20: 0 | EF20: 0 | EG20: 0 | EH20: 0 | EI20: 0 | EJ20: 0 | EK20: 0 | EL20: 0 | EM20: 0 | EN20: 0 | EO20: 0 | EP20: 0 | EQ20: 0 | ER20: 0 | ES20: 0 | ET20: 0 | EU20: 0 | EV20: 0 | EW20: 0 | EX20: 0 | EY20: 0 | EZ20: 0 | FA20: 0 | FB20: 0 | FC20: 0 | FD20: 0 | FE20: 0 | FF20: 0 | FG20: 0 | FH20: 0 | FI20: 0 | FJ20: 0 | FK20: 0 | FL20: 0 | FM20: 0 | FN20: 0 | FO20: 0 | FP20: 0 | FQ20: 0 | FR20: 0 | FS20: 0 | FT20: 0 | FU20: 0 | FV20: 0 | FW20: 0 | FX20: 0 | FY20: 0 | FZ20: 0 | GA20: 0 | GB20: 0 | GC20: 0 | GD20: 0 | GE20: 0 | GF20: 0 | GG20: 0 | GH20: 0 | GI20: 0 | GJ20: 0 | GK20: 0 | GL20: 0 | GM20: 0 | GN20: 0 | GO20: 0 | GP20: 0 | GQ20: 0 | GR20: 0 | GS20: 0 | GT20: 0 | GU20: 0 | GV20: 0 | GW20: 0 | GX20: 0 | GY20: 0 | GZ20: 0 | HA20: 0 | HB20: 0 | HC20: 1 | HD20: 6 | HE20: 6 | HF20: 0 | HG20: 0 | HH20: 0 | HI20: 0 | HJ20: 0 | HK20: 0 | HL20: 0 | HM20: 0 | HN20: 0 | HO20: 0 | HP20: 0 | HQ20: 0 | HR20: 0 | HS20: 0 | HT20: 0 | HU20: 0 | HV20: 0 | HW20: 0 | HX20: 0 | HY20: 0 | HZ20: 0
A21: 2026 | B21: 9 | C21: MAZAMARI | D21: MAZAMARI | E21: 16909 | F21: TEORIA | G21: 0 | H21: 0 | I21: 0 | J21: 0 | K21: 0 | L21: 0 | M21: 0 | N21: 0 | O21: 0 | P21: 0 | Q21: 0 | R21: 0 | S21: 0 | T21: 0 | U21: 0 | V21: 0 | W21: 0 | X21: 0 | Y21: 0 | Z21: 0 | AA21: 0 | AB21: 0 | AC21: 0 | AD21: 0 | AE21: 0 | AF21: 0 | AG21: 0 | AH21: 0 | AI21: 0 | AJ21: 0 | AK21: 0 | AL21: 0 | AM21: 0 | AN21: 0 | AO21: 0 | AP21: 0 | AQ21: 0 | AR21: 0 | AS21: 0 | AT21: 0 | AU21: 0 | AV21: 0 | AW21: 0 | AX21: 0 | AY21: 0 | AZ21: 0 | BA21: 4 | BB21: 2 | BC21: 0 | BD21: 0 | BE21: 4 | BF21: 2 | BG21: 0 | BH21: 0 | BI21: 0 | BJ21: 0 | BK21: 2 | BL21: 0 | BM21: 0 | BN21: 0 | BO21: 2 | BP21: 0 | BQ21: 0 | BR21: 0 | BS21: 0 | BT21: 0 | BU21: 0 | BV21: 0 | BW21: 0 | BX21: 0 | BY21: 0 | BZ21: 0 | CA21: 0 | CB21: 0 | CC21: 0 | CD21: 0 | CE21: 3 | CF21: 1 | CG21: 0 | CH21: 0 | CI21: 0 | CJ21: 0 | CK21: 0 | CL21: 0 | CM21: 0 | CN21: 0 | CO21: 0 | CP21: 0 | CQ21: 0 | CR21: 0 | CS21: 0 | CT21: 0 | CU21: 0 | CV21: 0 | CW21: 0 | CX21: 0 | CY21: 0 | CZ21: 0 | DA21: 0 | DB21: 0 | DC21: 0 | DD21: 0 | DE21: 0 | DF21: 0 | DG21: 0 | DH21: 0 | DI21: 0 | DJ21: 0 | DK21: 0 | DL21: 0 | DM21: 0 | DN21: 0 | DO21: 0 | DP21: 0 | DQ21: 0 | DR21: 0 | DS21: 0 | DT21: 0 | DU21: 0 | DV21: 0 | DW21: 0 | DX21: 0 | DY21: 0 | DZ21: 0 | EA21: 0 | EB21: 0 | EC21: 0 | ED21: 0 | EE21: 0 | EF21: 0 | EG21: 0 | EH21: 0 | EI21: 0 | EJ21: 0 | EK21: 0 | EL21: 0 | EM21: 0 | EN21: 0 | EO21: 0 | EP21: 0 | EQ21: 0 | ER21: 0 | ES21: 0 | ET21: 0 | EU21: 0 | EV21: 0 | EW21: 0 | EX21: 0 | EY21: 0 | EZ21: 0 | FA21: 0 | FB21: 0 | FC21: 0 | FD21: 0 | FE21: 0 | FF21: 0 | FG21: 0 | FH21: 0 | FI21: 0 | FJ21: 0 | FK21: 0 | FL21: 0 | FM21: 0 | FN21: 0 | FO21: 0 | FP21: 0 | FQ21: 0 | FR21: 0 | FS21: 0 | FT21: 0 | FU21: 0 | FV21: 0 | FW21: 0 | FX21: 0 | FY21: 0 | FZ21: 0 | GA21: 0 | GB21: 0 | GC21: 0 | GD21: 0 | GE21: 0 | GF21: 0 | GG21: 0 | GH21: 0 | GI21: 0 | GJ21: 0 | GK21: 0 | GL21: 0 | GM21: 0 | GN21: 0 | GO21: 0 | GP21: 0 | GQ21: 0 | GR21: 0 | GS21: 0 | GT21: 0 | GU21: 0 | GV21: 0 | GW21: 0 | GX21: 0 | GY21: 0 | GZ21: 0 | HA21: 0 | HB21: 0 | HC21: 2 | HD21: 13 | HE21: 13 | HF21: 1 | HG21: 2 | HH21: 2 | HI21: 0 | HJ21: 0 | HK21: 0 | HL21: 0 | HM21: 2 | HN21: 2 | HO21: 2 | HP21: 4 | HQ21: 0 | HR21: 0 | HS21: 0 | HT21: 0 | HU21: 0 | HV21: 0 | HW21: 0 | HX21: 0 | HY21: 0 | HZ21: 0
... A24: 2026 | B24: 9 | C24: PANGOA | D24: MAZAMARI | E24: 438 | F24: TZIRIARI | G24: 0 | H24: 0 | I24: 0 | J24: 0 | K24: 0 | L24: 0 | M24: 0 | N24: 0 | O24: 0 | P24: 0 | Q24: 0 | R24: 0 | S24: 0 | T24: 0 | U24: 0 | V24: 0 | W24: 0 | X24: 0 | Y24: 0 | Z24: 0 | AA24: 0 | AB24: 0 | AC24: 0 | AD24: 0 | AE24: 0 | AF24: 0 | AG24: 0 | AH24: 0 | AI24: 0 | AJ24: 0 | AK24: 0 | AL24: 0 | AM24: 0 | AN24: 0 | AO24: 0 | AP24: 0 | AQ24: 0 | AR24: 0 | AS24: 0 | AT24: 0 | AU24: 0 | AV24: 0 | AW24: 0 | AX24: 0 | AY24: 0 | AZ24: 0 | BA24: 4 | BB24: 1 | BC24: 0 | BD24: 0 | BE24: 6 | BF24: 7 | BG24: 0 | BH24: 0 | BI24: 0 | BJ24: 0 | BK24: 1 | BL24: 1 | BM24: 0 | BN24: 0 | BO24: 1 | BP24: 1 | BQ24: 0 | BR24: 0 | BS24: 0 | BT24: 0 | BU24: 0 | BV24: 0 | BW24: 0 | BX24: 0 | BY24: 0 | BZ24: 0 | CA24: 3 | CB24: 0 | CC24: 0 | CD24: 0 | CE24: 1 | CF24: 1 | CG24: 0 | CH24: 0 | CI24: 0 | CJ24: 0 | CK24: 0 | CL24: 0 | CM24: 0 | CN24: 0 | CO24: 0 | CP24: 0 | CQ24: 0 | CR24: 0 | CS24: 0 | CT24: 0 | CU24: 0 | CV24: 0 | CW24: 0 | CX24: 0 | CY24: 0 | CZ24: 0 | DA24: 0 | DB24: 0 | DC24: 0 | DD24: 0 | DE24: 0 | DF24: 0 | DG24: 0 | DH24: 0 | DI24: 0 | DJ24: 0 | DK24: 0 | DL24: 0 | DM24: 0 | DN24: 0 | DO24: 0 | DP24: 0 | DQ24: 0 | DR24: 0 | DS24: 0 | DT24: 0 | DU24: 0 | DV24: 0 | DW24: 0 | DX24: 0 | DY24: 0 | DZ24: 0 | EA24: 0 | EB24: 0 | EC24: 0 | ED24: 0 | EE24: 0 | EF24: 0 | EG24: 0 | EH24: 0 | EI24: 0 | EJ24: 0 | EK24: 0 | EL24: 0 | EM24: 0 | EN24: 0 | EO24: 0 | EP24: 0 | EQ24: 0 | ER24: 0 | ES24: 0 | ET24: 0 | EU24: 0 | EV24: 0 | EW24: 0 | EX24: 0 | EY24: 0 | EZ24: 0 | FA24: 0 | FB24: 0 | FC24: 0 | FD24: 0 | FE24: 0 | FF24: 0 | FG24: 0 | FH24: 0 | FI24: 0 | FJ24: 0 | FK24: 0 | FL24: 0 | FM24: 0 | FN24: 0 | FO24: 0 | FP24: 0 | FQ24: 0 | FR24: 0 | FS24: 0 | FT24: 0 | FU24: 0 | FV24: 0 | FW24: 0 | FX24: 0 | FY24: 0 | FZ24: 0 | GA24: 0 | GB24: 0 | GC24: 0 | GD24: 0 | GE24: 0 | GF24: 0 | GG24: 0 | GH24: 0 | GI24: 0 | GJ24: 0 | GK24: 0 | GL24: 0 | GM24: 0 | GN24: 0 | GO24: 0 | GP24: 0 | GQ24: 0 | GR24: 0 | GS24: 0 | GT24: 0 | GU24: 0 | GV24: 0 | GW24: 0 | GX24: 0 | GY24: 0 | GZ24: 0 | HA24: 0 | HB24: 0 | HC24: 2 | HD24: 46 | HE24: 46 | HF24: 0 | HG24: 0 | HH24: 0 | HI24: 0 | HJ24: 0 | HK24: 0 | HL24: 0 | HM24: 1 | HN24: 2 | HO24: 2 | HP24: 5 | HQ24: 1 | HR24: 2 | HS24: 0 | HT24: 0 | HU24: 1 | HV24: 10 | HW24: 1 | HX24: 10 | HY24: 1 | HZ24: 10

Sheet PP002-Materno
A1: MENSUAL | G1: 2.1.1 SUB PRODUCTO 3341201: FAMILIAS DE LA GESTANTE Y PUERPERA QUE RECIBEN CONSEJERÍA EN EL HOGAR A TRAVES DE LA VISITA DOMICILIARIA PARA PROMOVER PRÁCTICAS SALUDABLES EN SALUD SEXUAL Y REPRODUCTIVA DURANTE LA VISITA DOMICILIARIA | S1: 2.1.2 SUB PRODUCTO 3341202: AGENTES COMUNITARIOS DE SALUD CAPACITADOS REALIZAN ORIENTACION A FAMILIAS DE GESTANTES Y PUERPERAS EN PRÁCTICAS SALUDABLES EN SALUD SEXUAL Y REPRODUCTIVA | AE1: 2.1.3 SUB PRODUCTO 3341203: FAMILIA DE ADOLESCENTES QUE RECIBEN SESIONES EDUCATIVAS Y DEMOSTRATIVAS PARA PROMOVER PRÁCTICAS SALUDABLES EN SALUD SEXUAL INTEGRAL | AS1: 2.2.1 SUB PRODUCTO 3341204: DOCENTES CAPACITADOS REALIZAN EDUCACION SEXUAL INTEGRAL DESDE LA INSTITUCIÓN EDUCATIVA | CM1: 2.2.2 SUB PRODUCTO 3341205: FUNCIONARIOS MUNICIPALES CAPACITADOS GESTIONAN ESPACIOS EDUCATIVOS PARA PROMOVER LA SALUD SEXUAL Y REPRODUCTIVA
A2: AÑO | B2: MES | C2: DISTRITO | D2: MICRORED | E2: Código RENAES | F2: Departamento, Red, Provincia, Distrito y Establecimiento | G2: 1.1. Consejería durante el Periodo Gestacional REGISTRO Nº 39 Y 40 | M2: 1.2. Consejería durante el periodo post natal REGISTRO Nº 41 Y 42 | S2: GESTANTE 2.1. 1° Orientación: Entre la 28 y 40 semana (tercer trimestre) de gestación REGISTRO Nº 43 | U2: PUERPERA 2.2. 2° Orientación: En los 7 primeros días de producido el parto REGISTRO Nº 44 | W2: 2.3. Capacitación a agentes comunitarios de Salud en Salud Sexual y Reproductiva REGISTRO Nº 45 | AC2: 2.4. Referencia comunitaria realizadas por Agente Comunitario de Salud: REGISTRO Nº 46 | AE2: 3.1. Sesiones educativas y demostrativas a familias de adolescentes REGISTRO Nº 47 | AS2: 4.1. Incidencia ante la Unidad de Gestión Educativa Local–UGEL REGISTRO Nº 48 | AU2: 4.2. Incidencia con directivos y docentes de instituciones educativas REGISTRO Nº 49 | AW2: 4.3. Capacitación a docentes y directivos de instituciones educativas REGISTROS Nº 49 | BY2: 4.4. Docentes capacitados que realizan sesiones de aprendizaje de salud sexual a los adolescentes. REGISTRO Nº 50 | CM2: 5.1. Acciones de incidencia y asesoramiento REGISTRO Nº 51 | CP2: 5.2. Capacitación a Funcionarios Municipales/Comité de Gestión Local/Comité Multisectorial de Salud. REGISTRO Nº 52 | CV2: REGISTRO Nº 53 5.3. Reunión de Monitoreo con Funcionarios Municipales/Comité de Gestión Local/Comité Multisectorial de Salud para la implementación de espacios educativos para promover la salud sexual y reproductiva | CX2: 5.4. Reunión de Monitoreo con Funcionarios Municipales/Comité de Gestión Local/Comité Multisectorial de Salud para la implementación de espacios educativos para promover la salud sexual y reproductiva
G3: VISITA DOMICILIARIA (FUR) | J3: TELEORIENTACION | M3: VISITA DOMICILIARIA (PUERPERA) | P3: TELEORIENTACION | W3: Para indicar Vigilancia Comunitaria | Y3: Para prácticas saludables | AA3: Referencia Comunal | AW3: Sexualidad LAB 1 | BA3: Identidad LAB 2 | BE3: Cambios en la Pubertad y Adolescencia LAB 3 | BI3: Igualdad de Genero LAB 4 | BM3: Relaciones afectivas y libres de violencia. LAB 5 | BQ3: Previniendo el abuso sexual y maltrato. LAB 6 | BU3: Planificando el futuro. LAB 7 | BY3: DOCENTES DE IE. NIVEL PRIMARIO | CM3: Implementación de la Casa Materna | CN3: Implementación del Centros de Desarrollo Juvenil. | CO3: Implementacion de Programas educativos comunicacionales en salud sexual y reproductiva. | CP3: Implementación y funcionamiento de la Casa Materna | CR3: Implementación y funcionamiento de Centros de Desarrollo Juvenil. | CT3: Si la reunion tiene como agenda la implementacion de Programas educativos comunicacionales en salud sexual y reproductiva. | CV3: Implementación y funcionamiento de la Casa Materna | CW3: Implementación y funcionamiento de Centros de Desarrollo Juvenil. | CX3: Implementación y funcionamiento de la Casa Materna REGISTRO Nº 54 | DA3: Implementación y funcionamiento de Centros de Desarrollo Juvenil. REGISTRO Nº 54
G4: ---------------- | H4: 1° Consejería | I4: 2° Consejería | J4: ---------------- | K4: 1° Consejería | L4: 2° Consejería | M4: 1° Consejería | N4: 2° Consejería | O4: ---------------- | P4: 1° Consejería | Q4: 2° Consejería | R4: ---------------- | AE4: 1er eje temático: Sexualidad. | AG4: 2do eje temático: Identidad. | AI4: 3er eje temático: Cambios en la Pubertad y Adolescencia. | AK4: 4to eje temático: Igualdad de género. | AM4: 5to eje temático: Relaciones afectivas y libres de violencia. | AO4: 6to eje temático: Previniendo el abuso sexual y maltrato. | AQ4: 7to eje temático: Planificando el futuro. | AW4: Docente Nivel Primaria LAB TP | AY4: Docente Nivel Secundaria LAB TS | BA4: Docente Nivel Primaria LAB TP | BC4: Docente Nivel Secundaria LAB TS | BE4: Docente Nivel Primaria LAB TP | BG4: Docente Nivel Secundaria LAB TS | BI4: Docente Nivel Primaria LAB TP | BK4: Docente Nivel Secundaria LAB TS | BM4: Docente Nivel Primaria LAB TP | BO4: Docente Nivel Secundaria LAB TS | BQ4: Docente Nivel Primaria LAB TP | BS4: Docente Nivel Secundaria LAB TS | BU4: Docente Nivel Primaria LAB TP | BW4: Docente Nivel Secundaria LAB TS | BY4: Sexualidad | CA4: Identidad | CC4: Cambios en la Pubertad y Adolescencia | CE4: Igualdad de género | CG4: Relaciones afectivas y libres de violencia | CI4: Previniendo el abuso sexual y maltrato | CK4: Planificando el futuro
